BEGIN:VCALENDAR
VERSION:2.0
PRODID:-//Loppemarkeder NU - 2026 - ECPv6.15.20//NONSGML v1.0//EN
CALSCALE:GREGORIAN
METHOD:PUBLISH
X-WR-CALNAME:Loppemarkeder NU - 2026
X-ORIGINAL-URL:https://loppemarkeder.nu
X-WR-CALDESC:Begivenheder for Loppemarkeder NU - 2026
REFRESH-INTERVAL;VALUE=DURATION:PT1H
X-Robots-Tag:noindex
X-PUBLISHED-TTL:PT1H
BEGIN:VTIMEZONE
TZID:Europe/Copenhagen
BEGIN:DAYLIGHT
TZOFFSETFROM:+0100
TZOFFSETTO:+0200
TZNAME:CEST
DTSTART:20250330T010000
END:DAYLIGHT
BEGIN:STANDARD
TZOFFSETFROM:+0200
TZOFFSETTO:+0100
TZNAME:CET
DTSTART:20251026T010000
END:STANDARD
BEGIN:DAYLIGHT
TZOFFSETFROM:+0100
TZOFFSETTO:+0200
TZNAME:CEST
DTSTART:20260329T010000
END:DAYLIGHT
BEGIN:STANDARD
TZOFFSETFROM:+0200
TZOFFSETTO:+0100
TZNAME:CET
DTSTART:20261025T010000
END:STANDARD
BEGIN:DAYLIGHT
TZOFFSETFROM:+0100
TZOFFSETTO:+0200
TZNAME:CEST
DTSTART:20270328T010000
END:DAYLIGHT
BEGIN:STANDARD
TZOFFSETFROM:+0200
TZOFFSETTO:+0100
TZNAME:CET
DTSTART:20271031T010000
END:STANDARD
END:VTIMEZONE
BEGIN:VEVENT
DTSTART;TZID=Europe/Copenhagen:20260503T070000
DTEND;TZID=Europe/Copenhagen:20260503T140000
DTSTAMP:20260425T005630
CREATED:20260410T143019Z
LAST-MODIFIED:20260410T143345Z
UID:10005556-1777791600-1777816800@loppemarkeder.nu
SUMMARY:Rødovre loppemarked v/Avarta og RSIK
DESCRIPTION:1 stadeplads koster Kr. 100\,00 \nVi lukker ind Kl. 7.00 \nhttps://www.facebook.com/events/1838102363537245/?event_time_id=1838102400203908
URL:https://loppemarkeder.nu/loppemarked/roedovre-loppemarked-v-avarta-og-rsik-2/
LOCATION:Dragør Fortet\, Dragør Fortet\, Dragør
CATEGORIES:Loppemarked
ATTACH;FMTTYPE=image/jpeg:https://loppemarkeder.nu/wp-content/uploads/2026/04/668674995_34669737149337710_5475761735910223973_n.jpg
END:VEVENT
BEGIN:VEVENT
DTSTART;TZID=Europe/Copenhagen:20260509T090000
DTEND;TZID=Europe/Copenhagen:20260509T150000
DTSTAMP:20260425T005630
CREATED:20260410T143949Z
LAST-MODIFIED:20260410T143949Z
UID:10005559-1778317200-1778338800@loppemarkeder.nu
SUMMARY:HIF’s Gamle Kæmper Kræmmer- og loppemarked
DESCRIPTION:HIF’s Gamle Kæmper Kræmmer- og loppemarked
URL:https://loppemarkeder.nu/loppemarked/hifs-gamle-kaemper-kraemmer-og-loppemarked/2026-05-09/
LOCATION:Hvidovre Rådhus\, Hvidovre Rådhus
CATEGORIES:Kræmmermarked,Loppemarked
ATTACH;FMTTYPE=image/jpeg:https://loppemarkeder.nu/wp-content/uploads/2026/04/668728396_933869849353696_7029707893104719849_n.jpg
END:VEVENT
BEGIN:VEVENT
DTSTART;TZID=Europe/Copenhagen:20260509T100000
DTEND;TZID=Europe/Copenhagen:20260509T130000
DTSTAMP:20260425T005630
CREATED:20260406T122106Z
LAST-MODIFIED:20260406T123430Z
UID:10005495-1778320800-1778331600@loppemarkeder.nu
SUMMARY:Loppemarked - Hendriksholm Kirke
DESCRIPTION:LoppemarkedetKære alle Hendriksholmere 😃Vi vil gerne gentage succesen fra sidste år med at holde loppemarked på pladsen foran Hendriksholm kirke.Sæt X i kalenderen LØRDAG den 9. maj 2026 fra kl. 10-14Pris pr. stade er kr. 50 og man kan kun bestille en stade pr. husstand i grundejerforeningen – der er ca. 35 stade (ca. 6 x 8 m2)\, så det er først-til-mølle-princippet.Tilmelding senest mandag den 20. april via MobilePay nr. 20811003 (Jane Haslund). Husk navn og vejnr.\, vil du stå sammen med en veninde / ven\, skriv det på ved tilmeldingen\, så vil vi gøre alt for\, at I kan stå sammen.Er der ikke fuldt booket efter fristens udløb\, bliver der åbnet for at man kan købe mere end en stade.Vi har bestilt en pandekagevogn\, der vil være pandekager til de første 150 og kirken vil stå for at sælge kaffe / te\, kage\, grillpølser\, øl/sodavand/vand/juice til rimelige priser 😃Vi håber igen på stor opbakning til dette arrangement og at vi vil få en rigtig hyggelig dag sammen i Grundejerforeningen Hendriksholm.Indtægterne fra salg af stader vil gå til Menighedsplejens julehjælp ved Hendriksholm Kirke.Der vil blive annonceret på de sociale medier.Vi sætter sedler op ved kirken og rundt omkring i området – Damhustorvet – stationerne mm. ca. 1 uges tid før loppemarkedet.Vi håber alle vil sprede budskabet😃Har I nogle spørgsmål – så skriv endelig til Jane Haslund på messenger\, sms eller send en mail til:janehaslund@gmail.comGrundejerforeningen HendriksholmHendriksholm kirkeLopperne
URL:https://loppemarkeder.nu/loppemarked/loppemarked-8/
LOCATION:Damhus Boulevard 70\, 2610 Rødovre\, Denmark\, Damhus Boulevard 70\, 2610 Rødovre\, Denmark
CATEGORIES:Loppemarked
ATTACH;FMTTYPE=image/jpeg:https://loppemarkeder.nu/wp-content/uploads/2026/04/656928749_1338922421618663_7027599331570305361_n.jpg
END:VEVENT
BEGIN:VEVENT
DTSTART;TZID=Europe/Copenhagen:20260524T100000
DTEND;TZID=Europe/Copenhagen:20260524T130000
DTSTAMP:20260425T005630
CREATED:20260423T152516Z
LAST-MODIFIED:20260423T154409Z
UID:10005632-1779616800-1779627600@loppemarkeder.nu
SUMMARY:LOPPEMARKED I NYAGER KVARTERET (Nørregårdsvej og Udlodden)
DESCRIPTION:🛍️ LOPPEMARKED I KVARTERET – KOM OG GØR ET KUP! 🛍️ \nKære naboer \nSøndag den 24. maj kl. 10:00–13:00 stille vi op til et hyggeligt loppemarked fyldt med gode fund og nabosnak ☀️ \n👉 Kom og kig – eller vær med selv! \n🔹 Opstilling fra kl. 09:30\nPak din bod ud i god tid og vær klar\, når gæsterne kommer. \n♻️ VIL DU HAVE EN BOD? ♻️\nDet er GRATIS at deltage! \nDu må sætte bod op:\n– Langs fortovet på Nørregårdsvej (nr. 174–182)\n– På Udlodden ud for de deltagende husstande \n📝 TILMELDING\nSkriv en kommentar her på siden for at reservere plads – det koster ingenting\, vi vil bare gerne vide\, hvor mange vi bliver 😊 \n👨‍👩‍👧‍👦 Invitér endelig venner og familie – jo flere\, jo sjovere og jo bedre loppestemning! \n⏰ Arrangementet slutter kl. 13:00\, og boder pakkes ned umiddelbart efter. \n🚗 OBS: Vejen spærres ikke\, da det er en gennemgående vej. \n🌧️ Dårligt vejr?\nSå aflyses loppemarkedet – hold øje her på siden for opdateringer. \nVi glæder os til en hyggelig dag med masser af loppeguld! ✨
URL:https://loppemarkeder.nu/loppemarked/loppemarked-i-nyager-kvarteret-noerregaardsvej-og-udlodden/
LOCATION:Nørregårdsvej 180\, 2610 Rødovre\, Danmark\, Nørregårdsvej 180\, 2610 Rødovre\, Danmark
CATEGORIES:Loppemarked
ATTACH;FMTTYPE=image/jpeg:https://loppemarkeder.nu/wp-content/uploads/2026/04/672688952_10167724154089657_4914176997910120083_n.jpg
END:VEVENT
BEGIN:VEVENT
DTSTART;TZID=Europe/Copenhagen:20260530T090000
DTEND;TZID=Europe/Copenhagen:20260530T150000
DTSTAMP:20260425T005630
CREATED:20260410T143949Z
LAST-MODIFIED:20260410T143949Z
UID:10005560-1780131600-1780153200@loppemarkeder.nu
SUMMARY:HIF’s Gamle Kæmper Kræmmer- og loppemarked
DESCRIPTION:HIF’s Gamle Kæmper Kræmmer- og loppemarked
URL:https://loppemarkeder.nu/loppemarked/hifs-gamle-kaemper-kraemmer-og-loppemarked/2026-05-30/
LOCATION:Hvidovre Rådhus\, Hvidovre Rådhus
CATEGORIES:Kræmmermarked,Loppemarked
ATTACH;FMTTYPE=image/jpeg:https://loppemarkeder.nu/wp-content/uploads/2026/04/668728396_933869849353696_7029707893104719849_n.jpg
END:VEVENT
BEGIN:VEVENT
DTSTART;TZID=Europe/Copenhagen:20260531T100000
DTEND;TZID=Europe/Copenhagen:20260531T130000
DTSTAMP:20260425T005630
CREATED:20260317T064236Z
LAST-MODIFIED:20260317T064237Z
UID:10005316-1780221600-1780232400@loppemarkeder.nu
SUMMARY:Loppemarkeder på Damhustorvet
DESCRIPTION:Sæt allerede nu kryds i kalenderen og kom forbi til årets loppemarkeder på Damhustorvet i Rødovre – eller book en stand og sælg ud fra gemmerne.
URL:https://loppemarkeder.nu/loppemarked/loppemarkeder-paa-damhustorvet-2/
LOCATION:Damhustorvet 11A\, Rødovre\, Damhustorvet 11A\, Rødovre
CATEGORIES:Børneloppemarked,Loppemarked
ATTACH;FMTTYPE=image/jpeg:https://loppemarkeder.nu/wp-content/uploads/2026/03/645943911_18002743295892474_3108127705083028059_n.jpg
END:VEVENT
BEGIN:VEVENT
DTSTART;TZID=Europe/Copenhagen:20260605T100000
DTEND;TZID=Europe/Copenhagen:20260605T150000
DTSTAMP:20260425T005630
CREATED:20260329T145538Z
LAST-MODIFIED:20260329T150708Z
UID:10005461-1780653600-1780671600@loppemarkeder.nu
SUMMARY:Stort Loppemarked i Rødovre Centrum – Bliv kræmmer Grundlovsdag (fredag)
DESCRIPTION:Fredag den 5. juni 2026 kl. 10–15Mange kræmmere kender markedet fra sidste år – og tilbagemeldingerne har været meget positive. \n🛍️ 𝗦𝗧𝗔𝗡𝗗𝗣𝗥𝗜𝗦𝗘𝗥• Almindelig stand (9 m²): 175 kr.• Hjørnestand: 275 kr.• Bord (80×180 cm): 60 kr.• Stol: 30 kr. \n🚚 𝗣𝗥𝗔𝗞𝗧𝗜𝗦𝗞 𝗜𝗡𝗙𝗢• Opstilling fra kl. 08.00• Nem aflæsning tæt på området• Gratis parkering i centerets p‑huse• Stande (indendørs) fordeles i hele Rødovre Centrum \n🎨 𝗛𝗩𝗔𝗗 𝗠Å 𝗗𝗨 𝗦Æ𝗟𝗚𝗘?✔ Brugte private lopper✔ Hjemmelavet husflid: strik\, keramik\, kunst\, hobbyting m.m.❌ Ikke tilladt: nye varer\, professionelle kræmmere\, madvarer \n📩 𝗕𝗢𝗢𝗞 𝗘𝗡 𝗦𝗧𝗔𝗡𝗗Skriv til Torben Andreasen: ta@gernergruppen.dkOplys:• Navn• Telefonnummer• Antal stande• Evt. hjørnestand• Ønske om borde/stole \nVed spørgsmål kan du ringe 📞 40 74 48 14Du får MobilePay‑nummeret\, når din reservation er registreret. \n✨ 𝗢𝗩𝗘𝗥𝗦𝗞𝗨𝗗 𝗧𝗜𝗟 𝗚𝗢𝗗𝗧 𝗙𝗢𝗥𝗠Å𝗟Alt overskud går til socialt arbejde i lokalområdet via Glostrup Vestegnens Rotary Klub
URL:https://loppemarkeder.nu/loppemarked/stort-loppemarked-i-roedovre-centrum-bliv-kraemmer-grundlovsdag-fredag/
LOCATION:Rødovre Centrum\, 2610 Rødovre\, Danmark\, Rødovre Centrum\, 2610 Rødovre\, Danmark
CATEGORIES:Loppemarked
ATTACH;FMTTYPE=image/jpeg:https://loppemarkeder.nu/wp-content/uploads/2026/03/657042559_948989100851148_4021632615308508133_n.jpg
END:VEVENT
BEGIN:VEVENT
DTSTART;TZID=Europe/Copenhagen:20260620T090000
DTEND;TZID=Europe/Copenhagen:20260620T150000
DTSTAMP:20260425T005630
CREATED:20260410T143949Z
LAST-MODIFIED:20260410T143949Z
UID:10005561-1781946000-1781967600@loppemarkeder.nu
SUMMARY:HIF’s Gamle Kæmper Kræmmer- og loppemarked
DESCRIPTION:HIF’s Gamle Kæmper Kræmmer- og loppemarked
URL:https://loppemarkeder.nu/loppemarked/hifs-gamle-kaemper-kraemmer-og-loppemarked/2026-06-20/
LOCATION:Hvidovre Rådhus\, Hvidovre Rådhus
CATEGORIES:Kræmmermarked,Loppemarked
ATTACH;FMTTYPE=image/jpeg:https://loppemarkeder.nu/wp-content/uploads/2026/04/668728396_933869849353696_7029707893104719849_n.jpg
END:VEVENT
BEGIN:VEVENT
DTSTART;TZID=Europe/Copenhagen:20260808T090000
DTEND;TZID=Europe/Copenhagen:20260808T150000
DTSTAMP:20260425T005630
CREATED:20260410T143949Z
LAST-MODIFIED:20260410T143949Z
UID:10005562-1786179600-1786201200@loppemarkeder.nu
SUMMARY:HIF’s Gamle Kæmper Kræmmer- og loppemarked
DESCRIPTION:HIF’s Gamle Kæmper Kræmmer- og loppemarked
URL:https://loppemarkeder.nu/loppemarked/hifs-gamle-kaemper-kraemmer-og-loppemarked/2026-08-08/
LOCATION:Hvidovre Rådhus\, Hvidovre Rådhus
CATEGORIES:Kræmmermarked,Loppemarked
ATTACH;FMTTYPE=image/jpeg:https://loppemarkeder.nu/wp-content/uploads/2026/04/668728396_933869849353696_7029707893104719849_n.jpg
END:VEVENT
BEGIN:VEVENT
DTSTART;TZID=Europe/Copenhagen:20260829T090000
DTEND;TZID=Europe/Copenhagen:20260829T150000
DTSTAMP:20260425T005630
CREATED:20260410T143949Z
LAST-MODIFIED:20260410T143949Z
UID:10005563-1787994000-1788015600@loppemarkeder.nu
SUMMARY:HIF’s Gamle Kæmper Kræmmer- og loppemarked
DESCRIPTION:HIF’s Gamle Kæmper Kræmmer- og loppemarked
URL:https://loppemarkeder.nu/loppemarked/hifs-gamle-kaemper-kraemmer-og-loppemarked/2026-08-29/
LOCATION:Hvidovre Rådhus\, Hvidovre Rådhus
CATEGORIES:Kræmmermarked,Loppemarked
ATTACH;FMTTYPE=image/jpeg:https://loppemarkeder.nu/wp-content/uploads/2026/04/668728396_933869849353696_7029707893104719849_n.jpg
END:VEVENT
BEGIN:VEVENT
DTSTART;TZID=Europe/Copenhagen:20260919T090000
DTEND;TZID=Europe/Copenhagen:20260919T150000
DTSTAMP:20260425T005630
CREATED:20260410T143949Z
LAST-MODIFIED:20260410T143949Z
UID:10005564-1789808400-1789830000@loppemarkeder.nu
SUMMARY:HIF’s Gamle Kæmper Kræmmer- og loppemarked
DESCRIPTION:HIF’s Gamle Kæmper Kræmmer- og loppemarked
URL:https://loppemarkeder.nu/loppemarked/hifs-gamle-kaemper-kraemmer-og-loppemarked/2026-09-19/
LOCATION:Hvidovre Rådhus\, Hvidovre Rådhus
CATEGORIES:Kræmmermarked,Loppemarked
ATTACH;FMTTYPE=image/jpeg:https://loppemarkeder.nu/wp-content/uploads/2026/04/668728396_933869849353696_7029707893104719849_n.jpg
END:VEVENT
END:VCALENDAR