BEGIN:VCALENDAR
VERSION:2.0
PRODID:-//Loppemarkeder NU - 2026 - ECPv6.15.20//NONSGML v1.0//EN
CALSCALE:GREGORIAN
METHOD:PUBLISH
X-ORIGINAL-URL:https://loppemarkeder.nu
X-WR-CALDESC:Begivenheder for Loppemarkeder NU - 2026
REFRESH-INTERVAL;VALUE=DURATION:PT1H
X-Robots-Tag:noindex
X-PUBLISHED-TTL:PT1H
BEGIN:VTIMEZONE
TZID:Europe/Copenhagen
BEGIN:DAYLIGHT
TZOFFSETFROM:+0100
TZOFFSETTO:+0200
TZNAME:CEST
DTSTART:20250330T010000
END:DAYLIGHT
BEGIN:STANDARD
TZOFFSETFROM:+0200
TZOFFSETTO:+0100
TZNAME:CET
DTSTART:20251026T010000
END:STANDARD
BEGIN:DAYLIGHT
TZOFFSETFROM:+0100
TZOFFSETTO:+0200
TZNAME:CEST
DTSTART:20260329T010000
END:DAYLIGHT
BEGIN:STANDARD
TZOFFSETFROM:+0200
TZOFFSETTO:+0100
TZNAME:CET
DTSTART:20261025T010000
END:STANDARD
BEGIN:DAYLIGHT
TZOFFSETFROM:+0100
TZOFFSETTO:+0200
TZNAME:CEST
DTSTART:20270328T010000
END:DAYLIGHT
BEGIN:STANDARD
TZOFFSETFROM:+0200
TZOFFSETTO:+0100
TZNAME:CET
DTSTART:20271031T010000
END:STANDARD
END:VTIMEZONE
BEGIN:VEVENT
DTSTART;TZID=Europe/Copenhagen:20260418T110000
DTEND;TZID=Europe/Copenhagen:20260418T160000
DTSTAMP:20260419T171939
CREATED:20260408T143455Z
LAST-MODIFIED:20260408T143619Z
UID:10005545-1776510000-1776528000@loppemarkeder.nu
SUMMARY:Loppemarked i Drejøgade + Jagtvej 203-205
DESCRIPTION:Endelig kom tilladelsen til at holde loppemarked Lørdag den 18 April kl 11-16 Drejøgade 1-3 + Jagtvej 203-205.Du er inviteret sms BOD til 25619853.Bod pladsen er gratis \,du medbringer selv bord og stol
URL:https://loppemarkeder.nu/loppemarked/loppemarked-i-drejoegade-jagtvej-203-205/
LOCATION:Drejøgade 1-3 +Jagtvej 203-205  København Østerbro 2100\, Drejøgade 1-3 +Jagtvej 203-205 København Østerbro 2100
CATEGORIES:Loppemarked
ATTACH;FMTTYPE=image/jpeg:https://loppemarkeder.nu/wp-content/uploads/2026/04/668712098_122171471924860852_4386862084984058641_n-1.jpg
END:VEVENT
END:VCALENDAR