BEGIN:VCALENDAR
VERSION:2.0
PRODID:-//Loppemarkeder NU - 2026 - ECPv6.15.20//NONSGML v1.0//EN
CALSCALE:GREGORIAN
METHOD:PUBLISH
X-ORIGINAL-URL:https://loppemarkeder.nu
X-WR-CALDESC:Begivenheder for Loppemarkeder NU - 2026
REFRESH-INTERVAL;VALUE=DURATION:PT1H
X-Robots-Tag:noindex
X-PUBLISHED-TTL:PT1H
BEGIN:VTIMEZONE
TZID:Europe/Copenhagen
BEGIN:DAYLIGHT
TZOFFSETFROM:+0100
TZOFFSETTO:+0200
TZNAME:CEST
DTSTART:20250330T010000
END:DAYLIGHT
BEGIN:STANDARD
TZOFFSETFROM:+0200
TZOFFSETTO:+0100
TZNAME:CET
DTSTART:20251026T010000
END:STANDARD
BEGIN:DAYLIGHT
TZOFFSETFROM:+0100
TZOFFSETTO:+0200
TZNAME:CEST
DTSTART:20260329T010000
END:DAYLIGHT
BEGIN:STANDARD
TZOFFSETFROM:+0200
TZOFFSETTO:+0100
TZNAME:CET
DTSTART:20261025T010000
END:STANDARD
BEGIN:DAYLIGHT
TZOFFSETFROM:+0100
TZOFFSETTO:+0200
TZNAME:CEST
DTSTART:20270328T010000
END:DAYLIGHT
BEGIN:STANDARD
TZOFFSETFROM:+0200
TZOFFSETTO:+0100
TZNAME:CET
DTSTART:20271031T010000
END:STANDARD
END:VTIMEZONE
BEGIN:VEVENT
DTSTART;TZID=Europe/Copenhagen:20260419T110000
DTEND;TZID=Europe/Copenhagen:20260419T160000
DTSTAMP:20260419T184442
CREATED:20260319T152233Z
LAST-MODIFIED:20260320T095340Z
UID:10005379-1776596400-1776614400@loppemarkeder.nu
SUMMARY:Loppemarked i Blågårdsgade
DESCRIPTION:Loppedage i Blågårdsgade 2026 \nLæs venligst hele teksten – vi besvarer ikke mails eller beskeder. \nBlågårdsgade Handelsforening arrangerer Loppedage 2026 sammen med lokale beboere. Indtægterne fra bodopstillingen går til ophængning af julelys i sæsonen 2026/2027.\nFlere datoer tilføjes løbende.\n— \nTilmelding og priser \nPrisen for at opstille en bod er 150 kr. ved forhåndstilmelding og betaling. \nHvis du ikke har tilmeldt dig og betalt på forhånd\, koster det 200 kr. på dagen. \nTilmelding og betaling skal ske senest 3 dage før den annoncerede dato. \nSene tilmeldinger bliver ikke besvaret eller accepteret\, da vi har begrænset tid og ressourcer til dette. \nAlle godkendes\, så længe de lever op til tilmelding og krav. \n— \nBodstørrelse \nBodens størrelse er ca. 1\,8 x 1\,8 meter. \nVi beder alle holde sig inden for deres plads\, så der er god passage i gaden. \n— \nSådan tilmelder du dig \n1) Betal via MobilePay 85764 – Blågårdsgade Handelsforening \nSkriv NAVN + DATO i beskedfeltet. \n2) Send mail til blaahandel@outlook.com med følgende oplysninger: \n– Navn \n– Adresse \n– Telefon \nEmnefeltet skal indeholde: NAVN + DATO FOR DELTAGELSE. \n(Dette er et lovkrav fra Erhvervsstyrelsen.) \nBEKRÆFTELSE SENDES 2–4 DAGE FØR MARKEDET. ALLE GODKENDES VED KORREKT TILMELDING (SOM BESKREVET HER I TEKSTEN).\nVi besvarer ikke enkeltstående mails – læs venligst hele denne tekst. \n— \nPraktisk information \n– Opsætning må tidligst begynde kl. 9.30 \n– Du skal kunne fremvise bevis for betaling på dagen \n– Henvendelser sker til Søs\, Jeff og Jane ved Blågårdsgade nr. 12–13–15 fra kl. 9.30 \n– Medbring selv borde\, stativer\, parasoller osv. \n– Kun private genbrugs- og hjemmelavede varer er tilladt \n– Det er ikke tilladt at sælge fødevarer eller nye varer \n— \nAflysning og refundering \nHvis markedet aflyses pga. kraftig regn\, refunderes det betalte beløb. \nVi kan ikke refundere\, hvis du selv bliver forhindret\, men du må gerne give din plads videre til en anden. \nBemærk\, at tilbagebetaling kan tage op til 6 uger\, da alt administrativt arbejde udføres frivilligt. \nAflysninger annonceres kun på Facebook og Instagram – ikke via mail. \n******************** \nSelvfølgelig – her er hele teksten oversat til engelsk **uden nogen form for fed skrift eller specialformatering**: \n— \nBlågårdsgade Loppemarked 2026 \nPlease read the entire text – we do not answer emails or messages. \nBlågårdsgade Handelsforening organizes the 2026 Flea Market together with local residents. \nAll income from stall fees goes toward the Christmas lights for the 2026/2027 season. \nMore dates will be added continuously. \n— \nRegistration and prices \nThe price for a stall is 150 DKK with pre‑registration and payment. \nIf you have not registered and paid in advance\, the price is 200 DKK on the day. \nRegistration and payment must be completed no later than 3 days before the announced date. \nLate registrations will not be answered or accepted\, as we have limited time and resources. \nEveryone is approved as long as they meet the registration requirements. \n— \nStall size \nThe stall size is approximately 1.8 x 1.8 meters. \nPlease stay within your allocated space to ensure good passage in the street. \n— \nHow to register \n1) Pay via MobilePay 85764 – Blågårdsgade Handelsforening \nWrite NAME + DATE in the message field. \n2) Send an email to blaahandel@outlook.com with the following information: \n– Name \n– Address \n– Phone number \nThe subject line must contain: NAME + DATE OF PARTICIPATION. \n(This is a legal requirement from the Danish Business Authority.) \nConfirmation is sent 2–4 days before the market. All participants are approved when the registration is completed correctly (as described in this text). \nWe do not answer individual emails – please read this entire text. \n— \nPractical information \n– Setup may begin no earlier than 9:30 \n– You must be able to show proof of payment on the day \n– Contact Søs\, Jeff and Jane at Blågårdsgade no. 12–13–15 from 9:30 \n– Bring your own tables\, racks\, umbrellas\, etc. \n– Only private second‑hand items and handmade goods are allowed \n– It is not permitted to sell food or new items \n— \nCancellation and refunds \nIf the market is cancelled due to heavy rain\, the paid amount will be refunded. \nWe cannot refund if you are unable to attend\, but you may pass your spot on to someone else. \nPlease note that refunds may take up to 6 weeks\, as all administrative work is done voluntarily. \nCancellations are announced only on Facebook and Instagram – not by email. \nhttps://www.facebook.com/events/2008132876713230/?event_time_id=2009675523225632
URL:https://loppemarkeder.nu/loppemarked/loppemarked-i-blaagaardsgade/
LOCATION:Blågårdsgade 12\, 2200 Copenhagen\, Denmark\, Blågårdsgade 12\, 2200 Copenhagen\, Denmark
CATEGORIES:Loppemarked
ATTACH;FMTTYPE=image/jpeg:https://loppemarkeder.nu/wp-content/uploads/2026/03/653822307_1505860971539295_6759398951653143602_n-2-1.jpg
END:VEVENT
END:VCALENDAR