BEGIN:VCALENDAR
VERSION:2.0
PRODID:-//Loppemarkeder NU - 2026 - ECPv6.15.20//NONSGML v1.0//EN
CALSCALE:GREGORIAN
METHOD:PUBLISH
X-WR-CALNAME:Loppemarkeder NU - 2026
X-ORIGINAL-URL:https://loppemarkeder.nu
X-WR-CALDESC:Begivenheder for Loppemarkeder NU - 2026
REFRESH-INTERVAL;VALUE=DURATION:PT1H
X-Robots-Tag:noindex
X-PUBLISHED-TTL:PT1H
BEGIN:VTIMEZONE
TZID:Europe/Copenhagen
BEGIN:DAYLIGHT
TZOFFSETFROM:+0100
TZOFFSETTO:+0200
TZNAME:CEST
DTSTART:20250330T010000
END:DAYLIGHT
BEGIN:STANDARD
TZOFFSETFROM:+0200
TZOFFSETTO:+0100
TZNAME:CET
DTSTART:20251026T010000
END:STANDARD
BEGIN:DAYLIGHT
TZOFFSETFROM:+0100
TZOFFSETTO:+0200
TZNAME:CEST
DTSTART:20260329T010000
END:DAYLIGHT
BEGIN:STANDARD
TZOFFSETFROM:+0200
TZOFFSETTO:+0100
TZNAME:CET
DTSTART:20261025T010000
END:STANDARD
BEGIN:DAYLIGHT
TZOFFSETFROM:+0100
TZOFFSETTO:+0200
TZNAME:CEST
DTSTART:20270328T010000
END:DAYLIGHT
BEGIN:STANDARD
TZOFFSETFROM:+0200
TZOFFSETTO:+0100
TZNAME:CET
DTSTART:20271031T010000
END:STANDARD
END:VTIMEZONE
BEGIN:VEVENT
DTSTART;TZID=Europe/Copenhagen:20260502T100000
DTEND;TZID=Europe/Copenhagen:20260502T140000
DTSTAMP:20260419T225949
CREATED:20260123T182834Z
LAST-MODIFIED:20260123T183203Z
UID:10005044-1777716000-1777730400@loppemarkeder.nu
SUMMARY:Loppemarked ved Brugsen i Kulhuse
DESCRIPTION:Arrangør: Charlotte Hansen \nInfo følger
URL:https://loppemarkeder.nu/loppemarked/loppemarked-ved-brugsen-i-kulhuse-3/
LOCATION:Brugsen Kulhuse\, Brugsen Kulhuse
CATEGORIES:Loppemarked
ATTACH;FMTTYPE=image/jpeg:https://loppemarkeder.nu/wp-content/uploads/2026/01/619415988_10238845133691790_3041189243679143121_n-1.jpg
ORGANIZER;CN="Anja Bisp Pedersen":MAILTO:noreply@facebookmail.com
END:VEVENT
BEGIN:VEVENT
DTSTART;TZID=Europe/Copenhagen:20260514T100000
DTEND;TZID=Europe/Copenhagen:20260514T140000
DTSTAMP:20260419T225949
CREATED:20260123T182835Z
LAST-MODIFIED:20260123T183222Z
UID:10005045-1778752800-1778767200@loppemarkeder.nu
SUMMARY:Loppemarked ved Brugsen i Kulhuse
DESCRIPTION:Arrangør: Charlotte Hansen \nInfo følger
URL:https://loppemarkeder.nu/loppemarked/loppemarked-ved-brugsen-i-kulhuse-4/
LOCATION:Brugsen Kulhuse\, Brugsen Kulhuse
CATEGORIES:Loppemarked
ATTACH;FMTTYPE=image/jpeg:https://loppemarkeder.nu/wp-content/uploads/2026/01/619415988_10238845133691790_3041189243679143121_n-1.jpg
ORGANIZER;CN="Anja Bisp Pedersen":MAILTO:noreply@facebookmail.com
END:VEVENT
BEGIN:VEVENT
DTSTART;TZID=Europe/Copenhagen:20260523T100000
DTEND;TZID=Europe/Copenhagen:20260523T140000
DTSTAMP:20260419T225949
CREATED:20260123T182836Z
LAST-MODIFIED:20260123T183243Z
UID:10005046-1779530400-1779544800@loppemarkeder.nu
SUMMARY:Loppemarked ved Brugsen i Kulhuse
DESCRIPTION:Arrangør: Charlotte Hansen \nInfo følger
URL:https://loppemarkeder.nu/loppemarked/loppemarked-ved-brugsen-i-kulhuse-5/
LOCATION:Brugsen Kulhuse\, Brugsen Kulhuse
CATEGORIES:Loppemarked
ATTACH;FMTTYPE=image/jpeg:https://loppemarkeder.nu/wp-content/uploads/2026/01/619415988_10238845133691790_3041189243679143121_n-1.jpg
ORGANIZER;CN="Anja Bisp Pedersen":MAILTO:noreply@facebookmail.com
END:VEVENT
END:VCALENDAR