BEGIN:VCALENDAR
VERSION:2.0
PRODID:-//Loppemarkeder NU - 2026 - ECPv6.15.20//NONSGML v1.0//EN
CALSCALE:GREGORIAN
METHOD:PUBLISH
X-ORIGINAL-URL:https://loppemarkeder.nu
X-WR-CALDESC:Begivenheder for Loppemarkeder NU - 2026
REFRESH-INTERVAL;VALUE=DURATION:PT1H
X-Robots-Tag:noindex
X-PUBLISHED-TTL:PT1H
BEGIN:VTIMEZONE
TZID:Europe/Copenhagen
BEGIN:DAYLIGHT
TZOFFSETFROM:+0100
TZOFFSETTO:+0200
TZNAME:CEST
DTSTART:20250330T010000
END:DAYLIGHT
BEGIN:STANDARD
TZOFFSETFROM:+0200
TZOFFSETTO:+0100
TZNAME:CET
DTSTART:20251026T010000
END:STANDARD
BEGIN:DAYLIGHT
TZOFFSETFROM:+0100
TZOFFSETTO:+0200
TZNAME:CEST
DTSTART:20260329T010000
END:DAYLIGHT
BEGIN:STANDARD
TZOFFSETFROM:+0200
TZOFFSETTO:+0100
TZNAME:CET
DTSTART:20261025T010000
END:STANDARD
BEGIN:DAYLIGHT
TZOFFSETFROM:+0100
TZOFFSETTO:+0200
TZNAME:CEST
DTSTART:20270328T010000
END:DAYLIGHT
BEGIN:STANDARD
TZOFFSETFROM:+0200
TZOFFSETTO:+0100
TZNAME:CET
DTSTART:20271031T010000
END:STANDARD
END:VTIMEZONE
BEGIN:VEVENT
DTSTART;TZID=Europe/Copenhagen:20260704T090000
DTEND;TZID=Europe/Copenhagen:20260704T150000
DTSTAMP:20260422T123530
CREATED:20260224T182619Z
LAST-MODIFIED:20260224T182619Z
UID:10005225-1783155600-1783177200@loppemarkeder.nu
SUMMARY:Lørdagshygge på Frederiksberg: Besøg byens hyggeligste loppemarked
DESCRIPTION:Der findes intet som en lørdag formiddag på Frederiksberg. Duften af kaffe blander sig med forventningens glæde\, når de mange boder på Frederiksberg Loppetorv slår portene op. Det er her\, de lokale mødes\, og her\, de bedste fund bliver gjort. \nUanset om du leder efter vintage-tøj\, gamle lp-plader eller porcelæn til samlingen\, er der rig mulighed for at gå på opdagelse i de mange stande på Rådhuspladsen. \nBesøg os i 2026 Markedet holder åbent hver lørdag kl. 9-15 i perioden fra 4. april til 17. oktober. Det er den perfekte destination for din weekendtur\, uanset om du er seriøs samler eller bare vil nyde atmosfæren. \n\nOBS: Markér kalenderen! Vi holder lukket lørdag den 15. august 2026\, så der er plads til at fejre mangfoldigheden\, når Copenhagen Pride Parade indtager pladsen. \n\nTag vennerne eller familien under armen og gør en god handel i hjertet af Frederiksberg. Vi glæder os til at se jer til en fantastisk loppesæson!
URL:https://loppemarkeder.nu/loppemarked/loerdagshygge-paa-frederiksberg-besoeg-byens-hyggeligste-loppemarked/2026-07-04/
LOCATION:Frederiksberg Bredegade\, 2000 Frederiksberg
CATEGORIES:Loppemarked
ATTACH;FMTTYPE=image/jpeg:https://loppemarkeder.nu/wp-content/uploads/2026/02/Loppemarked-Frederiksberg-Raadhus.jpg
END:VEVENT
BEGIN:VEVENT
DTSTART;TZID=Europe/Copenhagen:20260704T100000
DTEND;TZID=Europe/Copenhagen:20260704T160000
DTSTAMP:20260422T123530
CREATED:20260316T091608Z
LAST-MODIFIED:20260316T091608Z
UID:10005344-1783159200-1783180800@loppemarkeder.nu
SUMMARY:Vanløse Torv Loppemarked
DESCRIPTION:Vanløse torv loppemarked hver lørdag 10.00 – 16.00 på Vanløse torv.\nKom og gør et kup på vores loppe & livsstilsmarked masser af lækre loppefund!\nKøb brugt \, hjælp klima & spar penge!
URL:https://loppemarkeder.nu/loppemarked/vanloese-torv-loppemarked/2026-07-04/
LOCATION:Vanløse Torv Loppemarked\, Vanløse Torv
CATEGORIES:Loppemarked
ATTACH;FMTTYPE=image/jpeg:https://loppemarkeder.nu/wp-content/uploads/2026/03/images.jpeg
END:VEVENT
BEGIN:VEVENT
DTSTART;TZID=Europe/Copenhagen:20260705T110000
DTEND;TZID=Europe/Copenhagen:20260705T160000
DTSTAMP:20260422T123530
CREATED:20260304T170029Z
LAST-MODIFIED:20260304T170029Z
UID:10005279-1783249200-1783267200@loppemarkeder.nu
SUMMARY:SOMMERLOPPE 2026
DESCRIPTION:SOMMERLOPPE 2026\n\n\nSØNDAGE FRA DEN 3 MAJ TIL 27 SEPTEMBER\n\n\nTørvejrsgaranti under taget\n\n\nSTANDE FRA KUN 200kr \n\n\nØresundsvej 6 2300 Kbh S – Se mere på : \n\n\nBESTIL STAND HER : Info@sommerloppe.dk
URL:https://loppemarkeder.nu/loppemarked/sommerloppe-2026/2026-07-05/
LOCATION:Øresundsvej 6 2300 Kbh S\, Øresundsvej 6 2300 Kbh S
CATEGORIES:Loppemarked
ATTACH;FMTTYPE=image/jpeg:https://loppemarkeder.nu/wp-content/uploads/2026/03/645201121_10162844376867634_4856425160454488067_n.jpg
END:VEVENT
BEGIN:VEVENT
DTSTART;TZID=Europe/Copenhagen:20260705T110000
DTEND;TZID=Europe/Copenhagen:20260705T160000
DTSTAMP:20260422T123530
CREATED:20260417T173029Z
LAST-MODIFIED:20260417T173654Z
UID:10005609-1783249200-1783267200@loppemarkeder.nu
SUMMARY:Rita Blå's Lopper på Sønder Boulevard 🌞 Første søndag i måneden April - Okt
DESCRIPTION:🌞 Rita Blå’s Lopper – 1. søndag i hver måned fylder vi Sønder Boulevard med masser af loppeboder og – forhåbentlig – masser af solskin! \nRita Blå’s Lopper startede småt\, foran baren Mesteren & Lærlingen i 2009 – og har siden 2011 fyldt boulevarden med genbrug og god stemning\, hver forår og sommer. \n🛍️ Vil du have en bod? Følg linket her og book din plads:\n🔗 https://billetto.dk/en/users/rita-bla-s-lopper \n💰 Markedet er gratis at besøge\, og der er masser af muligheder for at købe mad og drikke – både fra de omkringliggende beværtninger og fra udvalgte boder på markedet. \n👶🦽 Børne- og kørestolsvenligt \n📸 Der vil ind imellem blive taget billeder på markedet.\nHvis du ser et billede af dig selv online\, som du ikke ønsker offentliggjort\, er du meget velkommen til at kontakte os. \nVi glæder os til at se dig! ☀️ \nhttps://www.facebook.com/events/3512501302231840/?event_time_id=3512501308898506
URL:https://loppemarkeder.nu/loppemarked/rita-blaas-lopper-paa-soender-boulevard-%f0%9f%8c%9e-foerste-soendag-i-maaneden-april-okt-3/
LOCATION:Sønder Boulevard – Kbh V\, Sønder Boulevard - Kbh V
CATEGORIES:Loppemarked
ATTACH;FMTTYPE=image/jpeg:https://loppemarkeder.nu/wp-content/uploads/2026/04/671311674_1274481898164128_6192269860679704433_n-1.jpg
ORGANIZER;CN="Rita Bl%C3%A5's Lopper":MAILTO:noreply@facebookmail.com
END:VEVENT
BEGIN:VEVENT
DTSTART;TZID=Europe/Copenhagen:20260705T120000
DTEND;TZID=Europe/Copenhagen:20260705T170000
DTSTAMP:20260422T123530
CREATED:20260320T155215Z
LAST-MODIFIED:20260320T155604Z
UID:10005419-1783252800-1783270800@loppemarkeder.nu
SUMMARY:Broens lopper
DESCRIPTION:Vi skyder sæsonen i gang med årets første Broens Lopper på vores skønne kaj ud mod vandet. \nGlæd dig til en dag fyldt med loppeguld og god stemning – med Broens Street Food og barer lige på den anden side\, hvor du kan nyde street food i verdensklasse og lækre drikkevarer hele dagen. \nUanset om du er privatperson eller driver en lille kreativ virksomhed\, er du velkommen til at booke en stand og sælge alt fra tøj\, keramik og smykker til specialvarer. \nI anledning af sæsonåbningen kan du booke din stand til åbningspris for kun 95 DKK (ekskl. billetgebyr). En stand består af et 2 meter langt bord. Du er velkommen til at medbringe et stativ. Standen kan opsættes fra kl. 11.30 og skal være pakket ned kl. 17.00. \nLoppemarkedet finder sted kl. 12.00-17.00\, og du kan opstille din stand fra kl. 11.30. \nDa markedet ligger tæt på vandet\, kan der forekomme blæst – husk derfor at klæde dig efter vejret. Ved varsling af ekstremt dårligt vejr aflyses arrangementet\, og du får naturligvis refunderet beløbet for din stand. \nOBS: Der er ingen parkering på Broens\, men der findes flere parkeringsmuligheder i området. \nhttps://www.facebook.com/events/3256947427819750/?event_time_id=3256947451153081
URL:https://loppemarkeder.nu/loppemarked/broens-lopper-7/
LOCATION:Strandgade 95\, 1401 Copenhagen\, Denmark\, Strandgade 95\, 1401 Copenhagen\, Denmark
CATEGORIES:Loppemarked
ATTACH;FMTTYPE=image/jpeg:https://loppemarkeder.nu/wp-content/uploads/2026/03/651229298_1535574308572998_6476270046334713625_n-2-1.jpg
ORGANIZER;CN="Broens Street Food":MAILTO:noreply@facebookmail.com
END:VEVENT
BEGIN:VEVENT
DTSTART;TZID=Europe/Copenhagen:20260711T090000
DTEND;TZID=Europe/Copenhagen:20260711T150000
DTSTAMP:20260422T123530
CREATED:20260224T182619Z
LAST-MODIFIED:20260224T182619Z
UID:10005226-1783760400-1783782000@loppemarkeder.nu
SUMMARY:Lørdagshygge på Frederiksberg: Besøg byens hyggeligste loppemarked
DESCRIPTION:Der findes intet som en lørdag formiddag på Frederiksberg. Duften af kaffe blander sig med forventningens glæde\, når de mange boder på Frederiksberg Loppetorv slår portene op. Det er her\, de lokale mødes\, og her\, de bedste fund bliver gjort. \nUanset om du leder efter vintage-tøj\, gamle lp-plader eller porcelæn til samlingen\, er der rig mulighed for at gå på opdagelse i de mange stande på Rådhuspladsen. \nBesøg os i 2026 Markedet holder åbent hver lørdag kl. 9-15 i perioden fra 4. april til 17. oktober. Det er den perfekte destination for din weekendtur\, uanset om du er seriøs samler eller bare vil nyde atmosfæren. \n\nOBS: Markér kalenderen! Vi holder lukket lørdag den 15. august 2026\, så der er plads til at fejre mangfoldigheden\, når Copenhagen Pride Parade indtager pladsen. \n\nTag vennerne eller familien under armen og gør en god handel i hjertet af Frederiksberg. Vi glæder os til at se jer til en fantastisk loppesæson!
URL:https://loppemarkeder.nu/loppemarked/loerdagshygge-paa-frederiksberg-besoeg-byens-hyggeligste-loppemarked/2026-07-11/
LOCATION:Frederiksberg Bredegade\, 2000 Frederiksberg
CATEGORIES:Loppemarked
ATTACH;FMTTYPE=image/jpeg:https://loppemarkeder.nu/wp-content/uploads/2026/02/Loppemarked-Frederiksberg-Raadhus.jpg
END:VEVENT
BEGIN:VEVENT
DTSTART;TZID=Europe/Copenhagen:20260711T100000
DTEND;TZID=Europe/Copenhagen:20260711T160000
DTSTAMP:20260422T123530
CREATED:20260316T091608Z
LAST-MODIFIED:20260316T091608Z
UID:10005345-1783764000-1783785600@loppemarkeder.nu
SUMMARY:Vanløse Torv Loppemarked
DESCRIPTION:Vanløse torv loppemarked hver lørdag 10.00 – 16.00 på Vanløse torv.\nKom og gør et kup på vores loppe & livsstilsmarked masser af lækre loppefund!\nKøb brugt \, hjælp klima & spar penge!
URL:https://loppemarkeder.nu/loppemarked/vanloese-torv-loppemarked/2026-07-11/
LOCATION:Vanløse Torv Loppemarked\, Vanløse Torv
CATEGORIES:Loppemarked
ATTACH;FMTTYPE=image/jpeg:https://loppemarkeder.nu/wp-content/uploads/2026/03/images.jpeg
END:VEVENT
BEGIN:VEVENT
DTSTART;TZID=Europe/Copenhagen:20260712T100000
DTEND;TZID=Europe/Copenhagen:20260712T150000
DTSTAMP:20260422T123530
CREATED:20260201T150148Z
LAST-MODIFIED:20260201T150802Z
UID:10005109-1783850400-1783868400@loppemarkeder.nu
SUMMARY:LoppeLinda på Enghave Plads
DESCRIPTION:REGLER FOR KØB HERUNDER \nDer er et begrænset antal loppestande ved ENGHAVE PLADS\, når vi åbner for BILLETSALG søndag d.1.februar kl.12.00 og det bliver FØRST-TIL-MØLLE som sædvanligt! \nDatoer:\nSøndag 22.marts 2026 kl.10-15\nSøndag 26.april 2026 kl.10-15\nSøndag 17.maj 2026\nkl.10-15\nSøndag 21.juni 2026\nkl.10-15\nSøndag 12.juli. 2026\nkl.10-15\nSøndag 16.august.2026\nkl.10-15\nLørdag 12.september 2026\nkl.10-15\nSøndag d.4.oktober 2026 kl.10-15 \nLoppeLindas markeder på ENGHAVE PLADS afholdes på pladsen ved metroindgangen og under træerne på gruspladsen. \nDer åbnes for salg SØNDAG d.1.FEB.2026 kl.12! \nKøb din billet her:\nhttps://billetto.dk/users/loppelinda \nStandene vil ca. være 2 x 2 m- 3m. til 275 kr. + Billettos gebyr.\n(Størrelsen på standene kan variere!) \nAlle medbringer eget bord\, tøjstativer og lignende. \nDu er velkommen til at dele din stand med et familiemedlem eller en ven/inde. \nDer er opsætning fra kl. 8.30\, hvorefter vi kommer forbi og tjekker alle ind i løbet af dagen. \nDer er først-til-mølle på dagen i forhold til hvilken stand du vil have – du vælger selv. Der vil være afmærkninger på jorden\, og du snupper bare den plads\, du bedst kan lide\, når du ankommer om morgenen! \nDu behøver ikke at printe billetten\, medbring gerne en digital kopi på din mobiletelefon. Alle tilmeldte er noteret på forhånd. \nEfter endt loppemarked kl.15.00 er der indtil kl. 16.00 at rydde standen. \nIntet må efterlades på eller omkring ENGHAVE PLADS\, hverken skrald eller overskud af loppegenstande. \nKøbenhavns Kommune gør opmærksom på at affaldsspande på Enghave Plads ikke må benyttes til loppegenstande før\, under eller efter markedet. \nDette er et loppemarked for PRIVATE PERSONER\, der sælger ud af egne brugte genstande\, der har ligget hjemme i gemmerne\, medmindre andet på forhånd er aftalt og godkendt. \nMEN det vil være muligt at sælge ud af hjemmelavet kunst og design\, egne værker\, DIY kreationer og selvskabt håndværk. \nPartivarer – RestPartier – kræmmervarer i store mængder er ikke tilladt! \nAnkomst i bil: \nDet er ikke tilladt at køre ind eller op på EngHave Plads med bil! \nHusk at respektere færdselsloven ved aflæsning af bil og vær opmærksom på at parkeringsregler for Københavns Kommune er gældende. \nForce majeure:\nBemærk at der ikke refunderes betaling for stande\, uanset hvad afholdes markedet – “rain or shine.”\nMan er velkommen til at tage en pavillon med der maks er 3×3 meter!\nBilletten kan ikke refunderes\, men du er velkommen til at bytte den væk til en\, der er interesseret. \nDeltagelse sker på eget ansvar. LoppeLinda påtager sig intet ansvar for skader på eller bortkomst af ejendele\, herunder varer\, telte\, biler eller andet udstyr\, før\, under eller efter markedet. LoppeLinda kan ikke gøres ansvarlig medmindre andet følger ufravigelig lovgivning. \nVi glæææder os så meget til igen at LOPPE SAMMEN på VesterBro med en masse LOPPEGULD & GENBRUGSHYGGE! \nKh.\nLoppeLinda \n❤\nDER TAGES FORBEHOLD FOR ÆNDRINGER I LØBET AF LOPPESÆSONEN 2026! Husk altid at holde dig opdateret dagen før i tilfælde af ændringer af dage\, datoer eller aflysninger! \nhttps://www.facebook.com/events/909253334780003/?event_time_id=909253351446668
URL:https://loppemarkeder.nu/loppemarked/loppelinda-paa-enghave-plads-5/
LOCATION:Copenhagen\, Denmark\, Copenhagen\, Denmark
CATEGORIES:Loppemarked
ATTACH;FMTTYPE=image/jpeg:https://loppemarkeder.nu/wp-content/uploads/2026/02/624557783_1381264414013525_7713166607911507713_n-1.jpg
ORGANIZER;CN="LoppeLindas Markeder":MAILTO:noreply@facebookmail.com
END:VEVENT
BEGIN:VEVENT
DTSTART;TZID=Europe/Copenhagen:20260712T110000
DTEND;TZID=Europe/Copenhagen:20260712T160000
DTSTAMP:20260422T123530
CREATED:20260304T170029Z
LAST-MODIFIED:20260304T170029Z
UID:10005280-1783854000-1783872000@loppemarkeder.nu
SUMMARY:SOMMERLOPPE 2026
DESCRIPTION:SOMMERLOPPE 2026\n\n\nSØNDAGE FRA DEN 3 MAJ TIL 27 SEPTEMBER\n\n\nTørvejrsgaranti under taget\n\n\nSTANDE FRA KUN 200kr \n\n\nØresundsvej 6 2300 Kbh S – Se mere på : \n\n\nBESTIL STAND HER : Info@sommerloppe.dk
URL:https://loppemarkeder.nu/loppemarked/sommerloppe-2026/2026-07-12/
LOCATION:Øresundsvej 6 2300 Kbh S\, Øresundsvej 6 2300 Kbh S
CATEGORIES:Loppemarked
ATTACH;FMTTYPE=image/jpeg:https://loppemarkeder.nu/wp-content/uploads/2026/03/645201121_10162844376867634_4856425160454488067_n.jpg
END:VEVENT
BEGIN:VEVENT
DTSTART;TZID=Europe/Copenhagen:20260718T090000
DTEND;TZID=Europe/Copenhagen:20260718T150000
DTSTAMP:20260422T123530
CREATED:20260224T182619Z
LAST-MODIFIED:20260224T182619Z
UID:10005227-1784365200-1784386800@loppemarkeder.nu
SUMMARY:Lørdagshygge på Frederiksberg: Besøg byens hyggeligste loppemarked
DESCRIPTION:Der findes intet som en lørdag formiddag på Frederiksberg. Duften af kaffe blander sig med forventningens glæde\, når de mange boder på Frederiksberg Loppetorv slår portene op. Det er her\, de lokale mødes\, og her\, de bedste fund bliver gjort. \nUanset om du leder efter vintage-tøj\, gamle lp-plader eller porcelæn til samlingen\, er der rig mulighed for at gå på opdagelse i de mange stande på Rådhuspladsen. \nBesøg os i 2026 Markedet holder åbent hver lørdag kl. 9-15 i perioden fra 4. april til 17. oktober. Det er den perfekte destination for din weekendtur\, uanset om du er seriøs samler eller bare vil nyde atmosfæren. \n\nOBS: Markér kalenderen! Vi holder lukket lørdag den 15. august 2026\, så der er plads til at fejre mangfoldigheden\, når Copenhagen Pride Parade indtager pladsen. \n\nTag vennerne eller familien under armen og gør en god handel i hjertet af Frederiksberg. Vi glæder os til at se jer til en fantastisk loppesæson!
URL:https://loppemarkeder.nu/loppemarked/loerdagshygge-paa-frederiksberg-besoeg-byens-hyggeligste-loppemarked/2026-07-18/
LOCATION:Frederiksberg Bredegade\, 2000 Frederiksberg
CATEGORIES:Loppemarked
ATTACH;FMTTYPE=image/jpeg:https://loppemarkeder.nu/wp-content/uploads/2026/02/Loppemarked-Frederiksberg-Raadhus.jpg
END:VEVENT
BEGIN:VEVENT
DTSTART;TZID=Europe/Copenhagen:20260718T100000
DTEND;TZID=Europe/Copenhagen:20260718T160000
DTSTAMP:20260422T123530
CREATED:20260316T091608Z
LAST-MODIFIED:20260316T091608Z
UID:10005346-1784368800-1784390400@loppemarkeder.nu
SUMMARY:Vanløse Torv Loppemarked
DESCRIPTION:Vanløse torv loppemarked hver lørdag 10.00 – 16.00 på Vanløse torv.\nKom og gør et kup på vores loppe & livsstilsmarked masser af lækre loppefund!\nKøb brugt \, hjælp klima & spar penge!
URL:https://loppemarkeder.nu/loppemarked/vanloese-torv-loppemarked/2026-07-18/
LOCATION:Vanløse Torv Loppemarked\, Vanløse Torv
CATEGORIES:Loppemarked
ATTACH;FMTTYPE=image/jpeg:https://loppemarkeder.nu/wp-content/uploads/2026/03/images.jpeg
END:VEVENT
BEGIN:VEVENT
DTSTART;TZID=Europe/Copenhagen:20260719T110000
DTEND;TZID=Europe/Copenhagen:20260719T160000
DTSTAMP:20260422T123530
CREATED:20260304T170029Z
LAST-MODIFIED:20260304T170029Z
UID:10005281-1784458800-1784476800@loppemarkeder.nu
SUMMARY:SOMMERLOPPE 2026
DESCRIPTION:SOMMERLOPPE 2026\n\n\nSØNDAGE FRA DEN 3 MAJ TIL 27 SEPTEMBER\n\n\nTørvejrsgaranti under taget\n\n\nSTANDE FRA KUN 200kr \n\n\nØresundsvej 6 2300 Kbh S – Se mere på : \n\n\nBESTIL STAND HER : Info@sommerloppe.dk
URL:https://loppemarkeder.nu/loppemarked/sommerloppe-2026/2026-07-19/
LOCATION:Øresundsvej 6 2300 Kbh S\, Øresundsvej 6 2300 Kbh S
CATEGORIES:Loppemarked
ATTACH;FMTTYPE=image/jpeg:https://loppemarkeder.nu/wp-content/uploads/2026/03/645201121_10162844376867634_4856425160454488067_n.jpg
END:VEVENT
BEGIN:VEVENT
DTSTART;TZID=Europe/Copenhagen:20260719T120000
DTEND;TZID=Europe/Copenhagen:20260719T170000
DTSTAMP:20260422T123530
CREATED:20260320T155216Z
LAST-MODIFIED:20260320T155543Z
UID:10005420-1784462400-1784480400@loppemarkeder.nu
SUMMARY:Broens lopper
DESCRIPTION:Vi skyder sæsonen i gang med årets første Broens Lopper på vores skønne kaj ud mod vandet. \nGlæd dig til en dag fyldt med loppeguld og god stemning – med Broens Street Food og barer lige på den anden side\, hvor du kan nyde street food i verdensklasse og lækre drikkevarer hele dagen. \nUanset om du er privatperson eller driver en lille kreativ virksomhed\, er du velkommen til at booke en stand og sælge alt fra tøj\, keramik og smykker til specialvarer. \nI anledning af sæsonåbningen kan du booke din stand til åbningspris for kun 95 DKK (ekskl. billetgebyr). En stand består af et 2 meter langt bord. Du er velkommen til at medbringe et stativ. Standen kan opsættes fra kl. 11.30 og skal være pakket ned kl. 17.00. \nLoppemarkedet finder sted kl. 12.00-17.00\, og du kan opstille din stand fra kl. 11.30. \nDa markedet ligger tæt på vandet\, kan der forekomme blæst – husk derfor at klæde dig efter vejret. Ved varsling af ekstremt dårligt vejr aflyses arrangementet\, og du får naturligvis refunderet beløbet for din stand. \nOBS: Der er ingen parkering på Broens\, men der findes flere parkeringsmuligheder i området. \nhttps://www.facebook.com/events/3256947427819750/?event_time_id=3256947447819748
URL:https://loppemarkeder.nu/loppemarked/broens-lopper-8/
LOCATION:Strandgade 95\, 1401 Copenhagen\, Denmark\, Strandgade 95\, 1401 Copenhagen\, Denmark
CATEGORIES:Loppemarked
ATTACH;FMTTYPE=image/jpeg:https://loppemarkeder.nu/wp-content/uploads/2026/03/651229298_1535574308572998_6476270046334713625_n-2-1.jpg
ORGANIZER;CN="Broens Street Food":MAILTO:noreply@facebookmail.com
END:VEVENT
BEGIN:VEVENT
DTSTART;TZID=Europe/Copenhagen:20260725T090000
DTEND;TZID=Europe/Copenhagen:20260725T150000
DTSTAMP:20260422T123530
CREATED:20260113T085841Z
LAST-MODIFIED:20260113T085841Z
UID:10004880-1784970000-1784991600@loppemarkeder.nu
SUMMARY:Loppemarked - Brønshøj Torv
DESCRIPTION:Loppemarkedet på Brønshøj Torv afholdes fast den første og sidste lørdag i måneden som “Byens hyggeligste loppemarked”\, hvor man finder brugte ting\, genbrugsguld og hjemmelavede varer; det er gratis at besøge og kører uanset vejr\, med parkering i nærområdet
URL:https://loppemarkeder.nu/loppemarked/loppemarked-broenshoej-torv/2026-07-25/
LOCATION:Loppemarked – Brønshøj Torv\, Loppemarked - Brønshøj Torv
CATEGORIES:Loppemarked
ATTACH;FMTTYPE=image/jpeg:https://loppemarkeder.nu/wp-content/uploads/2024/08/Hvad-er-eftertragtet-paa-loppemarkeder.jpg
END:VEVENT
BEGIN:VEVENT
DTSTART;TZID=Europe/Copenhagen:20260725T090000
DTEND;TZID=Europe/Copenhagen:20260725T150000
DTSTAMP:20260422T123530
CREATED:20260224T182619Z
LAST-MODIFIED:20260224T182619Z
UID:10005228-1784970000-1784991600@loppemarkeder.nu
SUMMARY:Lørdagshygge på Frederiksberg: Besøg byens hyggeligste loppemarked
DESCRIPTION:Der findes intet som en lørdag formiddag på Frederiksberg. Duften af kaffe blander sig med forventningens glæde\, når de mange boder på Frederiksberg Loppetorv slår portene op. Det er her\, de lokale mødes\, og her\, de bedste fund bliver gjort. \nUanset om du leder efter vintage-tøj\, gamle lp-plader eller porcelæn til samlingen\, er der rig mulighed for at gå på opdagelse i de mange stande på Rådhuspladsen. \nBesøg os i 2026 Markedet holder åbent hver lørdag kl. 9-15 i perioden fra 4. april til 17. oktober. Det er den perfekte destination for din weekendtur\, uanset om du er seriøs samler eller bare vil nyde atmosfæren. \n\nOBS: Markér kalenderen! Vi holder lukket lørdag den 15. august 2026\, så der er plads til at fejre mangfoldigheden\, når Copenhagen Pride Parade indtager pladsen. \n\nTag vennerne eller familien under armen og gør en god handel i hjertet af Frederiksberg. Vi glæder os til at se jer til en fantastisk loppesæson!
URL:https://loppemarkeder.nu/loppemarked/loerdagshygge-paa-frederiksberg-besoeg-byens-hyggeligste-loppemarked/2026-07-25/
LOCATION:Frederiksberg Bredegade\, 2000 Frederiksberg
CATEGORIES:Loppemarked
ATTACH;FMTTYPE=image/jpeg:https://loppemarkeder.nu/wp-content/uploads/2026/02/Loppemarked-Frederiksberg-Raadhus.jpg
END:VEVENT
BEGIN:VEVENT
DTSTART;TZID=Europe/Copenhagen:20260725T100000
DTEND;TZID=Europe/Copenhagen:20260725T160000
DTSTAMP:20260422T123530
CREATED:20260316T091608Z
LAST-MODIFIED:20260316T091608Z
UID:10005347-1784973600-1784995200@loppemarkeder.nu
SUMMARY:Vanløse Torv Loppemarked
DESCRIPTION:Vanløse torv loppemarked hver lørdag 10.00 – 16.00 på Vanløse torv.\nKom og gør et kup på vores loppe & livsstilsmarked masser af lækre loppefund!\nKøb brugt \, hjælp klima & spar penge!
URL:https://loppemarkeder.nu/loppemarked/vanloese-torv-loppemarked/2026-07-25/
LOCATION:Vanløse Torv Loppemarked\, Vanløse Torv
CATEGORIES:Loppemarked
ATTACH;FMTTYPE=image/jpeg:https://loppemarkeder.nu/wp-content/uploads/2026/03/images.jpeg
END:VEVENT
BEGIN:VEVENT
DTSTART;TZID=Europe/Copenhagen:20260726T110000
DTEND;TZID=Europe/Copenhagen:20260726T160000
DTSTAMP:20260422T123530
CREATED:20260304T170029Z
LAST-MODIFIED:20260304T170029Z
UID:10005282-1785063600-1785081600@loppemarkeder.nu
SUMMARY:SOMMERLOPPE 2026
DESCRIPTION:SOMMERLOPPE 2026\n\n\nSØNDAGE FRA DEN 3 MAJ TIL 27 SEPTEMBER\n\n\nTørvejrsgaranti under taget\n\n\nSTANDE FRA KUN 200kr \n\n\nØresundsvej 6 2300 Kbh S – Se mere på : \n\n\nBESTIL STAND HER : Info@sommerloppe.dk
URL:https://loppemarkeder.nu/loppemarked/sommerloppe-2026/2026-07-26/
LOCATION:Øresundsvej 6 2300 Kbh S\, Øresundsvej 6 2300 Kbh S
CATEGORIES:Loppemarked
ATTACH;FMTTYPE=image/jpeg:https://loppemarkeder.nu/wp-content/uploads/2026/03/645201121_10162844376867634_4856425160454488067_n.jpg
END:VEVENT
END:VCALENDAR