BEGIN:VCALENDAR
VERSION:2.0
PRODID:-//Loppemarkeder NU - 2026 - ECPv6.15.20//NONSGML v1.0//EN
CALSCALE:GREGORIAN
METHOD:PUBLISH
X-WR-CALNAME:Loppemarkeder NU - 2026
X-ORIGINAL-URL:https://loppemarkeder.nu
X-WR-CALDESC:Begivenheder for Loppemarkeder NU - 2026
REFRESH-INTERVAL;VALUE=DURATION:PT1H
X-Robots-Tag:noindex
X-PUBLISHED-TTL:PT1H
BEGIN:VTIMEZONE
TZID:Europe/Copenhagen
BEGIN:DAYLIGHT
TZOFFSETFROM:+0100
TZOFFSETTO:+0200
TZNAME:CEST
DTSTART:20250330T010000
END:DAYLIGHT
BEGIN:STANDARD
TZOFFSETFROM:+0200
TZOFFSETTO:+0100
TZNAME:CET
DTSTART:20251026T010000
END:STANDARD
BEGIN:DAYLIGHT
TZOFFSETFROM:+0100
TZOFFSETTO:+0200
TZNAME:CEST
DTSTART:20260329T010000
END:DAYLIGHT
BEGIN:STANDARD
TZOFFSETFROM:+0200
TZOFFSETTO:+0100
TZNAME:CET
DTSTART:20261025T010000
END:STANDARD
BEGIN:DAYLIGHT
TZOFFSETFROM:+0100
TZOFFSETTO:+0200
TZNAME:CEST
DTSTART:20270328T010000
END:DAYLIGHT
BEGIN:STANDARD
TZOFFSETFROM:+0200
TZOFFSETTO:+0100
TZNAME:CET
DTSTART:20271031T010000
END:STANDARD
END:VTIMEZONE
BEGIN:VEVENT
DTSTART;TZID=Europe/Copenhagen:20261004T090000
DTEND;TZID=Europe/Copenhagen:20261004T150000
DTSTAMP:20260419T195130
CREATED:20251129T190406Z
LAST-MODIFIED:20251129T191437Z
UID:10004391-1791104400-1791126000@loppemarkeder.nu
SUMMARY:Hareskovens Loppemarked 2026
DESCRIPTION:Vi gentager succesen – ses første søndag i oktober 2026 💫
URL:https://loppemarkeder.nu/loppemarked/hareskovens-loppemarked-2026/
LOCATION:Hareskovhallen\, Hareskovhallen
CATEGORIES:Loppemarked
ATTACH;FMTTYPE=image/jpeg:https://loppemarkeder.nu/wp-content/uploads/2025/11/557595523_122222303168124822_437265747358974008_n.webp
ORGANIZER;CN="Hareskovens Loppemarked":MAILTO:noreply@facebookmail.com
END:VEVENT
END:VCALENDAR