BEGIN:VCALENDAR
VERSION:2.0
PRODID:-//Loppemarkeder NU - 2026 - ECPv6.15.20//NONSGML v1.0//EN
CALSCALE:GREGORIAN
METHOD:PUBLISH
X-WR-CALNAME:Loppemarkeder NU - 2026
X-ORIGINAL-URL:https://loppemarkeder.nu
X-WR-CALDESC:Begivenheder for Loppemarkeder NU - 2026
REFRESH-INTERVAL;VALUE=DURATION:PT1H
X-Robots-Tag:noindex
X-PUBLISHED-TTL:PT1H
BEGIN:VTIMEZONE
TZID:Europe/Copenhagen
BEGIN:DAYLIGHT
TZOFFSETFROM:+0100
TZOFFSETTO:+0200
TZNAME:CEST
DTSTART:20250330T010000
END:DAYLIGHT
BEGIN:STANDARD
TZOFFSETFROM:+0200
TZOFFSETTO:+0100
TZNAME:CET
DTSTART:20251026T010000
END:STANDARD
BEGIN:DAYLIGHT
TZOFFSETFROM:+0100
TZOFFSETTO:+0200
TZNAME:CEST
DTSTART:20260329T010000
END:DAYLIGHT
BEGIN:STANDARD
TZOFFSETFROM:+0200
TZOFFSETTO:+0100
TZNAME:CET
DTSTART:20261025T010000
END:STANDARD
BEGIN:DAYLIGHT
TZOFFSETFROM:+0100
TZOFFSETTO:+0200
TZNAME:CEST
DTSTART:20270328T010000
END:DAYLIGHT
BEGIN:STANDARD
TZOFFSETFROM:+0200
TZOFFSETTO:+0100
TZNAME:CET
DTSTART:20271031T010000
END:STANDARD
END:VTIMEZONE
BEGIN:VEVENT
DTSTART;TZID=Europe/Copenhagen:20260523T100000
DTEND;TZID=Europe/Copenhagen:20260523T150000
DTSTAMP:20260423T234408
CREATED:20260423T152514Z
LAST-MODIFIED:20260423T153658Z
UID:10005630-1779530400-1779548400@loppemarkeder.nu
SUMMARY:Loppemarked i Boesagerparken
DESCRIPTION:Kære naboer\nSå er det snart tid igen! Vores årlige loppemarked løber af stablen lørdag d. 23. maj 2026 kl. 10.00-15.00\, og vi glæder os til en dag fyldt med hygge\, gode fund og masser af liv på legepladsen. \nVi stiller telte op\, og i år kører vi først til mølle-princippet – ingen tilmelding.\nTil gengæld hjælper alle deltagende husstande med at sætte telte op om fredagen\, så vi kan få det hele klar i fællesskab. \nDet plejer at være en fantastisk dag\, hvor både børn og voksne får ryddet ud og gjort gode handler.\nNår vi kommer ind i maj\, begynder vi at reklamere lidt mere for dagen. \nHåber I vil være med!
URL:https://loppemarkeder.nu/loppemarked/loppemarked-i-boesagerparken/
LOCATION:Grundejerforeningen Boesagerparken\, Grundejerforeningen Boesagerparken
CATEGORIES:Loppemarked
ATTACH;FMTTYPE=image/jpeg:https://loppemarkeder.nu/wp-content/uploads/2026/04/672445452_1431735612327438_456683034656946034_n.jpg
END:VEVENT
END:VCALENDAR