BEGIN:VCALENDAR
VERSION:2.0
PRODID:-//Loppemarkeder NU - 2026 - ECPv6.15.20//NONSGML v1.0//EN
CALSCALE:GREGORIAN
METHOD:PUBLISH
X-ORIGINAL-URL:https://loppemarkeder.nu
X-WR-CALDESC:Begivenheder for Loppemarkeder NU - 2026
REFRESH-INTERVAL;VALUE=DURATION:PT1H
X-Robots-Tag:noindex
X-PUBLISHED-TTL:PT1H
BEGIN:VTIMEZONE
TZID:Europe/Copenhagen
BEGIN:DAYLIGHT
TZOFFSETFROM:+0100
TZOFFSETTO:+0200
TZNAME:CEST
DTSTART:20250330T010000
END:DAYLIGHT
BEGIN:STANDARD
TZOFFSETFROM:+0200
TZOFFSETTO:+0100
TZNAME:CET
DTSTART:20251026T010000
END:STANDARD
BEGIN:DAYLIGHT
TZOFFSETFROM:+0100
TZOFFSETTO:+0200
TZNAME:CEST
DTSTART:20260329T010000
END:DAYLIGHT
BEGIN:STANDARD
TZOFFSETFROM:+0200
TZOFFSETTO:+0100
TZNAME:CET
DTSTART:20261025T010000
END:STANDARD
BEGIN:DAYLIGHT
TZOFFSETFROM:+0100
TZOFFSETTO:+0200
TZNAME:CEST
DTSTART:20270328T010000
END:DAYLIGHT
BEGIN:STANDARD
TZOFFSETFROM:+0200
TZOFFSETTO:+0100
TZNAME:CET
DTSTART:20271031T010000
END:STANDARD
END:VTIMEZONE
BEGIN:VEVENT
DTSTART;TZID=Europe/Copenhagen:20260715T110000
DTEND;TZID=Europe/Copenhagen:20260715T143000
DTSTAMP:20260421T070717
CREATED:20251214T170213Z
LAST-MODIFIED:20260128T112648Z
UID:10004511-1784113200-1784125800@loppemarkeder.nu
SUMMARY:Nakskov Loppemarked
DESCRIPTION:Spændende marked med næsten alt i brugte genstande også retro og antik.
URL:https://loppemarkeder.nu/loppemarked/nakskov-loppemarked-2/2026-07-15/
LOCATION:Østergade 18\, 4900 Nakskov\, Østergade 18\, 4900 Nakskov
CATEGORIES:Kræmmermarked,Loppemarked
ATTACH;FMTTYPE=image/jpeg:https://loppemarkeder.nu/wp-content/uploads/2025/12/odsherred-1.webp
END:VEVENT
BEGIN:VEVENT
DTSTART;TZID=Europe/Copenhagen:20260718T110000
DTEND;TZID=Europe/Copenhagen:20260718T143000
DTSTAMP:20260421T070717
CREATED:20251214T170213Z
LAST-MODIFIED:20260128T112648Z
UID:10004512-1784372400-1784385000@loppemarkeder.nu
SUMMARY:Nakskov Loppemarked
DESCRIPTION:Spændende marked med næsten alt i brugte genstande også retro og antik.
URL:https://loppemarkeder.nu/loppemarked/nakskov-loppemarked-2/2026-07-18/
LOCATION:Østergade 18\, 4900 Nakskov\, Østergade 18\, 4900 Nakskov
CATEGORIES:Kræmmermarked,Loppemarked
ATTACH;FMTTYPE=image/jpeg:https://loppemarkeder.nu/wp-content/uploads/2025/12/odsherred-1.webp
END:VEVENT
BEGIN:VEVENT
DTSTART;TZID=Europe/Copenhagen:20260722T110000
DTEND;TZID=Europe/Copenhagen:20260722T143000
DTSTAMP:20260421T070717
CREATED:20251214T170213Z
LAST-MODIFIED:20260128T112648Z
UID:10004513-1784718000-1784730600@loppemarkeder.nu
SUMMARY:Nakskov Loppemarked
DESCRIPTION:Spændende marked med næsten alt i brugte genstande også retro og antik.
URL:https://loppemarkeder.nu/loppemarked/nakskov-loppemarked-2/2026-07-22/
LOCATION:Østergade 18\, 4900 Nakskov\, Østergade 18\, 4900 Nakskov
CATEGORIES:Kræmmermarked,Loppemarked
ATTACH;FMTTYPE=image/jpeg:https://loppemarkeder.nu/wp-content/uploads/2025/12/odsherred-1.webp
END:VEVENT
BEGIN:VEVENT
DTSTART;TZID=Europe/Copenhagen:20260725T110000
DTEND;TZID=Europe/Copenhagen:20260725T143000
DTSTAMP:20260421T070717
CREATED:20251214T170213Z
LAST-MODIFIED:20260128T112648Z
UID:10004514-1784977200-1784989800@loppemarkeder.nu
SUMMARY:Nakskov Loppemarked
DESCRIPTION:Spændende marked med næsten alt i brugte genstande også retro og antik.
URL:https://loppemarkeder.nu/loppemarked/nakskov-loppemarked-2/2026-07-25/
LOCATION:Østergade 18\, 4900 Nakskov\, Østergade 18\, 4900 Nakskov
CATEGORIES:Kræmmermarked,Loppemarked
ATTACH;FMTTYPE=image/jpeg:https://loppemarkeder.nu/wp-content/uploads/2025/12/odsherred-1.webp
END:VEVENT
BEGIN:VEVENT
DTSTART;TZID=Europe/Copenhagen:20260729T110000
DTEND;TZID=Europe/Copenhagen:20260729T143000
DTSTAMP:20260421T070717
CREATED:20251214T170213Z
LAST-MODIFIED:20260128T112648Z
UID:10004515-1785322800-1785335400@loppemarkeder.nu
SUMMARY:Nakskov Loppemarked
DESCRIPTION:Spændende marked med næsten alt i brugte genstande også retro og antik.
URL:https://loppemarkeder.nu/loppemarked/nakskov-loppemarked-2/2026-07-29/
LOCATION:Østergade 18\, 4900 Nakskov\, Østergade 18\, 4900 Nakskov
CATEGORIES:Kræmmermarked,Loppemarked
ATTACH;FMTTYPE=image/jpeg:https://loppemarkeder.nu/wp-content/uploads/2025/12/odsherred-1.webp
END:VEVENT
BEGIN:VEVENT
DTSTART;TZID=Europe/Copenhagen:20260801T110000
DTEND;TZID=Europe/Copenhagen:20260801T143000
DTSTAMP:20260421T070717
CREATED:20251214T170213Z
LAST-MODIFIED:20260128T112648Z
UID:10004516-1785582000-1785594600@loppemarkeder.nu
SUMMARY:Nakskov Loppemarked
DESCRIPTION:Spændende marked med næsten alt i brugte genstande også retro og antik.
URL:https://loppemarkeder.nu/loppemarked/nakskov-loppemarked-2/2026-08-01/
LOCATION:Østergade 18\, 4900 Nakskov\, Østergade 18\, 4900 Nakskov
CATEGORIES:Kræmmermarked,Loppemarked
ATTACH;FMTTYPE=image/jpeg:https://loppemarkeder.nu/wp-content/uploads/2025/12/odsherred-1.webp
END:VEVENT
BEGIN:VEVENT
DTSTART;TZID=Europe/Copenhagen:20260805T110000
DTEND;TZID=Europe/Copenhagen:20260805T143000
DTSTAMP:20260421T070717
CREATED:20251214T170213Z
LAST-MODIFIED:20260128T112648Z
UID:10004517-1785927600-1785940200@loppemarkeder.nu
SUMMARY:Nakskov Loppemarked
DESCRIPTION:Spændende marked med næsten alt i brugte genstande også retro og antik.
URL:https://loppemarkeder.nu/loppemarked/nakskov-loppemarked-2/2026-08-05/
LOCATION:Østergade 18\, 4900 Nakskov\, Østergade 18\, 4900 Nakskov
CATEGORIES:Kræmmermarked,Loppemarked
ATTACH;FMTTYPE=image/jpeg:https://loppemarkeder.nu/wp-content/uploads/2025/12/odsherred-1.webp
END:VEVENT
BEGIN:VEVENT
DTSTART;TZID=Europe/Copenhagen:20260808T110000
DTEND;TZID=Europe/Copenhagen:20260808T143000
DTSTAMP:20260421T070717
CREATED:20251214T170213Z
LAST-MODIFIED:20260128T112648Z
UID:10004518-1786186800-1786199400@loppemarkeder.nu
SUMMARY:Nakskov Loppemarked
DESCRIPTION:Spændende marked med næsten alt i brugte genstande også retro og antik.
URL:https://loppemarkeder.nu/loppemarked/nakskov-loppemarked-2/2026-08-08/
LOCATION:Østergade 18\, 4900 Nakskov\, Østergade 18\, 4900 Nakskov
CATEGORIES:Kræmmermarked,Loppemarked
ATTACH;FMTTYPE=image/jpeg:https://loppemarkeder.nu/wp-content/uploads/2025/12/odsherred-1.webp
END:VEVENT
BEGIN:VEVENT
DTSTART;TZID=Europe/Copenhagen:20260812T110000
DTEND;TZID=Europe/Copenhagen:20260812T143000
DTSTAMP:20260421T070717
CREATED:20251214T170213Z
LAST-MODIFIED:20260128T112648Z
UID:10004519-1786532400-1786545000@loppemarkeder.nu
SUMMARY:Nakskov Loppemarked
DESCRIPTION:Spændende marked med næsten alt i brugte genstande også retro og antik.
URL:https://loppemarkeder.nu/loppemarked/nakskov-loppemarked-2/2026-08-12/
LOCATION:Østergade 18\, 4900 Nakskov\, Østergade 18\, 4900 Nakskov
CATEGORIES:Kræmmermarked,Loppemarked
ATTACH;FMTTYPE=image/jpeg:https://loppemarkeder.nu/wp-content/uploads/2025/12/odsherred-1.webp
END:VEVENT
BEGIN:VEVENT
DTSTART;TZID=Europe/Copenhagen:20260815T110000
DTEND;TZID=Europe/Copenhagen:20260815T143000
DTSTAMP:20260421T070717
CREATED:20251214T170213Z
LAST-MODIFIED:20260128T112648Z
UID:10004520-1786791600-1786804200@loppemarkeder.nu
SUMMARY:Nakskov Loppemarked
DESCRIPTION:Spændende marked med næsten alt i brugte genstande også retro og antik.
URL:https://loppemarkeder.nu/loppemarked/nakskov-loppemarked-2/2026-08-15/
LOCATION:Østergade 18\, 4900 Nakskov\, Østergade 18\, 4900 Nakskov
CATEGORIES:Kræmmermarked,Loppemarked
ATTACH;FMTTYPE=image/jpeg:https://loppemarkeder.nu/wp-content/uploads/2025/12/odsherred-1.webp
END:VEVENT
BEGIN:VEVENT
DTSTART;TZID=Europe/Copenhagen:20260819T110000
DTEND;TZID=Europe/Copenhagen:20260819T143000
DTSTAMP:20260421T070717
CREATED:20251214T170213Z
LAST-MODIFIED:20260128T112648Z
UID:10004521-1787137200-1787149800@loppemarkeder.nu
SUMMARY:Nakskov Loppemarked
DESCRIPTION:Spændende marked med næsten alt i brugte genstande også retro og antik.
URL:https://loppemarkeder.nu/loppemarked/nakskov-loppemarked-2/2026-08-19/
LOCATION:Østergade 18\, 4900 Nakskov\, Østergade 18\, 4900 Nakskov
CATEGORIES:Kræmmermarked,Loppemarked
ATTACH;FMTTYPE=image/jpeg:https://loppemarkeder.nu/wp-content/uploads/2025/12/odsherred-1.webp
END:VEVENT
BEGIN:VEVENT
DTSTART;TZID=Europe/Copenhagen:20260822T110000
DTEND;TZID=Europe/Copenhagen:20260822T143000
DTSTAMP:20260421T070717
CREATED:20251214T170213Z
LAST-MODIFIED:20260128T112648Z
UID:10004522-1787396400-1787409000@loppemarkeder.nu
SUMMARY:Nakskov Loppemarked
DESCRIPTION:Spændende marked med næsten alt i brugte genstande også retro og antik.
URL:https://loppemarkeder.nu/loppemarked/nakskov-loppemarked-2/2026-08-22/
LOCATION:Østergade 18\, 4900 Nakskov\, Østergade 18\, 4900 Nakskov
CATEGORIES:Kræmmermarked,Loppemarked
ATTACH;FMTTYPE=image/jpeg:https://loppemarkeder.nu/wp-content/uploads/2025/12/odsherred-1.webp
END:VEVENT
BEGIN:VEVENT
DTSTART;TZID=Europe/Copenhagen:20260826T110000
DTEND;TZID=Europe/Copenhagen:20260826T143000
DTSTAMP:20260421T070717
CREATED:20251214T170213Z
LAST-MODIFIED:20260128T112648Z
UID:10004523-1787742000-1787754600@loppemarkeder.nu
SUMMARY:Nakskov Loppemarked
DESCRIPTION:Spændende marked med næsten alt i brugte genstande også retro og antik.
URL:https://loppemarkeder.nu/loppemarked/nakskov-loppemarked-2/2026-08-26/
LOCATION:Østergade 18\, 4900 Nakskov\, Østergade 18\, 4900 Nakskov
CATEGORIES:Kræmmermarked,Loppemarked
ATTACH;FMTTYPE=image/jpeg:https://loppemarkeder.nu/wp-content/uploads/2025/12/odsherred-1.webp
END:VEVENT
BEGIN:VEVENT
DTSTART;TZID=Europe/Copenhagen:20260829T110000
DTEND;TZID=Europe/Copenhagen:20260829T143000
DTSTAMP:20260421T070717
CREATED:20251214T170213Z
LAST-MODIFIED:20260128T112648Z
UID:10004524-1788001200-1788013800@loppemarkeder.nu
SUMMARY:Nakskov Loppemarked
DESCRIPTION:Spændende marked med næsten alt i brugte genstande også retro og antik.
URL:https://loppemarkeder.nu/loppemarked/nakskov-loppemarked-2/2026-08-29/
LOCATION:Østergade 18\, 4900 Nakskov\, Østergade 18\, 4900 Nakskov
CATEGORIES:Kræmmermarked,Loppemarked
ATTACH;FMTTYPE=image/jpeg:https://loppemarkeder.nu/wp-content/uploads/2025/12/odsherred-1.webp
END:VEVENT
BEGIN:VEVENT
DTSTART;TZID=Europe/Copenhagen:20260902T110000
DTEND;TZID=Europe/Copenhagen:20260902T143000
DTSTAMP:20260421T070717
CREATED:20251214T170213Z
LAST-MODIFIED:20260128T112648Z
UID:10004525-1788346800-1788359400@loppemarkeder.nu
SUMMARY:Nakskov Loppemarked
DESCRIPTION:Spændende marked med næsten alt i brugte genstande også retro og antik.
URL:https://loppemarkeder.nu/loppemarked/nakskov-loppemarked-2/2026-09-02/
LOCATION:Østergade 18\, 4900 Nakskov\, Østergade 18\, 4900 Nakskov
CATEGORIES:Kræmmermarked,Loppemarked
ATTACH;FMTTYPE=image/jpeg:https://loppemarkeder.nu/wp-content/uploads/2025/12/odsherred-1.webp
END:VEVENT
BEGIN:VEVENT
DTSTART;TZID=Europe/Copenhagen:20260905T110000
DTEND;TZID=Europe/Copenhagen:20260905T143000
DTSTAMP:20260421T070717
CREATED:20251214T170213Z
LAST-MODIFIED:20260128T112648Z
UID:10004526-1788606000-1788618600@loppemarkeder.nu
SUMMARY:Nakskov Loppemarked
DESCRIPTION:Spændende marked med næsten alt i brugte genstande også retro og antik.
URL:https://loppemarkeder.nu/loppemarked/nakskov-loppemarked-2/2026-09-05/
LOCATION:Østergade 18\, 4900 Nakskov\, Østergade 18\, 4900 Nakskov
CATEGORIES:Kræmmermarked,Loppemarked
ATTACH;FMTTYPE=image/jpeg:https://loppemarkeder.nu/wp-content/uploads/2025/12/odsherred-1.webp
END:VEVENT
BEGIN:VEVENT
DTSTART;TZID=Europe/Copenhagen:20260909T110000
DTEND;TZID=Europe/Copenhagen:20260909T143000
DTSTAMP:20260421T070717
CREATED:20251214T170213Z
LAST-MODIFIED:20260128T112648Z
UID:10004527-1788951600-1788964200@loppemarkeder.nu
SUMMARY:Nakskov Loppemarked
DESCRIPTION:Spændende marked med næsten alt i brugte genstande også retro og antik.
URL:https://loppemarkeder.nu/loppemarked/nakskov-loppemarked-2/2026-09-09/
LOCATION:Østergade 18\, 4900 Nakskov\, Østergade 18\, 4900 Nakskov
CATEGORIES:Kræmmermarked,Loppemarked
ATTACH;FMTTYPE=image/jpeg:https://loppemarkeder.nu/wp-content/uploads/2025/12/odsherred-1.webp
END:VEVENT
BEGIN:VEVENT
DTSTART;TZID=Europe/Copenhagen:20260912T110000
DTEND;TZID=Europe/Copenhagen:20260912T143000
DTSTAMP:20260421T070717
CREATED:20251214T170213Z
LAST-MODIFIED:20260128T112648Z
UID:10004528-1789210800-1789223400@loppemarkeder.nu
SUMMARY:Nakskov Loppemarked
DESCRIPTION:Spændende marked med næsten alt i brugte genstande også retro og antik.
URL:https://loppemarkeder.nu/loppemarked/nakskov-loppemarked-2/2026-09-12/
LOCATION:Østergade 18\, 4900 Nakskov\, Østergade 18\, 4900 Nakskov
CATEGORIES:Kræmmermarked,Loppemarked
ATTACH;FMTTYPE=image/jpeg:https://loppemarkeder.nu/wp-content/uploads/2025/12/odsherred-1.webp
END:VEVENT
BEGIN:VEVENT
DTSTART;TZID=Europe/Copenhagen:20260916T110000
DTEND;TZID=Europe/Copenhagen:20260916T143000
DTSTAMP:20260421T070717
CREATED:20251214T170213Z
LAST-MODIFIED:20260128T112648Z
UID:10004529-1789556400-1789569000@loppemarkeder.nu
SUMMARY:Nakskov Loppemarked
DESCRIPTION:Spændende marked med næsten alt i brugte genstande også retro og antik.
URL:https://loppemarkeder.nu/loppemarked/nakskov-loppemarked-2/2026-09-16/
LOCATION:Østergade 18\, 4900 Nakskov\, Østergade 18\, 4900 Nakskov
CATEGORIES:Kræmmermarked,Loppemarked
ATTACH;FMTTYPE=image/jpeg:https://loppemarkeder.nu/wp-content/uploads/2025/12/odsherred-1.webp
END:VEVENT
BEGIN:VEVENT
DTSTART;TZID=Europe/Copenhagen:20260919T110000
DTEND;TZID=Europe/Copenhagen:20260919T143000
DTSTAMP:20260421T070717
CREATED:20251214T170213Z
LAST-MODIFIED:20260128T112648Z
UID:10004530-1789815600-1789828200@loppemarkeder.nu
SUMMARY:Nakskov Loppemarked
DESCRIPTION:Spændende marked med næsten alt i brugte genstande også retro og antik.
URL:https://loppemarkeder.nu/loppemarked/nakskov-loppemarked-2/2026-09-19/
LOCATION:Østergade 18\, 4900 Nakskov\, Østergade 18\, 4900 Nakskov
CATEGORIES:Kræmmermarked,Loppemarked
ATTACH;FMTTYPE=image/jpeg:https://loppemarkeder.nu/wp-content/uploads/2025/12/odsherred-1.webp
END:VEVENT
BEGIN:VEVENT
DTSTART;TZID=Europe/Copenhagen:20260923T110000
DTEND;TZID=Europe/Copenhagen:20260923T143000
DTSTAMP:20260421T070717
CREATED:20251214T170213Z
LAST-MODIFIED:20260128T112648Z
UID:10004531-1790161200-1790173800@loppemarkeder.nu
SUMMARY:Nakskov Loppemarked
DESCRIPTION:Spændende marked med næsten alt i brugte genstande også retro og antik.
URL:https://loppemarkeder.nu/loppemarked/nakskov-loppemarked-2/2026-09-23/
LOCATION:Østergade 18\, 4900 Nakskov\, Østergade 18\, 4900 Nakskov
CATEGORIES:Kræmmermarked,Loppemarked
ATTACH;FMTTYPE=image/jpeg:https://loppemarkeder.nu/wp-content/uploads/2025/12/odsherred-1.webp
END:VEVENT
BEGIN:VEVENT
DTSTART;TZID=Europe/Copenhagen:20260926T110000
DTEND;TZID=Europe/Copenhagen:20260926T143000
DTSTAMP:20260421T070717
CREATED:20251214T170213Z
LAST-MODIFIED:20260128T112648Z
UID:10004532-1790420400-1790433000@loppemarkeder.nu
SUMMARY:Nakskov Loppemarked
DESCRIPTION:Spændende marked med næsten alt i brugte genstande også retro og antik.
URL:https://loppemarkeder.nu/loppemarked/nakskov-loppemarked-2/2026-09-26/
LOCATION:Østergade 18\, 4900 Nakskov\, Østergade 18\, 4900 Nakskov
CATEGORIES:Kræmmermarked,Loppemarked
ATTACH;FMTTYPE=image/jpeg:https://loppemarkeder.nu/wp-content/uploads/2025/12/odsherred-1.webp
END:VEVENT
BEGIN:VEVENT
DTSTART;TZID=Europe/Copenhagen:20260930T110000
DTEND;TZID=Europe/Copenhagen:20260930T143000
DTSTAMP:20260421T070717
CREATED:20251214T170213Z
LAST-MODIFIED:20260128T112648Z
UID:10004533-1790766000-1790778600@loppemarkeder.nu
SUMMARY:Nakskov Loppemarked
DESCRIPTION:Spændende marked med næsten alt i brugte genstande også retro og antik.
URL:https://loppemarkeder.nu/loppemarked/nakskov-loppemarked-2/2026-09-30/
LOCATION:Østergade 18\, 4900 Nakskov\, Østergade 18\, 4900 Nakskov
CATEGORIES:Kræmmermarked,Loppemarked
ATTACH;FMTTYPE=image/jpeg:https://loppemarkeder.nu/wp-content/uploads/2025/12/odsherred-1.webp
END:VEVENT
BEGIN:VEVENT
DTSTART;TZID=Europe/Copenhagen:20261003T110000
DTEND;TZID=Europe/Copenhagen:20261003T143000
DTSTAMP:20260421T070717
CREATED:20251214T170213Z
LAST-MODIFIED:20260128T112648Z
UID:10004534-1791025200-1791037800@loppemarkeder.nu
SUMMARY:Nakskov Loppemarked
DESCRIPTION:Spændende marked med næsten alt i brugte genstande også retro og antik.
URL:https://loppemarkeder.nu/loppemarked/nakskov-loppemarked-2/2026-10-03/
LOCATION:Østergade 18\, 4900 Nakskov\, Østergade 18\, 4900 Nakskov
CATEGORIES:Kræmmermarked,Loppemarked
ATTACH;FMTTYPE=image/jpeg:https://loppemarkeder.nu/wp-content/uploads/2025/12/odsherred-1.webp
END:VEVENT
BEGIN:VEVENT
DTSTART;TZID=Europe/Copenhagen:20261007T110000
DTEND;TZID=Europe/Copenhagen:20261007T143000
DTSTAMP:20260421T070717
CREATED:20251214T170213Z
LAST-MODIFIED:20260128T112648Z
UID:10004535-1791370800-1791383400@loppemarkeder.nu
SUMMARY:Nakskov Loppemarked
DESCRIPTION:Spændende marked med næsten alt i brugte genstande også retro og antik.
URL:https://loppemarkeder.nu/loppemarked/nakskov-loppemarked-2/2026-10-07/
LOCATION:Østergade 18\, 4900 Nakskov\, Østergade 18\, 4900 Nakskov
CATEGORIES:Kræmmermarked,Loppemarked
ATTACH;FMTTYPE=image/jpeg:https://loppemarkeder.nu/wp-content/uploads/2025/12/odsherred-1.webp
END:VEVENT
BEGIN:VEVENT
DTSTART;TZID=Europe/Copenhagen:20261010T110000
DTEND;TZID=Europe/Copenhagen:20261010T143000
DTSTAMP:20260421T070717
CREATED:20251214T170213Z
LAST-MODIFIED:20260128T112648Z
UID:10004536-1791630000-1791642600@loppemarkeder.nu
SUMMARY:Nakskov Loppemarked
DESCRIPTION:Spændende marked med næsten alt i brugte genstande også retro og antik.
URL:https://loppemarkeder.nu/loppemarked/nakskov-loppemarked-2/2026-10-10/
LOCATION:Østergade 18\, 4900 Nakskov\, Østergade 18\, 4900 Nakskov
CATEGORIES:Kræmmermarked,Loppemarked
ATTACH;FMTTYPE=image/jpeg:https://loppemarkeder.nu/wp-content/uploads/2025/12/odsherred-1.webp
END:VEVENT
BEGIN:VEVENT
DTSTART;TZID=Europe/Copenhagen:20261014T110000
DTEND;TZID=Europe/Copenhagen:20261014T143000
DTSTAMP:20260421T070717
CREATED:20251214T170213Z
LAST-MODIFIED:20260128T112648Z
UID:10004537-1791975600-1791988200@loppemarkeder.nu
SUMMARY:Nakskov Loppemarked
DESCRIPTION:Spændende marked med næsten alt i brugte genstande også retro og antik.
URL:https://loppemarkeder.nu/loppemarked/nakskov-loppemarked-2/2026-10-14/
LOCATION:Østergade 18\, 4900 Nakskov\, Østergade 18\, 4900 Nakskov
CATEGORIES:Kræmmermarked,Loppemarked
ATTACH;FMTTYPE=image/jpeg:https://loppemarkeder.nu/wp-content/uploads/2025/12/odsherred-1.webp
END:VEVENT
BEGIN:VEVENT
DTSTART;TZID=Europe/Copenhagen:20261017T110000
DTEND;TZID=Europe/Copenhagen:20261017T143000
DTSTAMP:20260421T070717
CREATED:20251214T170213Z
LAST-MODIFIED:20260128T112648Z
UID:10004538-1792234800-1792247400@loppemarkeder.nu
SUMMARY:Nakskov Loppemarked
DESCRIPTION:Spændende marked med næsten alt i brugte genstande også retro og antik.
URL:https://loppemarkeder.nu/loppemarked/nakskov-loppemarked-2/2026-10-17/
LOCATION:Østergade 18\, 4900 Nakskov\, Østergade 18\, 4900 Nakskov
CATEGORIES:Kræmmermarked,Loppemarked
ATTACH;FMTTYPE=image/jpeg:https://loppemarkeder.nu/wp-content/uploads/2025/12/odsherred-1.webp
END:VEVENT
BEGIN:VEVENT
DTSTART;TZID=Europe/Copenhagen:20261021T110000
DTEND;TZID=Europe/Copenhagen:20261021T143000
DTSTAMP:20260421T070717
CREATED:20251214T170213Z
LAST-MODIFIED:20260128T112648Z
UID:10004539-1792580400-1792593000@loppemarkeder.nu
SUMMARY:Nakskov Loppemarked
DESCRIPTION:Spændende marked med næsten alt i brugte genstande også retro og antik.
URL:https://loppemarkeder.nu/loppemarked/nakskov-loppemarked-2/2026-10-21/
LOCATION:Østergade 18\, 4900 Nakskov\, Østergade 18\, 4900 Nakskov
CATEGORIES:Kræmmermarked,Loppemarked
ATTACH;FMTTYPE=image/jpeg:https://loppemarkeder.nu/wp-content/uploads/2025/12/odsherred-1.webp
END:VEVENT
BEGIN:VEVENT
DTSTART;TZID=Europe/Copenhagen:20261024T110000
DTEND;TZID=Europe/Copenhagen:20261024T143000
DTSTAMP:20260421T070717
CREATED:20251214T170213Z
LAST-MODIFIED:20260128T112648Z
UID:10004540-1792839600-1792852200@loppemarkeder.nu
SUMMARY:Nakskov Loppemarked
DESCRIPTION:Spændende marked med næsten alt i brugte genstande også retro og antik.
URL:https://loppemarkeder.nu/loppemarked/nakskov-loppemarked-2/2026-10-24/
LOCATION:Østergade 18\, 4900 Nakskov\, Østergade 18\, 4900 Nakskov
CATEGORIES:Kræmmermarked,Loppemarked
ATTACH;FMTTYPE=image/jpeg:https://loppemarkeder.nu/wp-content/uploads/2025/12/odsherred-1.webp
END:VEVENT
END:VCALENDAR