BEGIN:VCALENDAR
VERSION:2.0
PRODID:-//Loppemarkeder NU - 2026 - ECPv6.15.20//NONSGML v1.0//EN
CALSCALE:GREGORIAN
METHOD:PUBLISH
X-ORIGINAL-URL:https://loppemarkeder.nu
X-WR-CALDESC:Begivenheder for Loppemarkeder NU - 2026
REFRESH-INTERVAL;VALUE=DURATION:PT1H
X-Robots-Tag:noindex
X-PUBLISHED-TTL:PT1H
BEGIN:VTIMEZONE
TZID:Europe/Copenhagen
BEGIN:DAYLIGHT
TZOFFSETFROM:+0100
TZOFFSETTO:+0200
TZNAME:CEST
DTSTART:20250330T010000
END:DAYLIGHT
BEGIN:STANDARD
TZOFFSETFROM:+0200
TZOFFSETTO:+0100
TZNAME:CET
DTSTART:20251026T010000
END:STANDARD
BEGIN:DAYLIGHT
TZOFFSETFROM:+0100
TZOFFSETTO:+0200
TZNAME:CEST
DTSTART:20260329T010000
END:DAYLIGHT
BEGIN:STANDARD
TZOFFSETFROM:+0200
TZOFFSETTO:+0100
TZNAME:CET
DTSTART:20261025T010000
END:STANDARD
BEGIN:DAYLIGHT
TZOFFSETFROM:+0100
TZOFFSETTO:+0200
TZNAME:CEST
DTSTART:20270328T010000
END:DAYLIGHT
BEGIN:STANDARD
TZOFFSETFROM:+0200
TZOFFSETTO:+0100
TZNAME:CET
DTSTART:20271031T010000
END:STANDARD
END:VTIMEZONE
BEGIN:VEVENT
DTSTART;TZID=Europe/Copenhagen:20260719T080000
DTEND;TZID=Europe/Copenhagen:20260719T140000
DTSTAMP:20260420T124056
CREATED:20251129T192214Z
LAST-MODIFIED:20251129T192214Z
UID:10004406-1784448000-1784469600@loppemarkeder.nu
SUMMARY:Gentofte Loppemarked
DESCRIPTION:Gentofte Loppemarked drives af Herberget Overførstergården\, en selvejende institution.\nOverførstergården er stiftet i 1991 som hjælp til hjemløse med alkoholproblemer og psyko-sociale vanskeligheder.\nLoppemarkedet har efterhånden 24 år bag sig\, og drives som indtægtsdækket virksomhed\, hvor overskuddet bruges til gavn for herberget og hjemløse. 
URL:https://loppemarkeder.nu/loppemarked/gentofte-loppemarked/2026-07-19/
LOCATION:Bregnegårdsvej 2A\, Gentofte\, Bregnegårdsvej 2A\, Gentofte
CATEGORIES:Loppemarked
ATTACH;FMTTYPE=image/avif:https://loppemarkeder.nu/wp-content/uploads/2025/11/26fbb7_ad98669b9ba64efb9143ca9f01122937mv2.avif
END:VEVENT
BEGIN:VEVENT
DTSTART;TZID=Europe/Copenhagen:20260726T080000
DTEND;TZID=Europe/Copenhagen:20260726T140000
DTSTAMP:20260420T124056
CREATED:20251129T192214Z
LAST-MODIFIED:20251129T192214Z
UID:10004407-1785052800-1785074400@loppemarkeder.nu
SUMMARY:Gentofte Loppemarked
DESCRIPTION:Gentofte Loppemarked drives af Herberget Overførstergården\, en selvejende institution.\nOverførstergården er stiftet i 1991 som hjælp til hjemløse med alkoholproblemer og psyko-sociale vanskeligheder.\nLoppemarkedet har efterhånden 24 år bag sig\, og drives som indtægtsdækket virksomhed\, hvor overskuddet bruges til gavn for herberget og hjemløse. 
URL:https://loppemarkeder.nu/loppemarked/gentofte-loppemarked/2026-07-26/
LOCATION:Bregnegårdsvej 2A\, Gentofte\, Bregnegårdsvej 2A\, Gentofte
CATEGORIES:Loppemarked
ATTACH;FMTTYPE=image/avif:https://loppemarkeder.nu/wp-content/uploads/2025/11/26fbb7_ad98669b9ba64efb9143ca9f01122937mv2.avif
END:VEVENT
BEGIN:VEVENT
DTSTART;TZID=Europe/Copenhagen:20260802T080000
DTEND;TZID=Europe/Copenhagen:20260802T140000
DTSTAMP:20260420T124056
CREATED:20251129T192214Z
LAST-MODIFIED:20251129T192214Z
UID:10004408-1785657600-1785679200@loppemarkeder.nu
SUMMARY:Gentofte Loppemarked
DESCRIPTION:Gentofte Loppemarked drives af Herberget Overførstergården\, en selvejende institution.\nOverførstergården er stiftet i 1991 som hjælp til hjemløse med alkoholproblemer og psyko-sociale vanskeligheder.\nLoppemarkedet har efterhånden 24 år bag sig\, og drives som indtægtsdækket virksomhed\, hvor overskuddet bruges til gavn for herberget og hjemløse. 
URL:https://loppemarkeder.nu/loppemarked/gentofte-loppemarked/2026-08-02/
LOCATION:Bregnegårdsvej 2A\, Gentofte\, Bregnegårdsvej 2A\, Gentofte
CATEGORIES:Loppemarked
ATTACH;FMTTYPE=image/avif:https://loppemarkeder.nu/wp-content/uploads/2025/11/26fbb7_ad98669b9ba64efb9143ca9f01122937mv2.avif
END:VEVENT
BEGIN:VEVENT
DTSTART;TZID=Europe/Copenhagen:20260809T080000
DTEND;TZID=Europe/Copenhagen:20260809T140000
DTSTAMP:20260420T124056
CREATED:20251129T192214Z
LAST-MODIFIED:20251129T192214Z
UID:10004409-1786262400-1786284000@loppemarkeder.nu
SUMMARY:Gentofte Loppemarked
DESCRIPTION:Gentofte Loppemarked drives af Herberget Overførstergården\, en selvejende institution.\nOverførstergården er stiftet i 1991 som hjælp til hjemløse med alkoholproblemer og psyko-sociale vanskeligheder.\nLoppemarkedet har efterhånden 24 år bag sig\, og drives som indtægtsdækket virksomhed\, hvor overskuddet bruges til gavn for herberget og hjemløse. 
URL:https://loppemarkeder.nu/loppemarked/gentofte-loppemarked/2026-08-09/
LOCATION:Bregnegårdsvej 2A\, Gentofte\, Bregnegårdsvej 2A\, Gentofte
CATEGORIES:Loppemarked
ATTACH;FMTTYPE=image/avif:https://loppemarkeder.nu/wp-content/uploads/2025/11/26fbb7_ad98669b9ba64efb9143ca9f01122937mv2.avif
END:VEVENT
BEGIN:VEVENT
DTSTART;TZID=Europe/Copenhagen:20260816T080000
DTEND;TZID=Europe/Copenhagen:20260816T140000
DTSTAMP:20260420T124056
CREATED:20251129T192214Z
LAST-MODIFIED:20251129T192214Z
UID:10004410-1786867200-1786888800@loppemarkeder.nu
SUMMARY:Gentofte Loppemarked
DESCRIPTION:Gentofte Loppemarked drives af Herberget Overførstergården\, en selvejende institution.\nOverførstergården er stiftet i 1991 som hjælp til hjemløse med alkoholproblemer og psyko-sociale vanskeligheder.\nLoppemarkedet har efterhånden 24 år bag sig\, og drives som indtægtsdækket virksomhed\, hvor overskuddet bruges til gavn for herberget og hjemløse. 
URL:https://loppemarkeder.nu/loppemarked/gentofte-loppemarked/2026-08-16/
LOCATION:Bregnegårdsvej 2A\, Gentofte\, Bregnegårdsvej 2A\, Gentofte
CATEGORIES:Loppemarked
ATTACH;FMTTYPE=image/avif:https://loppemarkeder.nu/wp-content/uploads/2025/11/26fbb7_ad98669b9ba64efb9143ca9f01122937mv2.avif
END:VEVENT
BEGIN:VEVENT
DTSTART;TZID=Europe/Copenhagen:20260823T080000
DTEND;TZID=Europe/Copenhagen:20260823T140000
DTSTAMP:20260420T124056
CREATED:20251129T192214Z
LAST-MODIFIED:20251129T192214Z
UID:10004411-1787472000-1787493600@loppemarkeder.nu
SUMMARY:Gentofte Loppemarked
DESCRIPTION:Gentofte Loppemarked drives af Herberget Overførstergården\, en selvejende institution.\nOverførstergården er stiftet i 1991 som hjælp til hjemløse med alkoholproblemer og psyko-sociale vanskeligheder.\nLoppemarkedet har efterhånden 24 år bag sig\, og drives som indtægtsdækket virksomhed\, hvor overskuddet bruges til gavn for herberget og hjemløse. 
URL:https://loppemarkeder.nu/loppemarked/gentofte-loppemarked/2026-08-23/
LOCATION:Bregnegårdsvej 2A\, Gentofte\, Bregnegårdsvej 2A\, Gentofte
CATEGORIES:Loppemarked
ATTACH;FMTTYPE=image/avif:https://loppemarkeder.nu/wp-content/uploads/2025/11/26fbb7_ad98669b9ba64efb9143ca9f01122937mv2.avif
END:VEVENT
BEGIN:VEVENT
DTSTART;TZID=Europe/Copenhagen:20260830T080000
DTEND;TZID=Europe/Copenhagen:20260830T140000
DTSTAMP:20260420T124056
CREATED:20251129T192214Z
LAST-MODIFIED:20251129T192214Z
UID:10004412-1788076800-1788098400@loppemarkeder.nu
SUMMARY:Gentofte Loppemarked
DESCRIPTION:Gentofte Loppemarked drives af Herberget Overførstergården\, en selvejende institution.\nOverførstergården er stiftet i 1991 som hjælp til hjemløse med alkoholproblemer og psyko-sociale vanskeligheder.\nLoppemarkedet har efterhånden 24 år bag sig\, og drives som indtægtsdækket virksomhed\, hvor overskuddet bruges til gavn for herberget og hjemløse. 
URL:https://loppemarkeder.nu/loppemarked/gentofte-loppemarked/2026-08-30/
LOCATION:Bregnegårdsvej 2A\, Gentofte\, Bregnegårdsvej 2A\, Gentofte
CATEGORIES:Loppemarked
ATTACH;FMTTYPE=image/avif:https://loppemarkeder.nu/wp-content/uploads/2025/11/26fbb7_ad98669b9ba64efb9143ca9f01122937mv2.avif
END:VEVENT
BEGIN:VEVENT
DTSTART;TZID=Europe/Copenhagen:20260906T080000
DTEND;TZID=Europe/Copenhagen:20260906T140000
DTSTAMP:20260420T124056
CREATED:20251129T192214Z
LAST-MODIFIED:20251129T192214Z
UID:10004413-1788681600-1788703200@loppemarkeder.nu
SUMMARY:Gentofte Loppemarked
DESCRIPTION:Gentofte Loppemarked drives af Herberget Overførstergården\, en selvejende institution.\nOverførstergården er stiftet i 1991 som hjælp til hjemløse med alkoholproblemer og psyko-sociale vanskeligheder.\nLoppemarkedet har efterhånden 24 år bag sig\, og drives som indtægtsdækket virksomhed\, hvor overskuddet bruges til gavn for herberget og hjemløse. 
URL:https://loppemarkeder.nu/loppemarked/gentofte-loppemarked/2026-09-06/
LOCATION:Bregnegårdsvej 2A\, Gentofte\, Bregnegårdsvej 2A\, Gentofte
CATEGORIES:Loppemarked
ATTACH;FMTTYPE=image/avif:https://loppemarkeder.nu/wp-content/uploads/2025/11/26fbb7_ad98669b9ba64efb9143ca9f01122937mv2.avif
END:VEVENT
BEGIN:VEVENT
DTSTART;TZID=Europe/Copenhagen:20260913T080000
DTEND;TZID=Europe/Copenhagen:20260913T140000
DTSTAMP:20260420T124056
CREATED:20251129T192214Z
LAST-MODIFIED:20251129T192214Z
UID:10004414-1789286400-1789308000@loppemarkeder.nu
SUMMARY:Gentofte Loppemarked
DESCRIPTION:Gentofte Loppemarked drives af Herberget Overførstergården\, en selvejende institution.\nOverførstergården er stiftet i 1991 som hjælp til hjemløse med alkoholproblemer og psyko-sociale vanskeligheder.\nLoppemarkedet har efterhånden 24 år bag sig\, og drives som indtægtsdækket virksomhed\, hvor overskuddet bruges til gavn for herberget og hjemløse. 
URL:https://loppemarkeder.nu/loppemarked/gentofte-loppemarked/2026-09-13/
LOCATION:Bregnegårdsvej 2A\, Gentofte\, Bregnegårdsvej 2A\, Gentofte
CATEGORIES:Loppemarked
ATTACH;FMTTYPE=image/avif:https://loppemarkeder.nu/wp-content/uploads/2025/11/26fbb7_ad98669b9ba64efb9143ca9f01122937mv2.avif
END:VEVENT
BEGIN:VEVENT
DTSTART;TZID=Europe/Copenhagen:20260920T080000
DTEND;TZID=Europe/Copenhagen:20260920T140000
DTSTAMP:20260420T124056
CREATED:20251129T192214Z
LAST-MODIFIED:20251129T192214Z
UID:10004415-1789891200-1789912800@loppemarkeder.nu
SUMMARY:Gentofte Loppemarked
DESCRIPTION:Gentofte Loppemarked drives af Herberget Overførstergården\, en selvejende institution.\nOverførstergården er stiftet i 1991 som hjælp til hjemløse med alkoholproblemer og psyko-sociale vanskeligheder.\nLoppemarkedet har efterhånden 24 år bag sig\, og drives som indtægtsdækket virksomhed\, hvor overskuddet bruges til gavn for herberget og hjemløse. 
URL:https://loppemarkeder.nu/loppemarked/gentofte-loppemarked/2026-09-20/
LOCATION:Bregnegårdsvej 2A\, Gentofte\, Bregnegårdsvej 2A\, Gentofte
CATEGORIES:Loppemarked
ATTACH;FMTTYPE=image/avif:https://loppemarkeder.nu/wp-content/uploads/2025/11/26fbb7_ad98669b9ba64efb9143ca9f01122937mv2.avif
END:VEVENT
BEGIN:VEVENT
DTSTART;TZID=Europe/Copenhagen:20260927T080000
DTEND;TZID=Europe/Copenhagen:20260927T140000
DTSTAMP:20260420T124056
CREATED:20251129T192214Z
LAST-MODIFIED:20251129T192214Z
UID:10004416-1790496000-1790517600@loppemarkeder.nu
SUMMARY:Gentofte Loppemarked
DESCRIPTION:Gentofte Loppemarked drives af Herberget Overførstergården\, en selvejende institution.\nOverførstergården er stiftet i 1991 som hjælp til hjemløse med alkoholproblemer og psyko-sociale vanskeligheder.\nLoppemarkedet har efterhånden 24 år bag sig\, og drives som indtægtsdækket virksomhed\, hvor overskuddet bruges til gavn for herberget og hjemløse. 
URL:https://loppemarkeder.nu/loppemarked/gentofte-loppemarked/2026-09-27/
LOCATION:Bregnegårdsvej 2A\, Gentofte\, Bregnegårdsvej 2A\, Gentofte
CATEGORIES:Loppemarked
ATTACH;FMTTYPE=image/avif:https://loppemarkeder.nu/wp-content/uploads/2025/11/26fbb7_ad98669b9ba64efb9143ca9f01122937mv2.avif
END:VEVENT
BEGIN:VEVENT
DTSTART;TZID=Europe/Copenhagen:20261004T080000
DTEND;TZID=Europe/Copenhagen:20261004T140000
DTSTAMP:20260420T124056
CREATED:20251129T192214Z
LAST-MODIFIED:20251129T192214Z
UID:10004417-1791100800-1791122400@loppemarkeder.nu
SUMMARY:Gentofte Loppemarked
DESCRIPTION:Gentofte Loppemarked drives af Herberget Overførstergården\, en selvejende institution.\nOverførstergården er stiftet i 1991 som hjælp til hjemløse med alkoholproblemer og psyko-sociale vanskeligheder.\nLoppemarkedet har efterhånden 24 år bag sig\, og drives som indtægtsdækket virksomhed\, hvor overskuddet bruges til gavn for herberget og hjemløse. 
URL:https://loppemarkeder.nu/loppemarked/gentofte-loppemarked/2026-10-04/
LOCATION:Bregnegårdsvej 2A\, Gentofte\, Bregnegårdsvej 2A\, Gentofte
CATEGORIES:Loppemarked
ATTACH;FMTTYPE=image/avif:https://loppemarkeder.nu/wp-content/uploads/2025/11/26fbb7_ad98669b9ba64efb9143ca9f01122937mv2.avif
END:VEVENT
END:VCALENDAR