BEGIN:VCALENDAR
VERSION:2.0
PRODID:-//Loppemarkeder NU - 2026 - ECPv6.15.20//NONSGML v1.0//EN
CALSCALE:GREGORIAN
METHOD:PUBLISH
X-ORIGINAL-URL:https://loppemarkeder.nu
X-WR-CALDESC:Begivenheder for Loppemarkeder NU - 2026
REFRESH-INTERVAL;VALUE=DURATION:PT1H
X-Robots-Tag:noindex
X-PUBLISHED-TTL:PT1H
BEGIN:VTIMEZONE
TZID:Europe/Copenhagen
BEGIN:DAYLIGHT
TZOFFSETFROM:+0100
TZOFFSETTO:+0200
TZNAME:CEST
DTSTART:20250330T010000
END:DAYLIGHT
BEGIN:STANDARD
TZOFFSETFROM:+0200
TZOFFSETTO:+0100
TZNAME:CET
DTSTART:20251026T010000
END:STANDARD
BEGIN:DAYLIGHT
TZOFFSETFROM:+0100
TZOFFSETTO:+0200
TZNAME:CEST
DTSTART:20260329T010000
END:DAYLIGHT
BEGIN:STANDARD
TZOFFSETFROM:+0200
TZOFFSETTO:+0100
TZNAME:CET
DTSTART:20261025T010000
END:STANDARD
BEGIN:DAYLIGHT
TZOFFSETFROM:+0100
TZOFFSETTO:+0200
TZNAME:CEST
DTSTART:20270328T010000
END:DAYLIGHT
BEGIN:STANDARD
TZOFFSETFROM:+0200
TZOFFSETTO:+0100
TZNAME:CET
DTSTART:20271031T010000
END:STANDARD
END:VTIMEZONE
BEGIN:VEVENT
DTSTART;TZID=Europe/Copenhagen:20260426T100000
DTEND;TZID=Europe/Copenhagen:20260426T150000
DTSTAMP:20260419T161019
CREATED:20260218T175150Z
LAST-MODIFIED:20260218T175150Z
UID:10005173-1777197600-1777215600@loppemarkeder.nu
SUMMARY:Sønndagsloppemarked - Skt. Thomas Plads
DESCRIPTION:Fra 5. april til 13. september (undtagen 10. maj) forvandler vi hver søndag kl. 10–15 pladsen til et lokalt loppemarked fyldt med genbrugsguld\, gode fund og den hyggeligste stemning – lige mellem Vesterbrogade og Værnedamsvej. \nVi glæder os helt vildt til at skabe en ny søndagstradition på Sankt Thomas Plads – håber vi ses både bag standene og på jagt efter gode fund 
URL:https://loppemarkeder.nu/loppemarked/soenndagsloppemarked-skt-thomas-plads/2026-04-26/
LOCATION:Skt. Thomas Plads\, Skt. Thomas Plads
CATEGORIES:Loppemarked
ATTACH;FMTTYPE=image/jpeg:https://loppemarkeder.nu/wp-content/uploads/2026/02/638101331_122135468858997077_6573549922513584458_n.jpg
END:VEVENT
BEGIN:VEVENT
DTSTART;TZID=Europe/Copenhagen:20260503T100000
DTEND;TZID=Europe/Copenhagen:20260503T150000
DTSTAMP:20260419T161019
CREATED:20260218T175150Z
LAST-MODIFIED:20260218T175150Z
UID:10005174-1777802400-1777820400@loppemarkeder.nu
SUMMARY:Sønndagsloppemarked - Skt. Thomas Plads
DESCRIPTION:Fra 5. april til 13. september (undtagen 10. maj) forvandler vi hver søndag kl. 10–15 pladsen til et lokalt loppemarked fyldt med genbrugsguld\, gode fund og den hyggeligste stemning – lige mellem Vesterbrogade og Værnedamsvej. \nVi glæder os helt vildt til at skabe en ny søndagstradition på Sankt Thomas Plads – håber vi ses både bag standene og på jagt efter gode fund 
URL:https://loppemarkeder.nu/loppemarked/soenndagsloppemarked-skt-thomas-plads/2026-05-03/
LOCATION:Skt. Thomas Plads\, Skt. Thomas Plads
CATEGORIES:Loppemarked
ATTACH;FMTTYPE=image/jpeg:https://loppemarkeder.nu/wp-content/uploads/2026/02/638101331_122135468858997077_6573549922513584458_n.jpg
END:VEVENT
BEGIN:VEVENT
DTSTART;TZID=Europe/Copenhagen:20260517T100000
DTEND;TZID=Europe/Copenhagen:20260517T150000
DTSTAMP:20260419T161019
CREATED:20260218T175150Z
LAST-MODIFIED:20260218T175150Z
UID:10005175-1779012000-1779030000@loppemarkeder.nu
SUMMARY:Sønndagsloppemarked - Skt. Thomas Plads
DESCRIPTION:Fra 5. april til 13. september (undtagen 10. maj) forvandler vi hver søndag kl. 10–15 pladsen til et lokalt loppemarked fyldt med genbrugsguld\, gode fund og den hyggeligste stemning – lige mellem Vesterbrogade og Værnedamsvej. \nVi glæder os helt vildt til at skabe en ny søndagstradition på Sankt Thomas Plads – håber vi ses både bag standene og på jagt efter gode fund 
URL:https://loppemarkeder.nu/loppemarked/soenndagsloppemarked-skt-thomas-plads/2026-05-17/
LOCATION:Skt. Thomas Plads\, Skt. Thomas Plads
CATEGORIES:Loppemarked
ATTACH;FMTTYPE=image/jpeg:https://loppemarkeder.nu/wp-content/uploads/2026/02/638101331_122135468858997077_6573549922513584458_n.jpg
END:VEVENT
BEGIN:VEVENT
DTSTART;TZID=Europe/Copenhagen:20260524T100000
DTEND;TZID=Europe/Copenhagen:20260524T150000
DTSTAMP:20260419T161019
CREATED:20260218T175150Z
LAST-MODIFIED:20260218T175150Z
UID:10005176-1779616800-1779634800@loppemarkeder.nu
SUMMARY:Sønndagsloppemarked - Skt. Thomas Plads
DESCRIPTION:Fra 5. april til 13. september (undtagen 10. maj) forvandler vi hver søndag kl. 10–15 pladsen til et lokalt loppemarked fyldt med genbrugsguld\, gode fund og den hyggeligste stemning – lige mellem Vesterbrogade og Værnedamsvej. \nVi glæder os helt vildt til at skabe en ny søndagstradition på Sankt Thomas Plads – håber vi ses både bag standene og på jagt efter gode fund 
URL:https://loppemarkeder.nu/loppemarked/soenndagsloppemarked-skt-thomas-plads/2026-05-24/
LOCATION:Skt. Thomas Plads\, Skt. Thomas Plads
CATEGORIES:Loppemarked
ATTACH;FMTTYPE=image/jpeg:https://loppemarkeder.nu/wp-content/uploads/2026/02/638101331_122135468858997077_6573549922513584458_n.jpg
END:VEVENT
BEGIN:VEVENT
DTSTART;TZID=Europe/Copenhagen:20260531T100000
DTEND;TZID=Europe/Copenhagen:20260531T150000
DTSTAMP:20260419T161019
CREATED:20260218T175150Z
LAST-MODIFIED:20260218T175150Z
UID:10005177-1780221600-1780239600@loppemarkeder.nu
SUMMARY:Sønndagsloppemarked - Skt. Thomas Plads
DESCRIPTION:Fra 5. april til 13. september (undtagen 10. maj) forvandler vi hver søndag kl. 10–15 pladsen til et lokalt loppemarked fyldt med genbrugsguld\, gode fund og den hyggeligste stemning – lige mellem Vesterbrogade og Værnedamsvej. \nVi glæder os helt vildt til at skabe en ny søndagstradition på Sankt Thomas Plads – håber vi ses både bag standene og på jagt efter gode fund 
URL:https://loppemarkeder.nu/loppemarked/soenndagsloppemarked-skt-thomas-plads/2026-05-31/
LOCATION:Skt. Thomas Plads\, Skt. Thomas Plads
CATEGORIES:Loppemarked
ATTACH;FMTTYPE=image/jpeg:https://loppemarkeder.nu/wp-content/uploads/2026/02/638101331_122135468858997077_6573549922513584458_n.jpg
END:VEVENT
BEGIN:VEVENT
DTSTART;TZID=Europe/Copenhagen:20260607T100000
DTEND;TZID=Europe/Copenhagen:20260607T150000
DTSTAMP:20260419T161019
CREATED:20260218T175150Z
LAST-MODIFIED:20260218T175150Z
UID:10005178-1780826400-1780844400@loppemarkeder.nu
SUMMARY:Sønndagsloppemarked - Skt. Thomas Plads
DESCRIPTION:Fra 5. april til 13. september (undtagen 10. maj) forvandler vi hver søndag kl. 10–15 pladsen til et lokalt loppemarked fyldt med genbrugsguld\, gode fund og den hyggeligste stemning – lige mellem Vesterbrogade og Værnedamsvej. \nVi glæder os helt vildt til at skabe en ny søndagstradition på Sankt Thomas Plads – håber vi ses både bag standene og på jagt efter gode fund 
URL:https://loppemarkeder.nu/loppemarked/soenndagsloppemarked-skt-thomas-plads/2026-06-07/
LOCATION:Skt. Thomas Plads\, Skt. Thomas Plads
CATEGORIES:Loppemarked
ATTACH;FMTTYPE=image/jpeg:https://loppemarkeder.nu/wp-content/uploads/2026/02/638101331_122135468858997077_6573549922513584458_n.jpg
END:VEVENT
BEGIN:VEVENT
DTSTART;TZID=Europe/Copenhagen:20260614T100000
DTEND;TZID=Europe/Copenhagen:20260614T150000
DTSTAMP:20260419T161019
CREATED:20260218T175150Z
LAST-MODIFIED:20260218T175150Z
UID:10005179-1781431200-1781449200@loppemarkeder.nu
SUMMARY:Sønndagsloppemarked - Skt. Thomas Plads
DESCRIPTION:Fra 5. april til 13. september (undtagen 10. maj) forvandler vi hver søndag kl. 10–15 pladsen til et lokalt loppemarked fyldt med genbrugsguld\, gode fund og den hyggeligste stemning – lige mellem Vesterbrogade og Værnedamsvej. \nVi glæder os helt vildt til at skabe en ny søndagstradition på Sankt Thomas Plads – håber vi ses både bag standene og på jagt efter gode fund 
URL:https://loppemarkeder.nu/loppemarked/soenndagsloppemarked-skt-thomas-plads/2026-06-14/
LOCATION:Skt. Thomas Plads\, Skt. Thomas Plads
CATEGORIES:Loppemarked
ATTACH;FMTTYPE=image/jpeg:https://loppemarkeder.nu/wp-content/uploads/2026/02/638101331_122135468858997077_6573549922513584458_n.jpg
END:VEVENT
BEGIN:VEVENT
DTSTART;TZID=Europe/Copenhagen:20260621T100000
DTEND;TZID=Europe/Copenhagen:20260621T150000
DTSTAMP:20260419T161019
CREATED:20260218T175150Z
LAST-MODIFIED:20260218T175150Z
UID:10005180-1782036000-1782054000@loppemarkeder.nu
SUMMARY:Sønndagsloppemarked - Skt. Thomas Plads
DESCRIPTION:Fra 5. april til 13. september (undtagen 10. maj) forvandler vi hver søndag kl. 10–15 pladsen til et lokalt loppemarked fyldt med genbrugsguld\, gode fund og den hyggeligste stemning – lige mellem Vesterbrogade og Værnedamsvej. \nVi glæder os helt vildt til at skabe en ny søndagstradition på Sankt Thomas Plads – håber vi ses både bag standene og på jagt efter gode fund 
URL:https://loppemarkeder.nu/loppemarked/soenndagsloppemarked-skt-thomas-plads/2026-06-21/
LOCATION:Skt. Thomas Plads\, Skt. Thomas Plads
CATEGORIES:Loppemarked
ATTACH;FMTTYPE=image/jpeg:https://loppemarkeder.nu/wp-content/uploads/2026/02/638101331_122135468858997077_6573549922513584458_n.jpg
END:VEVENT
BEGIN:VEVENT
DTSTART;TZID=Europe/Copenhagen:20260628T100000
DTEND;TZID=Europe/Copenhagen:20260628T150000
DTSTAMP:20260419T161019
CREATED:20260218T175150Z
LAST-MODIFIED:20260218T175150Z
UID:10005181-1782640800-1782658800@loppemarkeder.nu
SUMMARY:Sønndagsloppemarked - Skt. Thomas Plads
DESCRIPTION:Fra 5. april til 13. september (undtagen 10. maj) forvandler vi hver søndag kl. 10–15 pladsen til et lokalt loppemarked fyldt med genbrugsguld\, gode fund og den hyggeligste stemning – lige mellem Vesterbrogade og Værnedamsvej. \nVi glæder os helt vildt til at skabe en ny søndagstradition på Sankt Thomas Plads – håber vi ses både bag standene og på jagt efter gode fund 
URL:https://loppemarkeder.nu/loppemarked/soenndagsloppemarked-skt-thomas-plads/2026-06-28/
LOCATION:Skt. Thomas Plads\, Skt. Thomas Plads
CATEGORIES:Loppemarked
ATTACH;FMTTYPE=image/jpeg:https://loppemarkeder.nu/wp-content/uploads/2026/02/638101331_122135468858997077_6573549922513584458_n.jpg
END:VEVENT
BEGIN:VEVENT
DTSTART;TZID=Europe/Copenhagen:20260705T100000
DTEND;TZID=Europe/Copenhagen:20260705T150000
DTSTAMP:20260419T161019
CREATED:20260218T175150Z
LAST-MODIFIED:20260218T175150Z
UID:10005182-1783245600-1783263600@loppemarkeder.nu
SUMMARY:Sønndagsloppemarked - Skt. Thomas Plads
DESCRIPTION:Fra 5. april til 13. september (undtagen 10. maj) forvandler vi hver søndag kl. 10–15 pladsen til et lokalt loppemarked fyldt med genbrugsguld\, gode fund og den hyggeligste stemning – lige mellem Vesterbrogade og Værnedamsvej. \nVi glæder os helt vildt til at skabe en ny søndagstradition på Sankt Thomas Plads – håber vi ses både bag standene og på jagt efter gode fund 
URL:https://loppemarkeder.nu/loppemarked/soenndagsloppemarked-skt-thomas-plads/2026-07-05/
LOCATION:Skt. Thomas Plads\, Skt. Thomas Plads
CATEGORIES:Loppemarked
ATTACH;FMTTYPE=image/jpeg:https://loppemarkeder.nu/wp-content/uploads/2026/02/638101331_122135468858997077_6573549922513584458_n.jpg
END:VEVENT
BEGIN:VEVENT
DTSTART;TZID=Europe/Copenhagen:20260712T100000
DTEND;TZID=Europe/Copenhagen:20260712T150000
DTSTAMP:20260419T161019
CREATED:20260218T175150Z
LAST-MODIFIED:20260218T175150Z
UID:10005183-1783850400-1783868400@loppemarkeder.nu
SUMMARY:Sønndagsloppemarked - Skt. Thomas Plads
DESCRIPTION:Fra 5. april til 13. september (undtagen 10. maj) forvandler vi hver søndag kl. 10–15 pladsen til et lokalt loppemarked fyldt med genbrugsguld\, gode fund og den hyggeligste stemning – lige mellem Vesterbrogade og Værnedamsvej. \nVi glæder os helt vildt til at skabe en ny søndagstradition på Sankt Thomas Plads – håber vi ses både bag standene og på jagt efter gode fund 
URL:https://loppemarkeder.nu/loppemarked/soenndagsloppemarked-skt-thomas-plads/2026-07-12/
LOCATION:Skt. Thomas Plads\, Skt. Thomas Plads
CATEGORIES:Loppemarked
ATTACH;FMTTYPE=image/jpeg:https://loppemarkeder.nu/wp-content/uploads/2026/02/638101331_122135468858997077_6573549922513584458_n.jpg
END:VEVENT
BEGIN:VEVENT
DTSTART;TZID=Europe/Copenhagen:20260719T100000
DTEND;TZID=Europe/Copenhagen:20260719T150000
DTSTAMP:20260419T161019
CREATED:20260218T175150Z
LAST-MODIFIED:20260218T175150Z
UID:10005184-1784455200-1784473200@loppemarkeder.nu
SUMMARY:Sønndagsloppemarked - Skt. Thomas Plads
DESCRIPTION:Fra 5. april til 13. september (undtagen 10. maj) forvandler vi hver søndag kl. 10–15 pladsen til et lokalt loppemarked fyldt med genbrugsguld\, gode fund og den hyggeligste stemning – lige mellem Vesterbrogade og Værnedamsvej. \nVi glæder os helt vildt til at skabe en ny søndagstradition på Sankt Thomas Plads – håber vi ses både bag standene og på jagt efter gode fund 
URL:https://loppemarkeder.nu/loppemarked/soenndagsloppemarked-skt-thomas-plads/2026-07-19/
LOCATION:Skt. Thomas Plads\, Skt. Thomas Plads
CATEGORIES:Loppemarked
ATTACH;FMTTYPE=image/jpeg:https://loppemarkeder.nu/wp-content/uploads/2026/02/638101331_122135468858997077_6573549922513584458_n.jpg
END:VEVENT
BEGIN:VEVENT
DTSTART;TZID=Europe/Copenhagen:20260726T100000
DTEND;TZID=Europe/Copenhagen:20260726T150000
DTSTAMP:20260419T161019
CREATED:20260218T175150Z
LAST-MODIFIED:20260218T175150Z
UID:10005185-1785060000-1785078000@loppemarkeder.nu
SUMMARY:Sønndagsloppemarked - Skt. Thomas Plads
DESCRIPTION:Fra 5. april til 13. september (undtagen 10. maj) forvandler vi hver søndag kl. 10–15 pladsen til et lokalt loppemarked fyldt med genbrugsguld\, gode fund og den hyggeligste stemning – lige mellem Vesterbrogade og Værnedamsvej. \nVi glæder os helt vildt til at skabe en ny søndagstradition på Sankt Thomas Plads – håber vi ses både bag standene og på jagt efter gode fund 
URL:https://loppemarkeder.nu/loppemarked/soenndagsloppemarked-skt-thomas-plads/2026-07-26/
LOCATION:Skt. Thomas Plads\, Skt. Thomas Plads
CATEGORIES:Loppemarked
ATTACH;FMTTYPE=image/jpeg:https://loppemarkeder.nu/wp-content/uploads/2026/02/638101331_122135468858997077_6573549922513584458_n.jpg
END:VEVENT
BEGIN:VEVENT
DTSTART;TZID=Europe/Copenhagen:20260802T100000
DTEND;TZID=Europe/Copenhagen:20260802T150000
DTSTAMP:20260419T161019
CREATED:20260218T175150Z
LAST-MODIFIED:20260218T175150Z
UID:10005186-1785664800-1785682800@loppemarkeder.nu
SUMMARY:Sønndagsloppemarked - Skt. Thomas Plads
DESCRIPTION:Fra 5. april til 13. september (undtagen 10. maj) forvandler vi hver søndag kl. 10–15 pladsen til et lokalt loppemarked fyldt med genbrugsguld\, gode fund og den hyggeligste stemning – lige mellem Vesterbrogade og Værnedamsvej. \nVi glæder os helt vildt til at skabe en ny søndagstradition på Sankt Thomas Plads – håber vi ses både bag standene og på jagt efter gode fund 
URL:https://loppemarkeder.nu/loppemarked/soenndagsloppemarked-skt-thomas-plads/2026-08-02/
LOCATION:Skt. Thomas Plads\, Skt. Thomas Plads
CATEGORIES:Loppemarked
ATTACH;FMTTYPE=image/jpeg:https://loppemarkeder.nu/wp-content/uploads/2026/02/638101331_122135468858997077_6573549922513584458_n.jpg
END:VEVENT
BEGIN:VEVENT
DTSTART;TZID=Europe/Copenhagen:20260809T100000
DTEND;TZID=Europe/Copenhagen:20260809T150000
DTSTAMP:20260419T161019
CREATED:20260218T175150Z
LAST-MODIFIED:20260218T175150Z
UID:10005187-1786269600-1786287600@loppemarkeder.nu
SUMMARY:Sønndagsloppemarked - Skt. Thomas Plads
DESCRIPTION:Fra 5. april til 13. september (undtagen 10. maj) forvandler vi hver søndag kl. 10–15 pladsen til et lokalt loppemarked fyldt med genbrugsguld\, gode fund og den hyggeligste stemning – lige mellem Vesterbrogade og Værnedamsvej. \nVi glæder os helt vildt til at skabe en ny søndagstradition på Sankt Thomas Plads – håber vi ses både bag standene og på jagt efter gode fund 
URL:https://loppemarkeder.nu/loppemarked/soenndagsloppemarked-skt-thomas-plads/2026-08-09/
LOCATION:Skt. Thomas Plads\, Skt. Thomas Plads
CATEGORIES:Loppemarked
ATTACH;FMTTYPE=image/jpeg:https://loppemarkeder.nu/wp-content/uploads/2026/02/638101331_122135468858997077_6573549922513584458_n.jpg
END:VEVENT
BEGIN:VEVENT
DTSTART;TZID=Europe/Copenhagen:20260816T100000
DTEND;TZID=Europe/Copenhagen:20260816T150000
DTSTAMP:20260419T161019
CREATED:20260218T175150Z
LAST-MODIFIED:20260218T175150Z
UID:10005188-1786874400-1786892400@loppemarkeder.nu
SUMMARY:Sønndagsloppemarked - Skt. Thomas Plads
DESCRIPTION:Fra 5. april til 13. september (undtagen 10. maj) forvandler vi hver søndag kl. 10–15 pladsen til et lokalt loppemarked fyldt med genbrugsguld\, gode fund og den hyggeligste stemning – lige mellem Vesterbrogade og Værnedamsvej. \nVi glæder os helt vildt til at skabe en ny søndagstradition på Sankt Thomas Plads – håber vi ses både bag standene og på jagt efter gode fund 
URL:https://loppemarkeder.nu/loppemarked/soenndagsloppemarked-skt-thomas-plads/2026-08-16/
LOCATION:Skt. Thomas Plads\, Skt. Thomas Plads
CATEGORIES:Loppemarked
ATTACH;FMTTYPE=image/jpeg:https://loppemarkeder.nu/wp-content/uploads/2026/02/638101331_122135468858997077_6573549922513584458_n.jpg
END:VEVENT
BEGIN:VEVENT
DTSTART;TZID=Europe/Copenhagen:20260823T100000
DTEND;TZID=Europe/Copenhagen:20260823T150000
DTSTAMP:20260419T161019
CREATED:20260218T175150Z
LAST-MODIFIED:20260218T175150Z
UID:10005189-1787479200-1787497200@loppemarkeder.nu
SUMMARY:Sønndagsloppemarked - Skt. Thomas Plads
DESCRIPTION:Fra 5. april til 13. september (undtagen 10. maj) forvandler vi hver søndag kl. 10–15 pladsen til et lokalt loppemarked fyldt med genbrugsguld\, gode fund og den hyggeligste stemning – lige mellem Vesterbrogade og Værnedamsvej. \nVi glæder os helt vildt til at skabe en ny søndagstradition på Sankt Thomas Plads – håber vi ses både bag standene og på jagt efter gode fund 
URL:https://loppemarkeder.nu/loppemarked/soenndagsloppemarked-skt-thomas-plads/2026-08-23/
LOCATION:Skt. Thomas Plads\, Skt. Thomas Plads
CATEGORIES:Loppemarked
ATTACH;FMTTYPE=image/jpeg:https://loppemarkeder.nu/wp-content/uploads/2026/02/638101331_122135468858997077_6573549922513584458_n.jpg
END:VEVENT
BEGIN:VEVENT
DTSTART;TZID=Europe/Copenhagen:20260830T100000
DTEND;TZID=Europe/Copenhagen:20260830T150000
DTSTAMP:20260419T161019
CREATED:20260218T175150Z
LAST-MODIFIED:20260218T175150Z
UID:10005190-1788084000-1788102000@loppemarkeder.nu
SUMMARY:Sønndagsloppemarked - Skt. Thomas Plads
DESCRIPTION:Fra 5. april til 13. september (undtagen 10. maj) forvandler vi hver søndag kl. 10–15 pladsen til et lokalt loppemarked fyldt med genbrugsguld\, gode fund og den hyggeligste stemning – lige mellem Vesterbrogade og Værnedamsvej. \nVi glæder os helt vildt til at skabe en ny søndagstradition på Sankt Thomas Plads – håber vi ses både bag standene og på jagt efter gode fund 
URL:https://loppemarkeder.nu/loppemarked/soenndagsloppemarked-skt-thomas-plads/2026-08-30/
LOCATION:Skt. Thomas Plads\, Skt. Thomas Plads
CATEGORIES:Loppemarked
ATTACH;FMTTYPE=image/jpeg:https://loppemarkeder.nu/wp-content/uploads/2026/02/638101331_122135468858997077_6573549922513584458_n.jpg
END:VEVENT
BEGIN:VEVENT
DTSTART;TZID=Europe/Copenhagen:20260906T100000
DTEND;TZID=Europe/Copenhagen:20260906T150000
DTSTAMP:20260419T161019
CREATED:20260218T175150Z
LAST-MODIFIED:20260218T175150Z
UID:10005191-1788688800-1788706800@loppemarkeder.nu
SUMMARY:Sønndagsloppemarked - Skt. Thomas Plads
DESCRIPTION:Fra 5. april til 13. september (undtagen 10. maj) forvandler vi hver søndag kl. 10–15 pladsen til et lokalt loppemarked fyldt med genbrugsguld\, gode fund og den hyggeligste stemning – lige mellem Vesterbrogade og Værnedamsvej. \nVi glæder os helt vildt til at skabe en ny søndagstradition på Sankt Thomas Plads – håber vi ses både bag standene og på jagt efter gode fund 
URL:https://loppemarkeder.nu/loppemarked/soenndagsloppemarked-skt-thomas-plads/2026-09-06/
LOCATION:Skt. Thomas Plads\, Skt. Thomas Plads
CATEGORIES:Loppemarked
ATTACH;FMTTYPE=image/jpeg:https://loppemarkeder.nu/wp-content/uploads/2026/02/638101331_122135468858997077_6573549922513584458_n.jpg
END:VEVENT
BEGIN:VEVENT
DTSTART;TZID=Europe/Copenhagen:20260913T100000
DTEND;TZID=Europe/Copenhagen:20260913T150000
DTSTAMP:20260419T161019
CREATED:20260218T175150Z
LAST-MODIFIED:20260218T175150Z
UID:10005192-1789293600-1789311600@loppemarkeder.nu
SUMMARY:Sønndagsloppemarked - Skt. Thomas Plads
DESCRIPTION:Fra 5. april til 13. september (undtagen 10. maj) forvandler vi hver søndag kl. 10–15 pladsen til et lokalt loppemarked fyldt med genbrugsguld\, gode fund og den hyggeligste stemning – lige mellem Vesterbrogade og Værnedamsvej. \nVi glæder os helt vildt til at skabe en ny søndagstradition på Sankt Thomas Plads – håber vi ses både bag standene og på jagt efter gode fund 
URL:https://loppemarkeder.nu/loppemarked/soenndagsloppemarked-skt-thomas-plads/2026-09-13/
LOCATION:Skt. Thomas Plads\, Skt. Thomas Plads
CATEGORIES:Loppemarked
ATTACH;FMTTYPE=image/jpeg:https://loppemarkeder.nu/wp-content/uploads/2026/02/638101331_122135468858997077_6573549922513584458_n.jpg
END:VEVENT
END:VCALENDAR