BEGIN:VCALENDAR
VERSION:2.0
PRODID:-//Loppemarkeder NU - 2026 - ECPv6.15.20//NONSGML v1.0//EN
CALSCALE:GREGORIAN
METHOD:PUBLISH
X-WR-CALNAME:Loppemarkeder NU - 2026
X-ORIGINAL-URL:https://loppemarkeder.nu
X-WR-CALDESC:Begivenheder for Loppemarkeder NU - 2026
REFRESH-INTERVAL;VALUE=DURATION:PT1H
X-Robots-Tag:noindex
X-PUBLISHED-TTL:PT1H
BEGIN:VTIMEZONE
TZID:Europe/Copenhagen
BEGIN:DAYLIGHT
TZOFFSETFROM:+0100
TZOFFSETTO:+0200
TZNAME:CEST
DTSTART:20250330T010000
END:DAYLIGHT
BEGIN:STANDARD
TZOFFSETFROM:+0200
TZOFFSETTO:+0100
TZNAME:CET
DTSTART:20251026T010000
END:STANDARD
BEGIN:DAYLIGHT
TZOFFSETFROM:+0100
TZOFFSETTO:+0200
TZNAME:CEST
DTSTART:20260329T010000
END:DAYLIGHT
BEGIN:STANDARD
TZOFFSETFROM:+0200
TZOFFSETTO:+0100
TZNAME:CET
DTSTART:20261025T010000
END:STANDARD
BEGIN:DAYLIGHT
TZOFFSETFROM:+0100
TZOFFSETTO:+0200
TZNAME:CEST
DTSTART:20270328T010000
END:DAYLIGHT
BEGIN:STANDARD
TZOFFSETFROM:+0200
TZOFFSETTO:+0100
TZNAME:CET
DTSTART:20271031T010000
END:STANDARD
END:VTIMEZONE
BEGIN:VEVENT
DTSTART;TZID=Europe/Copenhagen:20260422T110000
DTEND;TZID=Europe/Copenhagen:20260422T143000
DTSTAMP:20260421T032418
CREATED:20251214T170213Z
LAST-MODIFIED:20260128T112648Z
UID:10004487-1776855600-1776868200@loppemarkeder.nu
SUMMARY:Nakskov Loppemarked
DESCRIPTION:Spændende marked med næsten alt i brugte genstande også retro og antik.
URL:https://loppemarkeder.nu/loppemarked/nakskov-loppemarked-2/2026-04-22/
LOCATION:Østergade 18\, 4900 Nakskov\, Østergade 18\, 4900 Nakskov
CATEGORIES:Kræmmermarked,Loppemarked
ATTACH;FMTTYPE=image/jpeg:https://loppemarkeder.nu/wp-content/uploads/2025/12/odsherred-1.webp
END:VEVENT
BEGIN:VEVENT
DTSTART;TZID=Europe/Copenhagen:20260425T110000
DTEND;TZID=Europe/Copenhagen:20260425T143000
DTSTAMP:20260421T032418
CREATED:20251214T170213Z
LAST-MODIFIED:20260128T112648Z
UID:10004488-1777114800-1777127400@loppemarkeder.nu
SUMMARY:Nakskov Loppemarked
DESCRIPTION:Spændende marked med næsten alt i brugte genstande også retro og antik.
URL:https://loppemarkeder.nu/loppemarked/nakskov-loppemarked-2/2026-04-25/
LOCATION:Østergade 18\, 4900 Nakskov\, Østergade 18\, 4900 Nakskov
CATEGORIES:Kræmmermarked,Loppemarked
ATTACH;FMTTYPE=image/jpeg:https://loppemarkeder.nu/wp-content/uploads/2025/12/odsherred-1.webp
END:VEVENT
BEGIN:VEVENT
DTSTART;TZID=Europe/Copenhagen:20260429T110000
DTEND;TZID=Europe/Copenhagen:20260429T143000
DTSTAMP:20260421T032418
CREATED:20251214T170213Z
LAST-MODIFIED:20260128T112648Z
UID:10004489-1777460400-1777473000@loppemarkeder.nu
SUMMARY:Nakskov Loppemarked
DESCRIPTION:Spændende marked med næsten alt i brugte genstande også retro og antik.
URL:https://loppemarkeder.nu/loppemarked/nakskov-loppemarked-2/2026-04-29/
LOCATION:Østergade 18\, 4900 Nakskov\, Østergade 18\, 4900 Nakskov
CATEGORIES:Kræmmermarked,Loppemarked
ATTACH;FMTTYPE=image/jpeg:https://loppemarkeder.nu/wp-content/uploads/2025/12/odsherred-1.webp
END:VEVENT
BEGIN:VEVENT
DTSTART;TZID=Europe/Copenhagen:20260502T110000
DTEND;TZID=Europe/Copenhagen:20260502T143000
DTSTAMP:20260421T032418
CREATED:20251214T170213Z
LAST-MODIFIED:20260128T112648Z
UID:10004490-1777719600-1777732200@loppemarkeder.nu
SUMMARY:Nakskov Loppemarked
DESCRIPTION:Spændende marked med næsten alt i brugte genstande også retro og antik.
URL:https://loppemarkeder.nu/loppemarked/nakskov-loppemarked-2/2026-05-02/
LOCATION:Østergade 18\, 4900 Nakskov\, Østergade 18\, 4900 Nakskov
CATEGORIES:Kræmmermarked,Loppemarked
ATTACH;FMTTYPE=image/jpeg:https://loppemarkeder.nu/wp-content/uploads/2025/12/odsherred-1.webp
END:VEVENT
BEGIN:VEVENT
DTSTART;TZID=Europe/Copenhagen:20260506T110000
DTEND;TZID=Europe/Copenhagen:20260506T143000
DTSTAMP:20260421T032418
CREATED:20251214T170213Z
LAST-MODIFIED:20260128T112648Z
UID:10004491-1778065200-1778077800@loppemarkeder.nu
SUMMARY:Nakskov Loppemarked
DESCRIPTION:Spændende marked med næsten alt i brugte genstande også retro og antik.
URL:https://loppemarkeder.nu/loppemarked/nakskov-loppemarked-2/2026-05-06/
LOCATION:Østergade 18\, 4900 Nakskov\, Østergade 18\, 4900 Nakskov
CATEGORIES:Kræmmermarked,Loppemarked
ATTACH;FMTTYPE=image/jpeg:https://loppemarkeder.nu/wp-content/uploads/2025/12/odsherred-1.webp
END:VEVENT
BEGIN:VEVENT
DTSTART;TZID=Europe/Copenhagen:20260509T110000
DTEND;TZID=Europe/Copenhagen:20260509T143000
DTSTAMP:20260421T032418
CREATED:20251214T170213Z
LAST-MODIFIED:20260128T112648Z
UID:10004492-1778324400-1778337000@loppemarkeder.nu
SUMMARY:Nakskov Loppemarked
DESCRIPTION:Spændende marked med næsten alt i brugte genstande også retro og antik.
URL:https://loppemarkeder.nu/loppemarked/nakskov-loppemarked-2/2026-05-09/
LOCATION:Østergade 18\, 4900 Nakskov\, Østergade 18\, 4900 Nakskov
CATEGORIES:Kræmmermarked,Loppemarked
ATTACH;FMTTYPE=image/jpeg:https://loppemarkeder.nu/wp-content/uploads/2025/12/odsherred-1.webp
END:VEVENT
BEGIN:VEVENT
DTSTART;TZID=Europe/Copenhagen:20260513T110000
DTEND;TZID=Europe/Copenhagen:20260513T143000
DTSTAMP:20260421T032418
CREATED:20251214T170213Z
LAST-MODIFIED:20260128T112648Z
UID:10004493-1778670000-1778682600@loppemarkeder.nu
SUMMARY:Nakskov Loppemarked
DESCRIPTION:Spændende marked med næsten alt i brugte genstande også retro og antik.
URL:https://loppemarkeder.nu/loppemarked/nakskov-loppemarked-2/2026-05-13/
LOCATION:Østergade 18\, 4900 Nakskov\, Østergade 18\, 4900 Nakskov
CATEGORIES:Kræmmermarked,Loppemarked
ATTACH;FMTTYPE=image/jpeg:https://loppemarkeder.nu/wp-content/uploads/2025/12/odsherred-1.webp
END:VEVENT
BEGIN:VEVENT
DTSTART;TZID=Europe/Copenhagen:20260516T110000
DTEND;TZID=Europe/Copenhagen:20260516T143000
DTSTAMP:20260421T032418
CREATED:20251214T170213Z
LAST-MODIFIED:20260128T112648Z
UID:10004494-1778929200-1778941800@loppemarkeder.nu
SUMMARY:Nakskov Loppemarked
DESCRIPTION:Spændende marked med næsten alt i brugte genstande også retro og antik.
URL:https://loppemarkeder.nu/loppemarked/nakskov-loppemarked-2/2026-05-16/
LOCATION:Østergade 18\, 4900 Nakskov\, Østergade 18\, 4900 Nakskov
CATEGORIES:Kræmmermarked,Loppemarked
ATTACH;FMTTYPE=image/jpeg:https://loppemarkeder.nu/wp-content/uploads/2025/12/odsherred-1.webp
END:VEVENT
BEGIN:VEVENT
DTSTART;TZID=Europe/Copenhagen:20260520T110000
DTEND;TZID=Europe/Copenhagen:20260520T143000
DTSTAMP:20260421T032418
CREATED:20251214T170213Z
LAST-MODIFIED:20260128T112648Z
UID:10004495-1779274800-1779287400@loppemarkeder.nu
SUMMARY:Nakskov Loppemarked
DESCRIPTION:Spændende marked med næsten alt i brugte genstande også retro og antik.
URL:https://loppemarkeder.nu/loppemarked/nakskov-loppemarked-2/2026-05-20/
LOCATION:Østergade 18\, 4900 Nakskov\, Østergade 18\, 4900 Nakskov
CATEGORIES:Kræmmermarked,Loppemarked
ATTACH;FMTTYPE=image/jpeg:https://loppemarkeder.nu/wp-content/uploads/2025/12/odsherred-1.webp
END:VEVENT
BEGIN:VEVENT
DTSTART;TZID=Europe/Copenhagen:20260523T110000
DTEND;TZID=Europe/Copenhagen:20260523T143000
DTSTAMP:20260421T032418
CREATED:20251214T170213Z
LAST-MODIFIED:20260128T112648Z
UID:10004496-1779534000-1779546600@loppemarkeder.nu
SUMMARY:Nakskov Loppemarked
DESCRIPTION:Spændende marked med næsten alt i brugte genstande også retro og antik.
URL:https://loppemarkeder.nu/loppemarked/nakskov-loppemarked-2/2026-05-23/
LOCATION:Østergade 18\, 4900 Nakskov\, Østergade 18\, 4900 Nakskov
CATEGORIES:Kræmmermarked,Loppemarked
ATTACH;FMTTYPE=image/jpeg:https://loppemarkeder.nu/wp-content/uploads/2025/12/odsherred-1.webp
END:VEVENT
BEGIN:VEVENT
DTSTART;TZID=Europe/Copenhagen:20260527T110000
DTEND;TZID=Europe/Copenhagen:20260527T143000
DTSTAMP:20260421T032418
CREATED:20251214T170213Z
LAST-MODIFIED:20260128T112648Z
UID:10004497-1779879600-1779892200@loppemarkeder.nu
SUMMARY:Nakskov Loppemarked
DESCRIPTION:Spændende marked med næsten alt i brugte genstande også retro og antik.
URL:https://loppemarkeder.nu/loppemarked/nakskov-loppemarked-2/2026-05-27/
LOCATION:Østergade 18\, 4900 Nakskov\, Østergade 18\, 4900 Nakskov
CATEGORIES:Kræmmermarked,Loppemarked
ATTACH;FMTTYPE=image/jpeg:https://loppemarkeder.nu/wp-content/uploads/2025/12/odsherred-1.webp
END:VEVENT
BEGIN:VEVENT
DTSTART;TZID=Europe/Copenhagen:20260530T110000
DTEND;TZID=Europe/Copenhagen:20260530T143000
DTSTAMP:20260421T032418
CREATED:20251214T170213Z
LAST-MODIFIED:20260128T112648Z
UID:10004498-1780138800-1780151400@loppemarkeder.nu
SUMMARY:Nakskov Loppemarked
DESCRIPTION:Spændende marked med næsten alt i brugte genstande også retro og antik.
URL:https://loppemarkeder.nu/loppemarked/nakskov-loppemarked-2/2026-05-30/
LOCATION:Østergade 18\, 4900 Nakskov\, Østergade 18\, 4900 Nakskov
CATEGORIES:Kræmmermarked,Loppemarked
ATTACH;FMTTYPE=image/jpeg:https://loppemarkeder.nu/wp-content/uploads/2025/12/odsherred-1.webp
END:VEVENT
BEGIN:VEVENT
DTSTART;TZID=Europe/Copenhagen:20260603T110000
DTEND;TZID=Europe/Copenhagen:20260603T143000
DTSTAMP:20260421T032418
CREATED:20251214T170213Z
LAST-MODIFIED:20260128T112648Z
UID:10004499-1780484400-1780497000@loppemarkeder.nu
SUMMARY:Nakskov Loppemarked
DESCRIPTION:Spændende marked med næsten alt i brugte genstande også retro og antik.
URL:https://loppemarkeder.nu/loppemarked/nakskov-loppemarked-2/2026-06-03/
LOCATION:Østergade 18\, 4900 Nakskov\, Østergade 18\, 4900 Nakskov
CATEGORIES:Kræmmermarked,Loppemarked
ATTACH;FMTTYPE=image/jpeg:https://loppemarkeder.nu/wp-content/uploads/2025/12/odsherred-1.webp
END:VEVENT
BEGIN:VEVENT
DTSTART;TZID=Europe/Copenhagen:20260606T110000
DTEND;TZID=Europe/Copenhagen:20260606T143000
DTSTAMP:20260421T032418
CREATED:20251214T170213Z
LAST-MODIFIED:20260128T112648Z
UID:10004500-1780743600-1780756200@loppemarkeder.nu
SUMMARY:Nakskov Loppemarked
DESCRIPTION:Spændende marked med næsten alt i brugte genstande også retro og antik.
URL:https://loppemarkeder.nu/loppemarked/nakskov-loppemarked-2/2026-06-06/
LOCATION:Østergade 18\, 4900 Nakskov\, Østergade 18\, 4900 Nakskov
CATEGORIES:Kræmmermarked,Loppemarked
ATTACH;FMTTYPE=image/jpeg:https://loppemarkeder.nu/wp-content/uploads/2025/12/odsherred-1.webp
END:VEVENT
BEGIN:VEVENT
DTSTART;TZID=Europe/Copenhagen:20260610T110000
DTEND;TZID=Europe/Copenhagen:20260610T143000
DTSTAMP:20260421T032418
CREATED:20251214T170213Z
LAST-MODIFIED:20260128T112648Z
UID:10004501-1781089200-1781101800@loppemarkeder.nu
SUMMARY:Nakskov Loppemarked
DESCRIPTION:Spændende marked med næsten alt i brugte genstande også retro og antik.
URL:https://loppemarkeder.nu/loppemarked/nakskov-loppemarked-2/2026-06-10/
LOCATION:Østergade 18\, 4900 Nakskov\, Østergade 18\, 4900 Nakskov
CATEGORIES:Kræmmermarked,Loppemarked
ATTACH;FMTTYPE=image/jpeg:https://loppemarkeder.nu/wp-content/uploads/2025/12/odsherred-1.webp
END:VEVENT
BEGIN:VEVENT
DTSTART;TZID=Europe/Copenhagen:20260613T110000
DTEND;TZID=Europe/Copenhagen:20260613T143000
DTSTAMP:20260421T032418
CREATED:20251214T170213Z
LAST-MODIFIED:20260128T112648Z
UID:10004502-1781348400-1781361000@loppemarkeder.nu
SUMMARY:Nakskov Loppemarked
DESCRIPTION:Spændende marked med næsten alt i brugte genstande også retro og antik.
URL:https://loppemarkeder.nu/loppemarked/nakskov-loppemarked-2/2026-06-13/
LOCATION:Østergade 18\, 4900 Nakskov\, Østergade 18\, 4900 Nakskov
CATEGORIES:Kræmmermarked,Loppemarked
ATTACH;FMTTYPE=image/jpeg:https://loppemarkeder.nu/wp-content/uploads/2025/12/odsherred-1.webp
END:VEVENT
BEGIN:VEVENT
DTSTART;TZID=Europe/Copenhagen:20260617T110000
DTEND;TZID=Europe/Copenhagen:20260617T143000
DTSTAMP:20260421T032418
CREATED:20251214T170213Z
LAST-MODIFIED:20260128T112648Z
UID:10004503-1781694000-1781706600@loppemarkeder.nu
SUMMARY:Nakskov Loppemarked
DESCRIPTION:Spændende marked med næsten alt i brugte genstande også retro og antik.
URL:https://loppemarkeder.nu/loppemarked/nakskov-loppemarked-2/2026-06-17/
LOCATION:Østergade 18\, 4900 Nakskov\, Østergade 18\, 4900 Nakskov
CATEGORIES:Kræmmermarked,Loppemarked
ATTACH;FMTTYPE=image/jpeg:https://loppemarkeder.nu/wp-content/uploads/2025/12/odsherred-1.webp
END:VEVENT
BEGIN:VEVENT
DTSTART;TZID=Europe/Copenhagen:20260620T110000
DTEND;TZID=Europe/Copenhagen:20260620T143000
DTSTAMP:20260421T032418
CREATED:20251214T170213Z
LAST-MODIFIED:20260128T112648Z
UID:10004504-1781953200-1781965800@loppemarkeder.nu
SUMMARY:Nakskov Loppemarked
DESCRIPTION:Spændende marked med næsten alt i brugte genstande også retro og antik.
URL:https://loppemarkeder.nu/loppemarked/nakskov-loppemarked-2/2026-06-20/
LOCATION:Østergade 18\, 4900 Nakskov\, Østergade 18\, 4900 Nakskov
CATEGORIES:Kræmmermarked,Loppemarked
ATTACH;FMTTYPE=image/jpeg:https://loppemarkeder.nu/wp-content/uploads/2025/12/odsherred-1.webp
END:VEVENT
BEGIN:VEVENT
DTSTART;TZID=Europe/Copenhagen:20260624T110000
DTEND;TZID=Europe/Copenhagen:20260624T143000
DTSTAMP:20260421T032418
CREATED:20251214T170213Z
LAST-MODIFIED:20260128T112648Z
UID:10004505-1782298800-1782311400@loppemarkeder.nu
SUMMARY:Nakskov Loppemarked
DESCRIPTION:Spændende marked med næsten alt i brugte genstande også retro og antik.
URL:https://loppemarkeder.nu/loppemarked/nakskov-loppemarked-2/2026-06-24/
LOCATION:Østergade 18\, 4900 Nakskov\, Østergade 18\, 4900 Nakskov
CATEGORIES:Kræmmermarked,Loppemarked
ATTACH;FMTTYPE=image/jpeg:https://loppemarkeder.nu/wp-content/uploads/2025/12/odsherred-1.webp
END:VEVENT
BEGIN:VEVENT
DTSTART;TZID=Europe/Copenhagen:20260627T110000
DTEND;TZID=Europe/Copenhagen:20260627T143000
DTSTAMP:20260421T032418
CREATED:20251214T170213Z
LAST-MODIFIED:20260128T112648Z
UID:10004506-1782558000-1782570600@loppemarkeder.nu
SUMMARY:Nakskov Loppemarked
DESCRIPTION:Spændende marked med næsten alt i brugte genstande også retro og antik.
URL:https://loppemarkeder.nu/loppemarked/nakskov-loppemarked-2/2026-06-27/
LOCATION:Østergade 18\, 4900 Nakskov\, Østergade 18\, 4900 Nakskov
CATEGORIES:Kræmmermarked,Loppemarked
ATTACH;FMTTYPE=image/jpeg:https://loppemarkeder.nu/wp-content/uploads/2025/12/odsherred-1.webp
END:VEVENT
BEGIN:VEVENT
DTSTART;TZID=Europe/Copenhagen:20260701T110000
DTEND;TZID=Europe/Copenhagen:20260701T143000
DTSTAMP:20260421T032418
CREATED:20251214T170213Z
LAST-MODIFIED:20260128T112648Z
UID:10004507-1782903600-1782916200@loppemarkeder.nu
SUMMARY:Nakskov Loppemarked
DESCRIPTION:Spændende marked med næsten alt i brugte genstande også retro og antik.
URL:https://loppemarkeder.nu/loppemarked/nakskov-loppemarked-2/2026-07-01/
LOCATION:Østergade 18\, 4900 Nakskov\, Østergade 18\, 4900 Nakskov
CATEGORIES:Kræmmermarked,Loppemarked
ATTACH;FMTTYPE=image/jpeg:https://loppemarkeder.nu/wp-content/uploads/2025/12/odsherred-1.webp
END:VEVENT
BEGIN:VEVENT
DTSTART;TZID=Europe/Copenhagen:20260704T110000
DTEND;TZID=Europe/Copenhagen:20260704T143000
DTSTAMP:20260421T032418
CREATED:20251214T170213Z
LAST-MODIFIED:20260128T112648Z
UID:10004508-1783162800-1783175400@loppemarkeder.nu
SUMMARY:Nakskov Loppemarked
DESCRIPTION:Spændende marked med næsten alt i brugte genstande også retro og antik.
URL:https://loppemarkeder.nu/loppemarked/nakskov-loppemarked-2/2026-07-04/
LOCATION:Østergade 18\, 4900 Nakskov\, Østergade 18\, 4900 Nakskov
CATEGORIES:Kræmmermarked,Loppemarked
ATTACH;FMTTYPE=image/jpeg:https://loppemarkeder.nu/wp-content/uploads/2025/12/odsherred-1.webp
END:VEVENT
BEGIN:VEVENT
DTSTART;TZID=Europe/Copenhagen:20260708T110000
DTEND;TZID=Europe/Copenhagen:20260708T143000
DTSTAMP:20260421T032418
CREATED:20251214T170213Z
LAST-MODIFIED:20260128T112648Z
UID:10004509-1783508400-1783521000@loppemarkeder.nu
SUMMARY:Nakskov Loppemarked
DESCRIPTION:Spændende marked med næsten alt i brugte genstande også retro og antik.
URL:https://loppemarkeder.nu/loppemarked/nakskov-loppemarked-2/2026-07-08/
LOCATION:Østergade 18\, 4900 Nakskov\, Østergade 18\, 4900 Nakskov
CATEGORIES:Kræmmermarked,Loppemarked
ATTACH;FMTTYPE=image/jpeg:https://loppemarkeder.nu/wp-content/uploads/2025/12/odsherred-1.webp
END:VEVENT
BEGIN:VEVENT
DTSTART;TZID=Europe/Copenhagen:20260711T110000
DTEND;TZID=Europe/Copenhagen:20260711T143000
DTSTAMP:20260421T032418
CREATED:20251214T170213Z
LAST-MODIFIED:20260128T112648Z
UID:10004510-1783767600-1783780200@loppemarkeder.nu
SUMMARY:Nakskov Loppemarked
DESCRIPTION:Spændende marked med næsten alt i brugte genstande også retro og antik.
URL:https://loppemarkeder.nu/loppemarked/nakskov-loppemarked-2/2026-07-11/
LOCATION:Østergade 18\, 4900 Nakskov\, Østergade 18\, 4900 Nakskov
CATEGORIES:Kræmmermarked,Loppemarked
ATTACH;FMTTYPE=image/jpeg:https://loppemarkeder.nu/wp-content/uploads/2025/12/odsherred-1.webp
END:VEVENT
BEGIN:VEVENT
DTSTART;TZID=Europe/Copenhagen:20260715T110000
DTEND;TZID=Europe/Copenhagen:20260715T143000
DTSTAMP:20260421T032418
CREATED:20251214T170213Z
LAST-MODIFIED:20260128T112648Z
UID:10004511-1784113200-1784125800@loppemarkeder.nu
SUMMARY:Nakskov Loppemarked
DESCRIPTION:Spændende marked med næsten alt i brugte genstande også retro og antik.
URL:https://loppemarkeder.nu/loppemarked/nakskov-loppemarked-2/2026-07-15/
LOCATION:Østergade 18\, 4900 Nakskov\, Østergade 18\, 4900 Nakskov
CATEGORIES:Kræmmermarked,Loppemarked
ATTACH;FMTTYPE=image/jpeg:https://loppemarkeder.nu/wp-content/uploads/2025/12/odsherred-1.webp
END:VEVENT
BEGIN:VEVENT
DTSTART;TZID=Europe/Copenhagen:20260718T110000
DTEND;TZID=Europe/Copenhagen:20260718T143000
DTSTAMP:20260421T032418
CREATED:20251214T170213Z
LAST-MODIFIED:20260128T112648Z
UID:10004512-1784372400-1784385000@loppemarkeder.nu
SUMMARY:Nakskov Loppemarked
DESCRIPTION:Spændende marked med næsten alt i brugte genstande også retro og antik.
URL:https://loppemarkeder.nu/loppemarked/nakskov-loppemarked-2/2026-07-18/
LOCATION:Østergade 18\, 4900 Nakskov\, Østergade 18\, 4900 Nakskov
CATEGORIES:Kræmmermarked,Loppemarked
ATTACH;FMTTYPE=image/jpeg:https://loppemarkeder.nu/wp-content/uploads/2025/12/odsherred-1.webp
END:VEVENT
BEGIN:VEVENT
DTSTART;TZID=Europe/Copenhagen:20260722T110000
DTEND;TZID=Europe/Copenhagen:20260722T143000
DTSTAMP:20260421T032418
CREATED:20251214T170213Z
LAST-MODIFIED:20260128T112648Z
UID:10004513-1784718000-1784730600@loppemarkeder.nu
SUMMARY:Nakskov Loppemarked
DESCRIPTION:Spændende marked med næsten alt i brugte genstande også retro og antik.
URL:https://loppemarkeder.nu/loppemarked/nakskov-loppemarked-2/2026-07-22/
LOCATION:Østergade 18\, 4900 Nakskov\, Østergade 18\, 4900 Nakskov
CATEGORIES:Kræmmermarked,Loppemarked
ATTACH;FMTTYPE=image/jpeg:https://loppemarkeder.nu/wp-content/uploads/2025/12/odsherred-1.webp
END:VEVENT
BEGIN:VEVENT
DTSTART;TZID=Europe/Copenhagen:20260725T110000
DTEND;TZID=Europe/Copenhagen:20260725T143000
DTSTAMP:20260421T032418
CREATED:20251214T170213Z
LAST-MODIFIED:20260128T112648Z
UID:10004514-1784977200-1784989800@loppemarkeder.nu
SUMMARY:Nakskov Loppemarked
DESCRIPTION:Spændende marked med næsten alt i brugte genstande også retro og antik.
URL:https://loppemarkeder.nu/loppemarked/nakskov-loppemarked-2/2026-07-25/
LOCATION:Østergade 18\, 4900 Nakskov\, Østergade 18\, 4900 Nakskov
CATEGORIES:Kræmmermarked,Loppemarked
ATTACH;FMTTYPE=image/jpeg:https://loppemarkeder.nu/wp-content/uploads/2025/12/odsherred-1.webp
END:VEVENT
BEGIN:VEVENT
DTSTART;TZID=Europe/Copenhagen:20260729T110000
DTEND;TZID=Europe/Copenhagen:20260729T143000
DTSTAMP:20260421T032418
CREATED:20251214T170213Z
LAST-MODIFIED:20260128T112648Z
UID:10004515-1785322800-1785335400@loppemarkeder.nu
SUMMARY:Nakskov Loppemarked
DESCRIPTION:Spændende marked med næsten alt i brugte genstande også retro og antik.
URL:https://loppemarkeder.nu/loppemarked/nakskov-loppemarked-2/2026-07-29/
LOCATION:Østergade 18\, 4900 Nakskov\, Østergade 18\, 4900 Nakskov
CATEGORIES:Kræmmermarked,Loppemarked
ATTACH;FMTTYPE=image/jpeg:https://loppemarkeder.nu/wp-content/uploads/2025/12/odsherred-1.webp
END:VEVENT
BEGIN:VEVENT
DTSTART;TZID=Europe/Copenhagen:20260801T110000
DTEND;TZID=Europe/Copenhagen:20260801T143000
DTSTAMP:20260421T032418
CREATED:20251214T170213Z
LAST-MODIFIED:20260128T112648Z
UID:10004516-1785582000-1785594600@loppemarkeder.nu
SUMMARY:Nakskov Loppemarked
DESCRIPTION:Spændende marked med næsten alt i brugte genstande også retro og antik.
URL:https://loppemarkeder.nu/loppemarked/nakskov-loppemarked-2/2026-08-01/
LOCATION:Østergade 18\, 4900 Nakskov\, Østergade 18\, 4900 Nakskov
CATEGORIES:Kræmmermarked,Loppemarked
ATTACH;FMTTYPE=image/jpeg:https://loppemarkeder.nu/wp-content/uploads/2025/12/odsherred-1.webp
END:VEVENT
END:VCALENDAR