BEGIN:VCALENDAR
VERSION:2.0
PRODID:-//Loppemarkeder NU - 2026 - ECPv6.15.20//NONSGML v1.0//EN
CALSCALE:GREGORIAN
METHOD:PUBLISH
X-WR-CALNAME:Loppemarkeder NU - 2026
X-ORIGINAL-URL:https://loppemarkeder.nu
X-WR-CALDESC:Begivenheder for Loppemarkeder NU - 2026
REFRESH-INTERVAL;VALUE=DURATION:PT1H
X-Robots-Tag:noindex
X-PUBLISHED-TTL:PT1H
BEGIN:VTIMEZONE
TZID:Europe/Copenhagen
BEGIN:DAYLIGHT
TZOFFSETFROM:+0100
TZOFFSETTO:+0200
TZNAME:CEST
DTSTART:20250330T010000
END:DAYLIGHT
BEGIN:STANDARD
TZOFFSETFROM:+0200
TZOFFSETTO:+0100
TZNAME:CET
DTSTART:20251026T010000
END:STANDARD
BEGIN:DAYLIGHT
TZOFFSETFROM:+0100
TZOFFSETTO:+0200
TZNAME:CEST
DTSTART:20260329T010000
END:DAYLIGHT
BEGIN:STANDARD
TZOFFSETFROM:+0200
TZOFFSETTO:+0100
TZNAME:CET
DTSTART:20261025T010000
END:STANDARD
BEGIN:DAYLIGHT
TZOFFSETFROM:+0100
TZOFFSETTO:+0200
TZNAME:CEST
DTSTART:20270328T010000
END:DAYLIGHT
BEGIN:STANDARD
TZOFFSETFROM:+0200
TZOFFSETTO:+0100
TZNAME:CET
DTSTART:20271031T010000
END:STANDARD
END:VTIMEZONE
BEGIN:VEVENT
DTSTART;TZID=Europe/Copenhagen:20260419T080000
DTEND;TZID=Europe/Copenhagen:20260419T140000
DTSTAMP:20260422T084632
CREATED:20251129T192214Z
LAST-MODIFIED:20251129T192214Z
UID:10004393-1776585600-1776607200@loppemarkeder.nu
SUMMARY:Gentofte Loppemarked
DESCRIPTION:Gentofte Loppemarked drives af Herberget Overførstergården\, en selvejende institution.\nOverførstergården er stiftet i 1991 som hjælp til hjemløse med alkoholproblemer og psyko-sociale vanskeligheder.\nLoppemarkedet har efterhånden 24 år bag sig\, og drives som indtægtsdækket virksomhed\, hvor overskuddet bruges til gavn for herberget og hjemløse. 
URL:https://loppemarkeder.nu/loppemarked/gentofte-loppemarked/2026-04-19/
LOCATION:Bregnegårdsvej 2A\, Gentofte\, Bregnegårdsvej 2A\, Gentofte
CATEGORIES:Loppemarked
ATTACH;FMTTYPE=image/avif:https://loppemarkeder.nu/wp-content/uploads/2025/11/26fbb7_ad98669b9ba64efb9143ca9f01122937mv2.avif
END:VEVENT
BEGIN:VEVENT
DTSTART;TZID=Europe/Copenhagen:20260419T080000
DTEND;TZID=Europe/Copenhagen:20260419T140000
DTSTAMP:20260422T084632
CREATED:20260126T184948Z
LAST-MODIFIED:20260126T185129Z
UID:10005066-1776585600-1776607200@loppemarkeder.nu
SUMMARY:HOLTE LOPPEMARKED 2026 – weekendens bedste jagtmark
DESCRIPTION:Hvis du elsker følelsen af at finde noget genialt til nærmest ingen penge (og bagefter gå rundt med “jeg HAR fundet den!”-energien)\, så skal du forbi Holte Loppemarked. \nHer er det klassiske loppe-mix: lidt retro\, lidt ragelse\, lidt “hvordan kan det her være så billigt?”\, og så selvfølgelig de der fund\, du ikke anede\, du manglede: glas\, keramik\, bøger\, tøj\, legetøj\, køkkengrej og små finurligheder\, der kan redde både hjemmet og gave-skuffen. \nDerfor er det et godt loppested\n\n\nGod stemning: Nede på jorden og hyggeligt – ikke noget med at skulle være “loppe-pro”. \n\n\nRigtige fund: Her er både private sælgere og masser af blandet kvalitet\, så du kan gøre et kup. \n\n\nPerfekt som weekendtur: Tag en ven med\, gør det til en lille udflugt og slut af med en kaffe bagefter. \n\n\nMini-tips (så du vinder loppespillet)\n✅ Kom tidligt\, hvis du vil have de bedste ting✅ Tag kontanter og/eller MobilePay (det varierer)✅ Hav en pose eller totebag med – du ender med mere\, end du tror \nKort sagt: Holte Loppemarked er en oplagt weekendaktivitet\, hvis du vil ud og snuse\, snakke\, prutte om prisen (pænt!) og gå hjem med noget\, der får dig til at føle dig som et geni.
URL:https://loppemarkeder.nu/loppemarked/holte-loppemarked-2026-weekendens-bedste-jagtmark/2026-04-19/
LOCATION:Holte Stationsvej 3\, 2840 Holte\, Holte Stationsvej 3\, 2840 Holte
CATEGORIES:Loppemarked
ATTACH;FMTTYPE=image/jpeg:https://loppemarkeder.nu/wp-content/uploads/2026/01/stacks-image-9f4cdee-1200x650-1.jpg
END:VEVENT
BEGIN:VEVENT
DTSTART;TZID=Europe/Copenhagen:20260419T090000
DTEND;TZID=Europe/Copenhagen:20260419T140000
DTSTAMP:20260422T084632
CREATED:20251214T165629Z
LAST-MODIFIED:20251214T165629Z
UID:10004439-1776589200-1776607200@loppemarkeder.nu
SUMMARY:Rørvig Kræmmermarked
DESCRIPTION:Rørvig Kræmmermarked er et stort\, hyggeligt loppemarked ved Rørvig Kro og Cirkuspladsen\, der afholdes hver søndag fra påske til uge 42 (oktober) kl. 9-14\, hvor man finder alt fra antikviteter til skrammel\, med god stemning og masser af besøgende\, der søger gode fund og en hyggelig søndag ved havnen i Odsherred.
URL:https://loppemarkeder.nu/loppemarked/roervig-kraemmermarked/2026-04-19/
LOCATION:Toldbodvej 55\, 4581 Rørvig\, Toldbodvej 55\, 4581 Rørvig
CATEGORIES:Kræmmermarked,Loppemarked
ATTACH;FMTTYPE=image/jpeg:https://loppemarkeder.nu/wp-content/uploads/2025/12/472964875_10235583109587223_5052598127717676786_n.webp
END:VEVENT
BEGIN:VEVENT
DTSTART;TZID=Europe/Copenhagen:20260419T100000
DTEND;TZID=Europe/Copenhagen:20260419T150000
DTSTAMP:20260422T084632
CREATED:20260225T124358Z
LAST-MODIFIED:20260225T124358Z
UID:10005241-1776592800-1776610800@loppemarkeder.nu
SUMMARY:Loppemarked på Islands Brygge
DESCRIPTION:Gør et kup ved vandkanten: Guide til Loppemarked på Bryggen 2026 ⚓️✨\nEr du klar til at gå på opdagelse i bjerge af vintage-tøj\, unikke boligfund og skjulte skatte? Loppemarkedet på Islands Brygge er endelig tilbage\, og atmosfæren bliver ikke bedre i hele København! \nFra den 19. april og helt frem til den 11. oktober forvandles den ikoniske havnefront til et mekka for alle os\, der elsker genbrug\, god kaffe og søndagshygge. \nHvorfor elske Bryggens Lopper?\nDet er ikke bare et loppemarked – det er en institution. Her finder du alt fra børnefamilier\, der sælger ud af legetøjet\, til de seriøse samlere\, der har fundet de flotteste retro-glas frem. Alt imens bølgerne skvulpere i havnen\, og livet på Bryggen summer omkring dig. \nPlanlæg din søndag (Husk kalenderen!) 📅\nMarkedet popper op med jævne mellemrum henover sommerhalvåret. Selvom vi starter i april og slutter i oktober\, er det ikke hver søndag\, der er lopper. \n\nTip: Inden du pakker muleposen og tager afsted\, så smut forbi Kulturhuset Islands Brygges hjemmeside og tjek kalenderen for de eksakte datoer. Så går du aldrig forgæves!
URL:https://loppemarkeder.nu/loppemarked/loppemarked-paa-islands-brygge/2026-04-19/
LOCATION:Kulturhuset Islands Brygge\, Kulturhuset Islands Brygge
CATEGORIES:Loppemarked
ATTACH;FMTTYPE=image/jpeg:https://loppemarkeder.nu/wp-content/uploads/2026/02/DSC01752_edited_0.jpg
END:VEVENT
BEGIN:VEVENT
DTSTART;TZID=Europe/Copenhagen:20260419T100000
DTEND;TZID=Europe/Copenhagen:20260419T160000
DTSTAMP:20260422T084632
CREATED:20251221T182642Z
LAST-MODIFIED:20251221T182642Z
UID:10004707-1776592800-1776614400@loppemarkeder.nu
SUMMARY:Odsherreds Antik og loppemarked
DESCRIPTION:Odsherreds Loppe- og Genbrugsmarked (OLG) er et spændende kræmmermarked\, som siden 1992 har været afholdt med stor succes. Vi ønsker at have et marked for alle aldre\, og der tilbydes en sjov pause for de små med gratis ponyridning kl. 12-14. Der vil altid være omkring 60 kræmmere – fordelt på over 100 standpladser i de 7 indendørs om vinteren opvarmede og om sommeren kølige haller.\nVores varer inkluderer skønne ting fra oldemors tid og nye vare til gode priser.
URL:https://loppemarkeder.nu/loppemarked/odsherreds-antik-og-loppemarked/2026-04-19/
LOCATION:Sneglerupvej 2 4571 Grevinge\, Sneglerupvej 2 4571 Grevinge
CATEGORIES:Kræmmermarked,Loppemarked
ATTACH;FMTTYPE=image/jpeg:https://loppemarkeder.nu/wp-content/uploads/2025/12/image0.webp
END:VEVENT
END:VCALENDAR