BEGIN:VCALENDAR
VERSION:2.0
PRODID:-//Loppemarkeder NU - 2026 - ECPv6.15.20//NONSGML v1.0//EN
CALSCALE:GREGORIAN
METHOD:PUBLISH
X-ORIGINAL-URL:https://loppemarkeder.nu
X-WR-CALDESC:Begivenheder for Loppemarkeder NU - 2026
REFRESH-INTERVAL;VALUE=DURATION:PT1H
X-Robots-Tag:noindex
X-PUBLISHED-TTL:PT1H
BEGIN:VTIMEZONE
TZID:Europe/Copenhagen
BEGIN:DAYLIGHT
TZOFFSETFROM:+0100
TZOFFSETTO:+0200
TZNAME:CEST
DTSTART:20250330T010000
END:DAYLIGHT
BEGIN:STANDARD
TZOFFSETFROM:+0200
TZOFFSETTO:+0100
TZNAME:CET
DTSTART:20251026T010000
END:STANDARD
BEGIN:DAYLIGHT
TZOFFSETFROM:+0100
TZOFFSETTO:+0200
TZNAME:CEST
DTSTART:20260329T010000
END:DAYLIGHT
BEGIN:STANDARD
TZOFFSETFROM:+0200
TZOFFSETTO:+0100
TZNAME:CET
DTSTART:20261025T010000
END:STANDARD
BEGIN:DAYLIGHT
TZOFFSETFROM:+0100
TZOFFSETTO:+0200
TZNAME:CEST
DTSTART:20270328T010000
END:DAYLIGHT
BEGIN:STANDARD
TZOFFSETFROM:+0200
TZOFFSETTO:+0100
TZNAME:CET
DTSTART:20271031T010000
END:STANDARD
END:VTIMEZONE
BEGIN:VEVENT
DTSTART;TZID=Europe/Copenhagen:20260404T100000
DTEND;TZID=Europe/Copenhagen:20260405T160000
DTSTAMP:20260419T170006
CREATED:20260113T073151Z
LAST-MODIFIED:20260113T073151Z
UID:10004861-1775296800-1775404800@loppemarkeder.nu
SUMMARY:Værftshallernes Kræmmermarked (forår og efterår)
DESCRIPTION:Indendørs kræmmermarked forår og efterår
URL:https://loppemarkeder.nu/loppemarked/vaerftshallernes-kraemmermarked-foraar-og-efteraar/2026-04-04/
LOCATION:Ny Kronborgvej 10\, 3000 Helsingør\, Ny Kronborgvej 10\, 3000 Helsingør
CATEGORIES:Kræmmermarked,Loppemarked
ATTACH;FMTTYPE=image/jpeg:https://loppemarkeder.nu/wp-content/uploads/2026/01/487120205_1207541884714707_2320769979614018176_n.jpg
END:VEVENT
BEGIN:VEVENT
DTSTART;TZID=Europe/Copenhagen:20260404T100000
DTEND;TZID=Europe/Copenhagen:20260405T160000
DTSTAMP:20260419T170007
CREATED:20260308T152604Z
LAST-MODIFIED:20260308T152604Z
UID:10005294-1775296800-1775404800@loppemarkeder.nu
SUMMARY:Værfthallernes Kræmmermarked
DESCRIPTION:Indendørs kræmmermarked forår og efterår
URL:https://loppemarkeder.nu/loppemarked/vaerfthallernes-kraemmermarked/2026-04-04/
LOCATION:Ny Kronborgvej 10\, 3000 Helsingør\, Ny Kronborgvej 10\, 3000 Helsingør
CATEGORIES:Kræmmermarked,Loppemarked
ATTACH;FMTTYPE=image/jpeg:https://loppemarkeder.nu/wp-content/uploads/2026/03/487387932_1207541748048054_1605047564586984143_n.jpg
END:VEVENT
BEGIN:VEVENT
DTSTART;TZID=Europe/Copenhagen:20260405T090000
DTEND;TZID=Europe/Copenhagen:20260405T140000
DTSTAMP:20260419T170007
CREATED:20251214T165629Z
LAST-MODIFIED:20251214T165629Z
UID:10004437-1775379600-1775397600@loppemarkeder.nu
SUMMARY:Rørvig Kræmmermarked
DESCRIPTION:Rørvig Kræmmermarked er et stort\, hyggeligt loppemarked ved Rørvig Kro og Cirkuspladsen\, der afholdes hver søndag fra påske til uge 42 (oktober) kl. 9-14\, hvor man finder alt fra antikviteter til skrammel\, med god stemning og masser af besøgende\, der søger gode fund og en hyggelig søndag ved havnen i Odsherred.
URL:https://loppemarkeder.nu/loppemarked/roervig-kraemmermarked/2026-04-05/
LOCATION:Toldbodvej 55\, 4581 Rørvig\, Toldbodvej 55\, 4581 Rørvig
CATEGORIES:Kræmmermarked,Loppemarked
ATTACH;FMTTYPE=image/jpeg:https://loppemarkeder.nu/wp-content/uploads/2025/12/472964875_10235583109587223_5052598127717676786_n.webp
END:VEVENT
BEGIN:VEVENT
DTSTART;TZID=Europe/Copenhagen:20260405T100000
DTEND;TZID=Europe/Copenhagen:20260405T150000
DTSTAMP:20260419T170007
CREATED:20260218T175150Z
LAST-MODIFIED:20260218T175150Z
UID:10005170-1775383200-1775401200@loppemarkeder.nu
SUMMARY:Sønndagsloppemarked - Skt. Thomas Plads
DESCRIPTION:Fra 5. april til 13. september (undtagen 10. maj) forvandler vi hver søndag kl. 10–15 pladsen til et lokalt loppemarked fyldt med genbrugsguld\, gode fund og den hyggeligste stemning – lige mellem Vesterbrogade og Værnedamsvej. \nVi glæder os helt vildt til at skabe en ny søndagstradition på Sankt Thomas Plads – håber vi ses både bag standene og på jagt efter gode fund 
URL:https://loppemarkeder.nu/loppemarked/soenndagsloppemarked-skt-thomas-plads/2026-04-05/
LOCATION:Skt. Thomas Plads\, Skt. Thomas Plads
CATEGORIES:Loppemarked
ATTACH;FMTTYPE=image/jpeg:https://loppemarkeder.nu/wp-content/uploads/2026/02/638101331_122135468858997077_6573549922513584458_n.jpg
END:VEVENT
BEGIN:VEVENT
DTSTART;TZID=Europe/Copenhagen:20260405T100000
DTEND;TZID=Europe/Copenhagen:20260405T160000
DTSTAMP:20260419T170007
CREATED:20251221T182642Z
LAST-MODIFIED:20251221T182642Z
UID:10004705-1775383200-1775404800@loppemarkeder.nu
SUMMARY:Odsherreds Antik og loppemarked
DESCRIPTION:Odsherreds Loppe- og Genbrugsmarked (OLG) er et spændende kræmmermarked\, som siden 1992 har været afholdt med stor succes. Vi ønsker at have et marked for alle aldre\, og der tilbydes en sjov pause for de små med gratis ponyridning kl. 12-14. Der vil altid være omkring 60 kræmmere – fordelt på over 100 standpladser i de 7 indendørs om vinteren opvarmede og om sommeren kølige haller.\nVores varer inkluderer skønne ting fra oldemors tid og nye vare til gode priser.
URL:https://loppemarkeder.nu/loppemarked/odsherreds-antik-og-loppemarked/2026-04-05/
LOCATION:Sneglerupvej 2 4571 Grevinge\, Sneglerupvej 2 4571 Grevinge
CATEGORIES:Kræmmermarked,Loppemarked
ATTACH;FMTTYPE=image/jpeg:https://loppemarkeder.nu/wp-content/uploads/2025/12/image0.webp
END:VEVENT
END:VCALENDAR