BEGIN:VCALENDAR
VERSION:2.0
PRODID:-//Loppemarkeder NU - 2026 - ECPv6.15.20//NONSGML v1.0//EN
CALSCALE:GREGORIAN
METHOD:PUBLISH
X-WR-CALNAME:Loppemarkeder NU - 2026
X-ORIGINAL-URL:https://loppemarkeder.nu
X-WR-CALDESC:Begivenheder for Loppemarkeder NU - 2026
REFRESH-INTERVAL;VALUE=DURATION:PT1H
X-Robots-Tag:noindex
X-PUBLISHED-TTL:PT1H
BEGIN:VTIMEZONE
TZID:Europe/Copenhagen
BEGIN:DAYLIGHT
TZOFFSETFROM:+0100
TZOFFSETTO:+0200
TZNAME:CEST
DTSTART:20250330T010000
END:DAYLIGHT
BEGIN:STANDARD
TZOFFSETFROM:+0200
TZOFFSETTO:+0100
TZNAME:CET
DTSTART:20251026T010000
END:STANDARD
BEGIN:DAYLIGHT
TZOFFSETFROM:+0100
TZOFFSETTO:+0200
TZNAME:CEST
DTSTART:20260329T010000
END:DAYLIGHT
BEGIN:STANDARD
TZOFFSETFROM:+0200
TZOFFSETTO:+0100
TZNAME:CET
DTSTART:20261025T010000
END:STANDARD
BEGIN:DAYLIGHT
TZOFFSETFROM:+0100
TZOFFSETTO:+0200
TZNAME:CEST
DTSTART:20270328T010000
END:DAYLIGHT
BEGIN:STANDARD
TZOFFSETFROM:+0200
TZOFFSETTO:+0100
TZNAME:CET
DTSTART:20271031T010000
END:STANDARD
END:VTIMEZONE
BEGIN:VEVENT
DTSTART;TZID=Europe/Copenhagen:20260328T100000
DTEND;TZID=Europe/Copenhagen:20260328T140000
DTSTAMP:20260419T154612
CREATED:20260112T132959Z
LAST-MODIFIED:20260126T122445Z
UID:10004780-1774692000-1774706400@loppemarkeder.nu
SUMMARY:Værebro Park Loppemarked
DESCRIPTION:Hyggeligt loppemarked i Værebro Park hver lørdag kl. 10:00 – 14:00. Find retrofund\, praktiske ting og unikke genbrugsgaver. Adresse: Værebrovej 72\, 2880 Bagsværd. Bemærk sommerferie 14/6–30/8.
URL:https://loppemarkeder.nu/loppemarked/vaerebro-park-loppemarked/2026-03-28/
LOCATION:Værebrovej 72\, 2880 Bagsværd\, Værebrovej 72\, 2880 Bagsværd
CATEGORIES:Loppemarked
ATTACH;FMTTYPE=image/webp:https://loppemarkeder.nu/wp-content/uploads/2025/12/den-blaa.webp
END:VEVENT
BEGIN:VEVENT
DTSTART;TZID=Europe/Copenhagen:20260328T100000
DTEND;TZID=Europe/Copenhagen:20260328T160000
DTSTAMP:20260419T154612
CREATED:20260316T091608Z
LAST-MODIFIED:20260316T091608Z
UID:10005330-1774692000-1774713600@loppemarkeder.nu
SUMMARY:Vanløse Torv Loppemarked
DESCRIPTION:Vanløse torv loppemarked hver lørdag 10.00 – 16.00 på Vanløse torv.\nKom og gør et kup på vores loppe & livsstilsmarked masser af lækre loppefund!\nKøb brugt \, hjælp klima & spar penge!
URL:https://loppemarkeder.nu/loppemarked/vanloese-torv-loppemarked/2026-03-28/
LOCATION:Vanløse Torv Loppemarked\, Vanløse Torv
CATEGORIES:Loppemarked
ATTACH;FMTTYPE=image/jpeg:https://loppemarkeder.nu/wp-content/uploads/2026/03/images.jpeg
END:VEVENT
BEGIN:VEVENT
DTSTART;TZID=Europe/Copenhagen:20260328T110000
DTEND;TZID=Europe/Copenhagen:20260328T143000
DTSTAMP:20260419T154612
CREATED:20251214T170213Z
LAST-MODIFIED:20260128T112648Z
UID:10004480-1774695600-1774708200@loppemarkeder.nu
SUMMARY:Nakskov Loppemarked
DESCRIPTION:Spændende marked med næsten alt i brugte genstande også retro og antik.
URL:https://loppemarkeder.nu/loppemarked/nakskov-loppemarked-2/2026-03-28/
LOCATION:Østergade 18\, 4900 Nakskov\, Østergade 18\, 4900 Nakskov
CATEGORIES:Kræmmermarked,Loppemarked
ATTACH;FMTTYPE=image/jpeg:https://loppemarkeder.nu/wp-content/uploads/2025/12/odsherred-1.webp
END:VEVENT
BEGIN:VEVENT
DTSTART;TZID=Europe/Copenhagen:20260328T110000
DTEND;TZID=Europe/Copenhagen:20260328T160000
DTSTAMP:20260419T154612
CREATED:20260113T083531Z
LAST-MODIFIED:20260113T083531Z
UID:10004865-1774695600-1774713600@loppemarkeder.nu
SUMMARY:Københavns Loppetorv
DESCRIPTION:Københavns Loppetorv er et fast traditionelt loppemarked hver lørdag/søndage\n \n– et mødested for mennesker og ting\, tøj og andet godt.
URL:https://loppemarkeder.nu/loppemarked/koebenhavns-loppetorv/2026-03-28/
LOCATION:Israels Plads\, Israles Plads
CATEGORIES:Loppemarked
ATTACH;FMTTYPE=image/jpeg:https://loppemarkeder.nu/wp-content/uploads/2026/01/19-22.jpg
END:VEVENT
END:VCALENDAR