BEGIN:VCALENDAR
VERSION:2.0
PRODID:-//Loppemarkeder NU - 2026 - ECPv6.15.20//NONSGML v1.0//EN
CALSCALE:GREGORIAN
METHOD:PUBLISH
X-WR-CALNAME:Loppemarkeder NU - 2026
X-ORIGINAL-URL:https://loppemarkeder.nu
X-WR-CALDESC:Begivenheder for Loppemarkeder NU - 2026
REFRESH-INTERVAL;VALUE=DURATION:PT1H
X-Robots-Tag:noindex
X-PUBLISHED-TTL:PT1H
BEGIN:VTIMEZONE
TZID:Europe/Copenhagen
BEGIN:DAYLIGHT
TZOFFSETFROM:+0100
TZOFFSETTO:+0200
TZNAME:CEST
DTSTART:20250330T010000
END:DAYLIGHT
BEGIN:STANDARD
TZOFFSETFROM:+0200
TZOFFSETTO:+0100
TZNAME:CET
DTSTART:20251026T010000
END:STANDARD
BEGIN:DAYLIGHT
TZOFFSETFROM:+0100
TZOFFSETTO:+0200
TZNAME:CEST
DTSTART:20260329T010000
END:DAYLIGHT
BEGIN:STANDARD
TZOFFSETFROM:+0200
TZOFFSETTO:+0100
TZNAME:CET
DTSTART:20261025T010000
END:STANDARD
BEGIN:DAYLIGHT
TZOFFSETFROM:+0100
TZOFFSETTO:+0200
TZNAME:CEST
DTSTART:20270328T010000
END:DAYLIGHT
BEGIN:STANDARD
TZOFFSETFROM:+0200
TZOFFSETTO:+0100
TZNAME:CET
DTSTART:20271031T010000
END:STANDARD
END:VTIMEZONE
BEGIN:VEVENT
DTSTART;TZID=Europe/Copenhagen:20260525T100000
DTEND;TZID=Europe/Copenhagen:20260525T140000
DTSTAMP:20260424T201428
CREATED:20260423T152517Z
LAST-MODIFIED:20260423T153902Z
UID:100380-1779703200-1779717600@loppemarkeder.nu
SUMMARY:Vær med til loppemarked
DESCRIPTION:Skrivemaskiner\, ure\, glas\, legetøj\, tøj\, stole og grydeskeer. Alt kan sælges – og købes – på loppemarkedet. \nNår Gl. Holte Kirke holder pinsefest mandag 25. maj\nkl. 10-14\, er der også et stort udendørs loppemarked på kirkepladsen\, og her kan du være med. Har du lyst til en stade på markedet\, så kontakt kirketjenerne. \nAlle kan være med. Du skal selv medbringe dit bord\, børn er velkomne til at lægge deres ting på et tæppe. Det er gratis at deltage. OBS: I tilfælde af dårligt vejr\, rykkes loppemarkedet ind i Stjernesalen. \nInfo og tilmelding tlf:23301975 \nPR-foto
URL:https://loppemarkeder.nu/loppemarked/vaer-med-til-loppemarked/
LOCATION:Kohavevej 81\, 2950\, Kohavevej 81\, 2950
CATEGORIES:Loppemarked
ATTACH;FMTTYPE=image/jpeg:https://loppemarkeder.nu/wp-content/uploads/2026/04/677745336_1385114223646206_1106869029791417788_n.jpg
END:VEVENT
END:VCALENDAR