BEGIN:VCALENDAR
VERSION:2.0
PRODID:-//Loppemarkeder NU - 2026 - ECPv6.15.20//NONSGML v1.0//EN
CALSCALE:GREGORIAN
METHOD:PUBLISH
X-WR-CALNAME:Loppemarkeder NU - 2026
X-ORIGINAL-URL:https://loppemarkeder.nu
X-WR-CALDESC:Begivenheder for Loppemarkeder NU - 2026
REFRESH-INTERVAL;VALUE=DURATION:PT1H
X-Robots-Tag:noindex
X-PUBLISHED-TTL:PT1H
BEGIN:VTIMEZONE
TZID:Europe/Copenhagen
BEGIN:DAYLIGHT
TZOFFSETFROM:+0100
TZOFFSETTO:+0200
TZNAME:CEST
DTSTART:20250330T010000
END:DAYLIGHT
BEGIN:STANDARD
TZOFFSETFROM:+0200
TZOFFSETTO:+0100
TZNAME:CET
DTSTART:20251026T010000
END:STANDARD
BEGIN:DAYLIGHT
TZOFFSETFROM:+0100
TZOFFSETTO:+0200
TZNAME:CEST
DTSTART:20260329T010000
END:DAYLIGHT
BEGIN:STANDARD
TZOFFSETFROM:+0200
TZOFFSETTO:+0100
TZNAME:CET
DTSTART:20261025T010000
END:STANDARD
BEGIN:DAYLIGHT
TZOFFSETFROM:+0100
TZOFFSETTO:+0200
TZNAME:CEST
DTSTART:20270328T010000
END:DAYLIGHT
BEGIN:STANDARD
TZOFFSETFROM:+0200
TZOFFSETTO:+0100
TZNAME:CET
DTSTART:20271031T010000
END:STANDARD
END:VTIMEZONE
BEGIN:VEVENT
DTSTART;TZID=Europe/Copenhagen:20260425T090000
DTEND;TZID=Europe/Copenhagen:20260425T150000
DTSTAMP:20260423T211048
CREATED:20260423T152506Z
LAST-MODIFIED:20260423T152627Z
UID:100339-1777107600-1777129200@loppemarkeder.nu
SUMMARY:Loppemarked - "Sammen\, men hvert for sig"
DESCRIPTION:Loppemarked – “Sammen\, men hvert for sig” lørdag den 25. april 2026.\nTilmeldingen er nu slut og næsten 60 husstande har lyst til\, at være med. Del gerne denne information om at vi holder loppemarked på lørdag. Der vil i dag og de kommende dage blev udsendt information til hver enkelt deltager og skulle du ikke have fået denne information senest onsdag\, må du gerne ringe til mig på tlf. 20104520. Tak.\nDe deltagende adresser kommer her under:\nDybedalsvej 9\, Tolsager\nVestervangen 1\nVesterv angslunden 1\nVestervangslunden 3\nVestervangen 32\nVestervangen 50\nNørrevangen 23\nNørrevangen 15\nNørrevangen 3 står ved svømmehallen\nNørrevangen 5\nNørrevangen 12\nSøndervangen 13 Står ved Forsamlingshuset\nBøgevangen 6 Står ved Forsamlingshuset\nEsterhøjvej 32\nEsterhøjvej 34\nEsterhøjvej 35\nPilevangen/Esterhøjvej\nHasselvænget 30\nHasselvænget 38\nAskevænget 2A\nAskevænget 5\nBygvænget 3\nRugvænget 2\nRugvænget 7\nRugvænget 18\nRødhøj 20\nRødhøj 35 Står ved Svømmehallen\nVestervangsparken 14 Står ved Svømmehallen\nNygade 9 Står ved Svømmehallen\nAsnæs Centret 28B 1\,2 Står ved Svømmehallen\nCentervejen 42 Står ved Svømmehallen\nStålhøjvej 16\nBakkekammen 19\nElmebakken 33\nElmebakken 22\nElmebakken 19\nElmebakken 35\nTorvevangen 4\nTorvevangen 14\nTorvevangen 7\nGarboparken 2 Står på hjørnet af Vestervangen/Garboparken\nGarboparken 72 Står på hjørnet af Vestervangen/Garboparken\nGarboparken\n64 Står på hjørnet af Vestervangen/Garboparken\nGarboparken 60 Står på hjørnet af Vestervangen/Garboparken\nGarboparken 60 Står på hjørnet af Vestervangen/Garboparken\nGarboparken 58 Står på hjørnet af Vestervangen/Garboparken\nGarboparken 58 Står på hjørnet af Vestervangen/Garboparken\nGarboparken 58 Står på hjørnet af Vestervangen/Garboparken\nGarboparken 74 Står på hjørnet af Vestervangen/Garboparken\nGarboparken 30\nVestervangsparken 21\nNdr. Kanalvej 39b\nSolvænget 2A\, Høve\nHøve Bygade 2
URL:https://loppemarkeder.nu/loppemarked/loppemarked-sammen-men-hvert-for-sig/
LOCATION:4550 Asnæs\, Denmark\, 4550 Asnæs\, Denmark
CATEGORIES:Loppemarked
ATTACH;FMTTYPE=image/jpeg:https://loppemarkeder.nu/wp-content/uploads/2026/04/673808017_1388091176695190_1427277423063769059_n.jpg
END:VEVENT
END:VCALENDAR