BEGIN:VCALENDAR
VERSION:2.0
PRODID:-//Loppemarkeder NU - 2026 - ECPv6.15.20//NONSGML v1.0//EN
CALSCALE:GREGORIAN
METHOD:PUBLISH
X-WR-CALNAME:Loppemarkeder NU - 2026
X-ORIGINAL-URL:https://loppemarkeder.nu
X-WR-CALDESC:Begivenheder for Loppemarkeder NU - 2026
REFRESH-INTERVAL;VALUE=DURATION:PT1H
X-Robots-Tag:noindex
X-PUBLISHED-TTL:PT1H
BEGIN:VTIMEZONE
TZID:Europe/Copenhagen
BEGIN:DAYLIGHT
TZOFFSETFROM:+0100
TZOFFSETTO:+0200
TZNAME:CEST
DTSTART:20250330T010000
END:DAYLIGHT
BEGIN:STANDARD
TZOFFSETFROM:+0200
TZOFFSETTO:+0100
TZNAME:CET
DTSTART:20251026T010000
END:STANDARD
BEGIN:DAYLIGHT
TZOFFSETFROM:+0100
TZOFFSETTO:+0200
TZNAME:CEST
DTSTART:20260329T010000
END:DAYLIGHT
BEGIN:STANDARD
TZOFFSETFROM:+0200
TZOFFSETTO:+0100
TZNAME:CET
DTSTART:20261025T010000
END:STANDARD
BEGIN:DAYLIGHT
TZOFFSETFROM:+0100
TZOFFSETTO:+0200
TZNAME:CEST
DTSTART:20270328T010000
END:DAYLIGHT
BEGIN:STANDARD
TZOFFSETFROM:+0200
TZOFFSETTO:+0100
TZNAME:CET
DTSTART:20271031T010000
END:STANDARD
END:VTIMEZONE
BEGIN:VEVENT
DTSTART;TZID=Europe/Copenhagen:20260621T090000
DTEND;TZID=Europe/Copenhagen:20260621T140000
DTSTAMP:20260424T094014
CREATED:20260423T152520Z
LAST-MODIFIED:20260423T154119Z
UID:100384-1782032400-1782050400@loppemarkeder.nu
SUMMARY:Loppemarked på Storkebanken\, Herfølge
DESCRIPTION:Sving søndagsturen forbi vores dejlige loppemarked! \n📢 Stort loppemarked med mere end 20 stande\n🗓 Søndag d. 21. Juni 2026\n⏰ Kl. 09-14\n📍 Storkebanken\, 4681 Herfølge \n🅿️ Parkeringspladser ved nr. 15 og 17\n🚌 Tag 102A mod Herfølge og stå af ved Møllebækvej og gå de resterende 500m \nGør et godt kup\, når vi på Storkebanken stiller loppestande op foran vores huse/garager\, og sælger ud af gemmerne. \nHer vil være alt fra møbler\, interiør\, brugskunst\, nips\, tøj/sko/accessories til mænd og kvinder\, legetøj\, børneudstyr og børnetøj – og sikkert meget andet! \nVi glæder os til at se dig/jer🎉
URL:https://loppemarkeder.nu/loppemarked/loppemarked-paa-storkebanken-herfoelge/
LOCATION:Storkebanken\, Herfølge\, Storkebanken\, Herfølge
CATEGORIES:Loppemarked
ATTACH;FMTTYPE=image/jpeg:https://loppemarkeder.nu/wp-content/uploads/2026/04/676644227_10243067074151533_8230090819648110809_n.jpeg
END:VEVENT
END:VCALENDAR