BEGIN:VCALENDAR
VERSION:2.0
PRODID:-//Loppemarkeder NU - 2026 - ECPv6.15.20//NONSGML v1.0//EN
CALSCALE:GREGORIAN
METHOD:PUBLISH
X-WR-CALNAME:Loppemarkeder NU - 2026
X-ORIGINAL-URL:https://loppemarkeder.nu
X-WR-CALDESC:Begivenheder for Loppemarkeder NU - 2026
REFRESH-INTERVAL;VALUE=DURATION:PT1H
X-Robots-Tag:noindex
X-PUBLISHED-TTL:PT1H
BEGIN:VTIMEZONE
TZID:Europe/Copenhagen
BEGIN:DAYLIGHT
TZOFFSETFROM:+0100
TZOFFSETTO:+0200
TZNAME:CEST
DTSTART:20250330T010000
END:DAYLIGHT
BEGIN:STANDARD
TZOFFSETFROM:+0200
TZOFFSETTO:+0100
TZNAME:CET
DTSTART:20251026T010000
END:STANDARD
BEGIN:DAYLIGHT
TZOFFSETFROM:+0100
TZOFFSETTO:+0200
TZNAME:CEST
DTSTART:20260329T010000
END:DAYLIGHT
BEGIN:STANDARD
TZOFFSETFROM:+0200
TZOFFSETTO:+0100
TZNAME:CET
DTSTART:20261025T010000
END:STANDARD
BEGIN:DAYLIGHT
TZOFFSETFROM:+0100
TZOFFSETTO:+0200
TZNAME:CEST
DTSTART:20270328T010000
END:DAYLIGHT
BEGIN:STANDARD
TZOFFSETFROM:+0200
TZOFFSETTO:+0100
TZNAME:CET
DTSTART:20271031T010000
END:STANDARD
END:VTIMEZONE
BEGIN:VEVENT
DTSTART;TZID=Europe/Copenhagen:20260503T100000
DTEND;TZID=Europe/Copenhagen:20260503T150000
DTSTAMP:20260419T143707
CREATED:20260203T133637Z
LAST-MODIFIED:20260203T134007Z
UID:98986-1777802400-1777820400@loppemarkeder.nu
SUMMARY:Loppemarked på Hillerød Torv
DESCRIPTION:Hillerød Loppemarked finder sted på Torvet d. 3. maj 2026. Loppemarkedet åbner for besøgende kl. 10:00-15:00 og har op til 70 stande med gode fund til både store og små. \nDer er gratis adgang til hele loppemarkedet\, men hvis du ønsker at have en stand\, skal du booke den her: www.hilleroedloppemarked.dk \nSes vi? 🙂 \nFIND VEJ OG PARKERING: https://www.hilleroedloppemarked.dk/find-vej/
URL:https://loppemarkeder.nu/loppemarked/loppemarked-paa-hilleroed-torv-2/
LOCATION:Torvet i Hillerød\, Torvet i Hillerød
CATEGORIES:Loppemarked
ATTACH;FMTTYPE=image/jpeg:https://loppemarkeder.nu/wp-content/uploads/2026/02/624484691_1721685042193096_3922403938400952948_n.jpg
ORGANIZER;CN="Hiller%C3%B8d Loppemarked":MAILTO:noreply@facebookmail.com
END:VEVENT
END:VCALENDAR