BEGIN:VCALENDAR
VERSION:2.0
PRODID:-//Loppemarkeder NU - 2026 - ECPv6.15.20//NONSGML v1.0//EN
CALSCALE:GREGORIAN
METHOD:PUBLISH
X-WR-CALNAME:Loppemarkeder NU - 2026
X-ORIGINAL-URL:https://loppemarkeder.nu
X-WR-CALDESC:Begivenheder for Loppemarkeder NU - 2026
REFRESH-INTERVAL;VALUE=DURATION:PT1H
X-Robots-Tag:noindex
X-PUBLISHED-TTL:PT1H
BEGIN:VTIMEZONE
TZID:Europe/Copenhagen
BEGIN:DAYLIGHT
TZOFFSETFROM:+0100
TZOFFSETTO:+0200
TZNAME:CEST
DTSTART:20250330T010000
END:DAYLIGHT
BEGIN:STANDARD
TZOFFSETFROM:+0200
TZOFFSETTO:+0100
TZNAME:CET
DTSTART:20251026T010000
END:STANDARD
BEGIN:DAYLIGHT
TZOFFSETFROM:+0100
TZOFFSETTO:+0200
TZNAME:CEST
DTSTART:20260329T010000
END:DAYLIGHT
BEGIN:STANDARD
TZOFFSETFROM:+0200
TZOFFSETTO:+0100
TZNAME:CET
DTSTART:20261025T010000
END:STANDARD
BEGIN:DAYLIGHT
TZOFFSETFROM:+0100
TZOFFSETTO:+0200
TZNAME:CEST
DTSTART:20270328T010000
END:DAYLIGHT
BEGIN:STANDARD
TZOFFSETFROM:+0200
TZOFFSETTO:+0100
TZNAME:CET
DTSTART:20271031T010000
END:STANDARD
END:VTIMEZONE
BEGIN:VEVENT
DTSTART;TZID=Europe/Copenhagen:20260808T100000
DTEND;TZID=Europe/Copenhagen:20260808T140000
DTSTAMP:20260419T153548
CREATED:20251201T175530Z
LAST-MODIFIED:20251201T180453Z
UID:98268-1786183200-1786197600@loppemarkeder.nu
SUMMARY:Loppemarked i Dyrlev - Præstø
DESCRIPTION:Kig forbi det hyggelige gadekær i Dyrlev. Her kan du finde hyggelige nipsting\, puslespil\, legetøj\, gamle lamper og alle mulige ting fra lofter og pulterrum. Mød også byens borgere til en hyggelig snak.
URL:https://loppemarkeder.nu/loppemarked/loppemarked-i-dyrlev/
LOCATION:Dyrlev vej\, Præstø\, Dyrlev vej\, Præstø
CATEGORIES:Loppemarked
ATTACH;FMTTYPE=image/jpeg:https://loppemarkeder.nu/wp-content/uploads/2025/12/558326026_10163942758016178_3788782842422440296_n.webp
END:VEVENT
END:VCALENDAR