BEGIN:VCALENDAR
VERSION:2.0
PRODID:-//Loppemarkeder NU - 2026 - ECPv6.15.20//NONSGML v1.0//EN
CALSCALE:GREGORIAN
METHOD:PUBLISH
X-WR-CALNAME:Loppemarkeder NU - 2026
X-ORIGINAL-URL:https://loppemarkeder.nu
X-WR-CALDESC:Begivenheder for Loppemarkeder NU - 2026
REFRESH-INTERVAL;VALUE=DURATION:PT1H
X-Robots-Tag:noindex
X-PUBLISHED-TTL:PT1H
BEGIN:VTIMEZONE
TZID:Europe/Copenhagen
BEGIN:DAYLIGHT
TZOFFSETFROM:+0100
TZOFFSETTO:+0200
TZNAME:CEST
DTSTART:20250330T010000
END:DAYLIGHT
BEGIN:STANDARD
TZOFFSETFROM:+0200
TZOFFSETTO:+0100
TZNAME:CET
DTSTART:20251026T010000
END:STANDARD
BEGIN:DAYLIGHT
TZOFFSETFROM:+0100
TZOFFSETTO:+0200
TZNAME:CEST
DTSTART:20260329T010000
END:DAYLIGHT
BEGIN:STANDARD
TZOFFSETFROM:+0200
TZOFFSETTO:+0100
TZNAME:CET
DTSTART:20261025T010000
END:STANDARD
BEGIN:DAYLIGHT
TZOFFSETFROM:+0100
TZOFFSETTO:+0200
TZNAME:CEST
DTSTART:20270328T010000
END:DAYLIGHT
BEGIN:STANDARD
TZOFFSETFROM:+0200
TZOFFSETTO:+0100
TZNAME:CET
DTSTART:20271031T010000
END:STANDARD
END:VTIMEZONE
BEGIN:VEVENT
DTSTART;TZID=Europe/Copenhagen:20260419T110000
DTEND;TZID=Europe/Copenhagen:20260419T160000
DTSTAMP:20260420T025223
CREATED:20260130T165303Z
LAST-MODIFIED:20260130T170212Z
UID:98913-1776596400-1776614400@loppemarkeder.nu
SUMMARY:LINK Loppemarked (Ladies International Network KBH)
DESCRIPTION:Best place to find unique clothing\, treasures\, arts & crafts from all over the world! Ladies International Network brings it all to ByensHus for this Annual flea market.
URL:https://loppemarkeder.nu/loppemarked/link-loppemarked-ladies-international-network-kbh/
LOCATION:BYENS HUS\, BYENS HUS
CATEGORIES:Loppemarked
ATTACH;FMTTYPE=image/jpeg:https://loppemarkeder.nu/wp-content/uploads/2026/01/622884031_1349739263866478_5244313961464874792_n.jpg
END:VEVENT
END:VCALENDAR