BEGIN:VCALENDAR
VERSION:2.0
PRODID:-//Loppemarkeder NU - 2026 - ECPv6.15.20//NONSGML v1.0//EN
CALSCALE:GREGORIAN
METHOD:PUBLISH
X-WR-CALNAME:Loppemarkeder NU - 2026
X-ORIGINAL-URL:https://loppemarkeder.nu
X-WR-CALDESC:Begivenheder for Loppemarkeder NU - 2026
REFRESH-INTERVAL;VALUE=DURATION:PT1H
X-Robots-Tag:noindex
X-PUBLISHED-TTL:PT1H
BEGIN:VTIMEZONE
TZID:Europe/Copenhagen
BEGIN:DAYLIGHT
TZOFFSETFROM:+0100
TZOFFSETTO:+0200
TZNAME:CEST
DTSTART:20250330T010000
END:DAYLIGHT
BEGIN:STANDARD
TZOFFSETFROM:+0200
TZOFFSETTO:+0100
TZNAME:CET
DTSTART:20251026T010000
END:STANDARD
BEGIN:DAYLIGHT
TZOFFSETFROM:+0100
TZOFFSETTO:+0200
TZNAME:CEST
DTSTART:20260329T010000
END:DAYLIGHT
BEGIN:STANDARD
TZOFFSETFROM:+0200
TZOFFSETTO:+0100
TZNAME:CET
DTSTART:20261025T010000
END:STANDARD
BEGIN:DAYLIGHT
TZOFFSETFROM:+0100
TZOFFSETTO:+0200
TZNAME:CEST
DTSTART:20270328T010000
END:DAYLIGHT
BEGIN:STANDARD
TZOFFSETFROM:+0200
TZOFFSETTO:+0100
TZNAME:CET
DTSTART:20271031T010000
END:STANDARD
END:VTIMEZONE
BEGIN:VEVENT
DTSTART;TZID=Europe/Copenhagen:20260426T110000
DTEND;TZID=Europe/Copenhagen:20260426T160000
DTSTAMP:20260424T034417
CREATED:20260423T152508Z
LAST-MODIFIED:20260423T152815Z
UID:100345-1777201200-1777219200@loppemarkeder.nu
SUMMARY:Lilli's Lopper - loppemarked på Kedelpladsen
DESCRIPTION:Vil du være med\, når Kedelpladsen forvandles til et levende loppemarked fyldt med fund\, historier og god stemning?\nVi har åbent for tilmelding af stande til Lilli’ Lopper og du kan sikre dig en gratis plads allerede nu. \nRyd ud\, tjen lidt ekstra\, og giv dine ting nyt liv hos en ny ejer.\nPerfekt til tøj\, interiør\, børnesager\, vintage\, keramik og alt det\, der fortjener en ny runde i verden. \nBook din gratis stand på hello@lilli.bar. Bemærk at vi har begrænsede pladser. \nVi glæder os til en dag med lokal hygge og loppe-aktivitet på Kedelpladsen 🌞
URL:https://loppemarkeder.nu/loppemarked/lillis-lopper-loppemarked-paa-kedelpladsen/
LOCATION:Kedelpladsen 1\, 1799 Copenhagen\, Denmark\, Kedelpladsen 1\, 1799 Copenhagen\, Denmark
CATEGORIES:Loppemarked
ATTACH;FMTTYPE=image/jpeg:https://loppemarkeder.nu/wp-content/uploads/2026/04/676902331_122177201990854015_7137728502517979024_n.jpg
END:VEVENT
END:VCALENDAR