BEGIN:VCALENDAR
VERSION:2.0
PRODID:-//Loppemarkeder NU - 2026 - ECPv6.15.20//NONSGML v1.0//EN
CALSCALE:GREGORIAN
METHOD:PUBLISH
X-WR-CALNAME:Loppemarkeder NU - 2026
X-ORIGINAL-URL:https://loppemarkeder.nu
X-WR-CALDESC:Begivenheder for Loppemarkeder NU - 2026
REFRESH-INTERVAL;VALUE=DURATION:PT1H
X-Robots-Tag:noindex
X-PUBLISHED-TTL:PT1H
BEGIN:VTIMEZONE
TZID:Europe/Copenhagen
BEGIN:DAYLIGHT
TZOFFSETFROM:+0100
TZOFFSETTO:+0200
TZNAME:CEST
DTSTART:20250330T010000
END:DAYLIGHT
BEGIN:STANDARD
TZOFFSETFROM:+0200
TZOFFSETTO:+0100
TZNAME:CET
DTSTART:20251026T010000
END:STANDARD
BEGIN:DAYLIGHT
TZOFFSETFROM:+0100
TZOFFSETTO:+0200
TZNAME:CEST
DTSTART:20260329T010000
END:DAYLIGHT
BEGIN:STANDARD
TZOFFSETFROM:+0200
TZOFFSETTO:+0100
TZNAME:CET
DTSTART:20261025T010000
END:STANDARD
BEGIN:DAYLIGHT
TZOFFSETFROM:+0100
TZOFFSETTO:+0200
TZNAME:CEST
DTSTART:20270328T010000
END:DAYLIGHT
BEGIN:STANDARD
TZOFFSETFROM:+0200
TZOFFSETTO:+0100
TZNAME:CET
DTSTART:20271031T010000
END:STANDARD
END:VTIMEZONE
BEGIN:VEVENT
DTSTART;TZID=Europe/Copenhagen:20260613T100000
DTEND;TZID=Europe/Copenhagen:20260613T150000
DTSTAMP:20260424T034407
CREATED:20260423T152519Z
LAST-MODIFIED:20260423T154028Z
UID:100383-1781344800-1781362800@loppemarkeder.nu
SUMMARY:Børne Loppemarked i Gubben
DESCRIPTION:Hundested Støtteforening inviterer til Børne Loppemarked i Gubben Lørdag d. 13.6 fra kl. 10.00-15.00\nHar du lyst til at få en stand så er chancen der nu.\nDu får 1 bord gratis ved tilmelding.\nBemærk der må kun sælges ting med relevans for børn denne dag.\nI cafe’en sælger vi bl.a. frisklavede pandekager (også med hjemmelavet is)\, toast\, pølser\, franskbrød m/pålæg og drikkevarer. Alt sammen til de sædvanlig fine priser hvor alle kan være med.\nØnsker du et bord\, så kontakt enten:\nMorten Olsen 60 74 52 05 eller Githa Petersen 21 63 12 67
URL:https://loppemarkeder.nu/loppemarked/boerne-loppemarked-i-gubben/
LOCATION:Gubben\, Gubben
CATEGORIES:Børneloppemarked,Loppemarked
ATTACH;FMTTYPE=image/jpeg:https://loppemarkeder.nu/wp-content/uploads/2026/04/670860079_10164039499582902_1151313114881599275_n.jpg
END:VEVENT
END:VCALENDAR